Felt | Verdi |
-1
0
0,5
2
2014-09-27T01:22:39+02:00 File C:\Users\Stasjonær\Pictures\Midl\JPEG\DSC_0930.jpg saved
5
Adjust: 0%, 0%
Alignment: left
AlreadyApplied | True |
Angle: -13,5°
Anti-alias: sharp
Aperture | 5.6 |
ApertureValue | 5.6 |
ApproximateFocusDistance | 3.98 |
Artist | Tormod Humstad |
Auto Justify
Auto Kern: manual
Auto Kern: metrics
Auto Leading Percentage: 1,2
AutoLateralCA | 0 |
AutoTCY: 1
Axis: horizontal
Base: 0, 0
Baseline Direction: rotated
Baseline Direction: with stream
Baseline Position: normal
Baseline Shift: 0 points
Bend: 0
BitsPerSample (1) | 8 8 8 |
BitsPerSample | 8 |
Blacks2012 | +10 |
Blue: 0
Blue: 250,016
Blue: 252
Blue: 255
BlueHue | 0 |
BlueSaturation | 0 |
Brightness | +50 |
Burasagari: None
By-line | Tormod Humstad |
CameraProfile | Adobe Standard |
Center: center
CFAPattern | [Red,Green][Green,Blue] |
CircleOfConfusion | 0.020 mm |
Clarity | +10 |
Clarity2012 | +5 |
Color: RGB color
ColorComponents | 3 |
ColorMode | RGB |
ColorNoiseReduction | 25 |
ColorNoiseReductionDetail | 50 |
ColorSpace | sRGB |
ColorTemperature | 5000 |
ColorTransform | YCbCr |
Column Count: 1
Column Gutter: 0 points
Column Spacing: 0 points
Contrast (1) | +45 |
Contrast | Normal |
Contrast2012 | +27 |
ConvertToGrayscale | False |
Copyright | Tormod Humstad |
CopyrightFlag | True |
CopyrightNotice | Tormod Humstad |
CreateDate (1) | 2014:07:26 19:02:58.08 |
CreateDate | 2014:07:26 19:02:58 |
Creator | Tormod Humstad |
CreatorTool | Adobe Photoshop CS5 Windows |
CropAngle | 0 |
CropBottom | 0.963909 |
CropConstrainToWarp | 0 |
CropHeight | 3 |
CropLeft | 0.084337 |
CropRight | 1 |
CropTop | 0.044816 |
CropUnit | Unknown (3) |
CropWidth | 2 |
CustomRendered | Normal |
DateCreated (1) | 2014:07:26 |
DateCreated | 2014:07:26 19:02:58.008 |
DateTimeOriginal | 2014:07:26 19:02:58 |
Default Character Style: text style
Default Tab Width: 36
Defringe | 0 |
Delete current layer
Delete Layer
Delete layer “Layer 1”
Delete layer “Signatur 2_stor”
Desired Glyph Scaling Percent: 1
Desired Letter Spacing Percent: 0
Desired Word Spacing Percent: 1
DigitalZoomRatio | 1 |
DOF | 3.57 m (2.88 - 6.45 m) |
Drag Layer
Drop Cap Multiplier: 1
Edit Contents
End Indent: 0 points
ExifImageHeight | 2889 |
ExifImageWidth | 4197 |
Exposure | 0.00 |
Exposure2012 | +0.10 |
ExposureCompensation | 0 |
ExposureMode | Manual |
ExposureProgram | Manual |
ExposureTime | 1/10 |
false
Figure Style: normal
FillLight | 5 |
First Line Alignment: Ascent
First Line Indent: 0 points
First Line Minimum Height: 0 points
Flash | No Flash |
Flatten Image
FNumber | 5.6 |
FocalLength | 34.0 mm |
FocalLength35efl | 34.0 mm (35 mm equivalent: 51.0 mm) |
FocalLengthIn35mmFormat | 51 mm |
Font Caps Option: normal
Font Name: “Book Antiqua”
Font Name: “Myriad Pro”
Font Style: “Regular”
Font Technology: 0
Font Technology: 1
Format | image/jpeg |
FOV | 38.9 deg |
Free Transform
From: 0
GainControl | None |
GrainAmount | 0 |
Green: 0
Green: 250,016
Green: 252
Green: 255
GreenHue | 0 |
GreenSaturation | 0 |
Grid Alignment: Roman Baseline
HasCrop | True |
HasSettings | True |
Height: 16,6%
Height: 17,9%
Height: 33,9%
Height: 41,4%
Height: 54,7%
Height: 66,6%
Hide current layer
HighlightRecovery | 0 |
Highlights2012 | -2 |
Horizontal Distortion: 0
Horizontal Scale: 100
HueAdjustmentAqua | 0 |
HueAdjustmentBlue | 0 |
HueAdjustmentGreen | 0 |
HueAdjustmentMagenta | 0 |
HueAdjustmentOrange | 0 |
HueAdjustmentPurple | 0 |
HueAdjustmentRed | 0 |
HueAdjustmentYellow | 0 |
HyperfocalDistance | 10.31 m |
Hyphenate After Length: 2
Hyphenate Before Length: 2
Hyphenation Minimum Word Length: 6
Hyphenation Preference: 0,5
Hyphenation Zone: 36
ICCProfileName | sRGB IEC61966-2.1 |
ImageHeight | 2889 |
ImageNumber | 21105 |
ImageSize | 4197x2889 |
ImageWidth | 4197 |
ISO | 200 |
Japanese Alternate: Default Form
Kerning Style Range: none
Kinsoku Order: Push In First
Layer Order
Leading Type: bottom-to-bottom leading
Lens | 18.0-70.0 mm f/3.5-4.5 |
LensID (1) | 127 |
LensID | AF-S DX Zoom-Nikkor 18-70mm f/3.5-4.5G IF-ED |
LensInfo | 18-70mm f/3.5-4.5 |
LensManualDistortionAmount | 0 |
LensModel | 18.0-70.0 mm f/3.5-4.5 |
LensProfileEnable | 0 |
LensProfileSetup | LensDefaults |
LightSource | Fine Weather |
LightValue | 7.3 |
Line Cap: Butt
Line Join: Miter
Line Width: 0 points
Line Width: 0,2 points
LuminanceAdjustmentAqua | 0 |
LuminanceAdjustmentBlue | 0 |
LuminanceAdjustmentGreen | 0 |
LuminanceAdjustmentMagenta | 0 |
LuminanceAdjustmentOrange | 0 |
LuminanceAdjustmentPurple | 0 |
LuminanceAdjustmentRed | 0 |
LuminanceAdjustmentYellow | 0 |
LuminanceSmoothing | 0 |
Make Group
Make New: guide
Make text layer Using: text layer
Make | NIKON CORPORATION |
Marked | True |
MaxApertureValue | 4.0 |
Maximum Consecutive Hyphens: 0
Maximum Glyph Scaling Percent: 1
Maximum Letter Spacing Percent: 0
Maximum Word Spacing Percent: 1,33
Megapixels | 12.1 |
MeteringMode | Multi-segment |
Minimum Glyph Scaling Percent: 1
Minimum Letter Spacing Percent: 0
Minimum Word Spacing Percent: 0,8
Miter Limit: 0 points
Miter Limit: 1 points
Model | NIKON D300S |
ModifyDate (1) | 2014:09:27 01:22:39+02:00 |
ModifyDate | 2014:09:27 01:22:39 |
Move
Move current layer To: 1,02 cm, -0,07 cm
Move current layer To: 1,93 cm, 0 cm
Move current layer To: 2,67 cm, -5,07 cm
Move current layer To: 2,94 cm, 0,3 cm
Move current layer To: 21,79 cm, -6,29 cm
Move current layer To: 23,18 cm, 6,02 cm
Move current layer To: 3,41 cm, 0,03 cm
Move layer “Foto” To: layer 4
Move layer “Tormod Humstad” To: layer 4
New Group
New Guide
Open C:\Users\Stasjonær\Pictures\Midl\JPEG\DSC_0930.jpg
Open Type Baseline Position: normal
Orientation | Horizontal (normal) |
Orientation: horizontal
Orientation: vertical
paragraph style range
Paragraph Style Range: paragraph style range list
paragraph style: paragraph style
ParametricDarks | 0 |
ParametricHighlights | 0 |
ParametricHighlightSplit | 75 |
ParametricLights | 0 |
ParametricMidtoneSplit | 50 |
ParametricShadows | 0 |
ParametricShadowSplit | 25 |
PerspectiveHorizontal | 0 |
PerspectiveRotate | 0.0 |
PerspectiveScale | 100 |
PerspectiveVertical | 0 |
PhotometricInterpretation | RGB |
Place
Place C:\Users\Stasjonær\Pictures\Vannmerke\Signatur 2.psd
Place C:\Users\Stasjonær\Pictures\Vannmerke\Signatur 2_stor.psd
Position: 17,63 cm
Position: 35,57 cm
PostCropVignetteAmount | -22 |
PostCropVignetteFeather | 50 |
PostCropVignetteHighlightContrast | 0 |
PostCropVignetteMidpoint | 50 |
PostCropVignetteRoundness | 0 |
PostCropVignetteStyle | 1 |
PostScript Name: “BookAntiqua”
PostScript Name: “MyriadPro-Regular”
ProcessVersion | 5.7 |
ProfileDescription | sRGB IEC61966-2.1 |
Rating | 0 |
RawFileName | DSC_0930.NEF |
Red: 0
Red: 251
Red: 252
Red: 255
RedHue | 0 |
RedSaturation | 0 |
Rights | Tormod Humstad |
Row Count: 1
Row Gutter: 0 points
SamplesPerPixel | 3 |
Saturation (1) | +38 |
Saturation | Normal |
SaturationAdjustmentAqua | 0 |
SaturationAdjustmentBlue | -8 |
SaturationAdjustmentGreen | -15 |
SaturationAdjustmentMagenta | -22 |
SaturationAdjustmentOrange | +33 |
SaturationAdjustmentPurple | +17 |
SaturationAdjustmentRed | 0 |
SaturationAdjustmentYellow | -33 |
ScaleFactor35efl | 1.5 |
SceneCaptureType | Standard |
SceneType | Directly photographed |
Script: 0
Select document +2
Select layer “Foto” Without Make Visible
Select layer “Group 1” Without Make Visible
Select layer “Signatur 2_stor” Without Make Visible
Select layer “Tormod Humstad” Without Make Visible
Select next document
SensingMethod | One-chip color area |
SerialNumber | 6035408 |
Set Character Style
Set Foreground Color To: RGB color
Set text style of current text layer To: text style
Shadows | 3 |
Shadows2012 | +2 |
ShadowTint | 0 |
SharpenDetail | 25 |
SharpenEdgeMasking | 0 |
SharpenRadius | +1.0 |
Sharpness (1) | 75 |
Sharpness | Normal |
Show current layer
ShutterSpeed | 1/10 |
ShutterSpeedValue | 1/10 |
Single Word Justification: justify all
Size: 2,9 points
Size: 93,5 points
Skew: -0,1°, 0°
Software | Adobe Photoshop CS5 Windows |
Space After: 0 points
Space Before: 0 points
SplitToningBalance | 0 |
SplitToningHighlightHue | 0 |
SplitToningHighlightSaturation | 0 |
SplitToningShadowHue | 0 |
SplitToningShadowSaturation | 0 |
Start Indent: 0 points
Strikethrough: Strikethrough Off
Stroke Color: RGB color
style range
Style Range: none
Style Range: style range list
Style: None
style: text style
SubjectDistance | 3.98 m |
SubjectDistanceRange | Unknown |
Text Click Point: 31%, 97,8%
Text Click Point: 75,9%, 93,1%
Text Gridding: none
Text Language: English: USA
Text Orientation: horizontal
Text Shape
Text Shape Type: point
Text Shape: Text Shape list
Text: “Bjørkeskogen i fri flyt”
Text: “”
Tint | +1 |
To: 24
ToneCurve | 0, 0, 32, 22, 64, 56, 128, 128, 192, 196, 255, 255 |
ToneCurveBlue | 0, 0, 255, 255 |
ToneCurveGreen | 0, 0, 255, 255 |
ToneCurveName | Medium Contrast |
ToneCurveName2012 | Linear |
ToneCurvePV2012 | 0, 0, 255, 255 |
ToneCurvePV2012Blue | 0, 0, 255, 255 |
ToneCurvePV2012Green | 0, 0, 255, 255 |
ToneCurvePV2012Red | 0, 0, 255, 255 |
ToneCurveRed | 0, 0, 255, 255 |
Tracking: 0
Transform current layer Center: center
Transform: transform
Translate: -0,22 cm, -0,16 cm
Translate: -0,99 cm, 0,24 cm
Translate: -10,44 cm, 3,2 cm
Translate: -7,82 cm, 11,57 cm
Translate: -9,22 cm, 1,12 cm
Translate: 0 cm, 0 cm
Translate: 15,73 cm, 3,46 cm
true
Tsume: 0
tx: 0
ty: 0
Type Tool
Underline Offset: 0 points
Underline: Underline Off
URL_List | |
UsageTerms | |
Version | 6.7 |
Vertical Distortion: 0
Vertical Scale: 100
Vibrance | 0 |
VignetteAmount | 0 |
Warp: Warp
WhiteBalance (1) | As Shot |
WhiteBalance | Manual |
Whites2012 | 0 |
Width: 16,6%
Width: 41,2%
Width: 41,4%
Width: 54,7%
Width: 59,2%
Width: 66,6%
With Auto Hyphenate
With Auto-Leading
With Fill
With Fill First
With Hyphenate Capitalized Words
With Use Contextual Alternates
With Use Keep Together
With Use Ligatures
With Use Row Major Order
Without Adjust Selection
Without Every Line Composer
Without Faux Bold
Without Faux Italic
Without Fill First
Without No Break
Without Roman Hanging Punctuation
Without Stroke
Without Use Alternate Ligatures
Without Use Contextual Alternates
Without Use Fill OverPrint
Without Use Fractions
Without Use Italics
Without Use Kana
Without Use Moji Shori
Without Use Oldstyle
Without Use Ordinals
Without Use Ornaments
Without Use Proportional Metrics
Without Use Stroke OverPrint
Without Use Stylistic Alternates
Without Use Swash Characters
Without Use Titling Characters
xx: 1
xy: 0
yx: 0
yy: 1