Felt | Verdi |
AlreadyApplied | True |
Aperture | 10.0 |
ApertureValue | 10.0 |
AutoLateralCA | 1 |
AutoWhiteVersion | 134348800 |
BitsPerSample (1) | 8, 8, 8 |
BitsPerSample (2) | 8 8 8 |
BitsPerSample | 8 |
Blacks2012 | +83 |
BlueHue | 0 |
BlueSaturation | 0 |
BrightnessValue | 9.9625 |
CameraProfile | Embedded |
CircleOfConfusion | 0.020 mm |
Clarity2012 | +31 |
ColorComponents | 3 |
ColorMode | RGB |
ColorNoiseReduction | 56 |
ColorNoiseReductionDetail | 57 |
ColorNoiseReductionSmoothness | 50 |
ColorSpace | sRGB |
ColorTransform | YCbCr |
Contrast | Normal |
Contrast2012 | +31 |
ConvertToGrayscale | False |
CreateDate (1) | 2015:09:18 14:13:26+02:00 |
CreateDate | 2015:09:18 14:13:26 |
CreatorTool | Adobe Photoshop Elements 12.0 Windows |
CropAngle | 0 |
CropBottom | 0.953431 |
CropConstrainToWarp | 0 |
CropLeft | 0.024828 |
CropRight | 0.950345 |
CropTop | 0.051471 |
CustomRendered | Normal |
DateCreated | 2015:09:18 |
DateTimeOriginal (1) | 2015:09:18 14:13:26+02:00 |
DateTimeOriginal | 2015:09:18 14:13:26 |
DefringeGreenAmount | 0 |
DefringeGreenHueHi | 60 |
DefringeGreenHueLo | 40 |
DefringePurpleAmount | 0 |
DefringePurpleHueHi | 70 |
DefringePurpleHueLo | 30 |
ExifImageHeight | 700 |
ExifImageWidth | 1277 |
Exposure2012 | 0.00 |
ExposureCompensation | 0 |
ExposureMode | Auto |
ExposureProgram | Aperture-priority AE |
ExposureTime | 1/250 |
Flash | Off, Did not fire |
FlashFired | False |
FlashFunction | False |
FlashMode | Off |
FlashRedEyeMode | False |
FlashReturn | No return detection |
FNumber | 10.0 |
FocalLength | 18.0 mm |
FocalLength35efl | 18.0 mm (35 mm equivalent: 27.0 mm) |
FocalLengthIn35mmFormat | 27 mm |
Format | image/jpeg |
FOV | 67.4 deg |
GPSAltitude (1) | 8.475 m |
GPSAltitude | 8.4 m Below Sea Level |
GPSAltitudeRef | Below Sea Level |
GPSDateStamp | 2015:09:18 |
GPSDateTime (1) | 2015:09:18 12:13:28+02:00 |
GPSDateTime | 2015:09:18 12:13:28Z |
GPSDifferential | No Correction |
GPSDOP | 2.1983 |
GPSLatitude (2) | 56 deg 48' 34.70" |
GPSLatitude | 56 deg 48' 34.70" N |
GPSLatitudeRef | North |
GPSLongitude (2) | 8 deg 52' 4.57" |
GPSLongitude | 8 deg 52' 4.57" E |
GPSLongitudeRef | East |
GPSMapDatum | WGS-84 |
GPSMeasureMode (1) | 3-Dimensional |
GPSMeasureMode | 3-Dimensional Measurement |
GPSPosition | 56 deg 48' 34.70" N, 8 deg 52' 4.57" E |
GPSSpeed | 0.423 |
GPSSpeedRef | km/h |
GPSStatus | Measurement Active |
GPSTimeStamp | 12:13:28 |
GPSTrack | 250.45 |
GPSTrackRef | True North |
GPSVersionID | 2.3.0.0 |
GradientBasedCorrActive | true |
GradientBasedCorrAmount | 1.000000 |
GradientBasedCorrBrightness | 0.000000 |
GradientBasedCorrClarity2012 | 0.238100 |
GradientBasedCorrContrast2012 | 0.000000 |
GradientBasedCorrDefringe | 0.000000 |
GradientBasedCorrExposure2012 | -0.166750 |
GradientBasedCorrHighlights2012 | 0.000000 |
GradientBasedCorrHue | 0.000000 |
GradientBasedCorrLuminanceNoise | 0.595240 |
GradientBasedCorrMaskFullX | 0.350355 |
GradientBasedCorrMaskFullY | 0.049201 |
GradientBasedCorrMaskValue | 1.000000 |
GradientBasedCorrMaskWhat | Mask/Gradient |
GradientBasedCorrMaskZeroX | 0.350355 |
GradientBasedCorrMaskZeroY | 0.472532 |
GradientBasedCorrMoire | 0.166670 |
GradientBasedCorrSaturation | 0.000000 |
GradientBasedCorrShadows2012 | 0.000000 |
GradientBasedCorrSharpness | 0.357140 |
GradientBasedCorrTemperature | 0.000000 |
GradientBasedCorrTint | 0.000000 |
GradientBasedCorrWhat | Correction |
GrainAmount | 0 |
GreenHue | 0 |
GreenSaturation | 0 |
HasCrop | True |
HasSettings | True |
Highlights2012 | 0 |
HueAdjustmentAqua | 0 |
HueAdjustmentBlue | 0 |
HueAdjustmentGreen | 0 |
HueAdjustmentMagenta | 0 |
HueAdjustmentOrange | 0 |
HueAdjustmentPurple | 0 |
HueAdjustmentRed | 0 |
HueAdjustmentYellow | 0 |
HyperfocalDistance | 1.62 m |
ICCProfileName | sRGB IEC61966-2.1 |
ImageHeight (1) | 3045 |
ImageHeight | 700 |
ImageSize | 1277x700 |
ImageWidth (2) | 5553 |
ImageWidth | 1277 |
IncrementalTemperature | 0 |
IncrementalTint | 0 |
ISO | 100 |
Label | Red |
Lens | DT 16-80mm F3.5-4.5 ZA |
LensInfo | 16-80mm f/3.5-4.5 |
LensManualDistortionAmount | 0 |
LensModel | DT 16-80mm F3.5-4.5 ZA |
LensProfileEnable | 1 |
LensProfileSetup | LensDefaults |
LightSource | Unknown |
LightValue | 14.6 |
LuminanceAdjustmentAqua | 0 |
LuminanceAdjustmentBlue | 0 |
LuminanceAdjustmentGreen | 0 |
LuminanceAdjustmentMagenta | 0 |
LuminanceAdjustmentOrange | 0 |
LuminanceAdjustmentPurple | 0 |
LuminanceAdjustmentRed | 0 |
LuminanceAdjustmentYellow | 0 |
LuminanceNoiseReductionContrast | 0 |
LuminanceNoiseReductionDetail | 56 |
LuminanceSmoothing | 45 |
Make | SONY |
MaxApertureValue | 3.5 |
Megapixels | 0.894 |
MeteringMode | Multi-segment |
Model | SLT-A77V |
ModifyDate (1) | 2015:09:26 15:43:18+02:00 |
ModifyDate | 2015:09:26 15:43:18 |
Orientation | Horizontal (normal) |
ParametricDarks | 0 |
ParametricHighlights | 0 |
ParametricHighlightSplit | 75 |
ParametricLights | 0 |
ParametricMidtoneSplit | 50 |
ParametricShadows | 0 |
ParametricShadowSplit | 25 |
PerspectiveAspect | 0 |
PerspectiveHorizontal | 0 |
PerspectiveRotate | 0.0 |
PerspectiveScale | 100 |
PerspectiveUpright | 1 |
PerspectiveVertical | 0 |
PhotometricInterpretation | RGB |
PostCropVignetteAmount | 0 |
ProcessVersion | 6.7 |
ProfileDescription | sRGB IEC61966-2.1 |
RecommendedExposureIndex | 100 |
RedHue | 0 |
RedSaturation | 0 |
SamplesPerPixel | 3 |
Saturation (1) | 0 |
Saturation | Normal |
SaturationAdjustmentAqua | 0 |
SaturationAdjustmentBlue | 0 |
SaturationAdjustmentGreen | 0 |
SaturationAdjustmentMagenta | 0 |
SaturationAdjustmentOrange | 0 |
SaturationAdjustmentPurple | 0 |
SaturationAdjustmentRed | +18 |
SaturationAdjustmentYellow | 0 |
ScaleFactor35efl | 1.5 |
SceneCaptureType | Standard |
SceneType | Directly photographed |
SensitivityType | Recommended Exposure Index |
Shadows2012 | 0 |
ShadowTint | 0 |
SharpenDetail | 25 |
SharpenEdgeMasking | 51 |
SharpenRadius | +1.3 |
Sharpness (1) | 62 |
Sharpness | Normal |
ShutterSpeed | 1/250 |
ShutterSpeedValue | 1/250 |
Software | Adobe Photoshop Elements 10.0 Windows |
SplitToningBalance | 0 |
SplitToningHighlightHue | 0 |
SplitToningHighlightSaturation | 0 |
SplitToningShadowHue | 0 |
SplitToningShadowSaturation | 0 |
ToneCurve | 0, 0, 255, 255 |
ToneCurveBlue | 0, 0, 255, 255 |
ToneCurveGreen | 0, 0, 255, 255 |
ToneCurveName | Linear |
ToneCurveName2012 | Linear |
ToneCurvePV2012 | 0, 0, 255, 255 |
ToneCurvePV2012Blue | 0, 0, 255, 255 |
ToneCurvePV2012Green | 0, 0, 255, 255 |
ToneCurvePV2012Red | 0, 0, 255, 255 |
ToneCurveRed | 0, 0, 255, 255 |
URL_List | |
Version | 8.7 |
Vibrance | +14 |
VignetteAmount | 0 |
WhiteBalance (1) | As Shot |
WhiteBalance | Auto |
Whites2012 | -10 |