Felt | Verdi |
AlreadyApplied | True |
Aperture | 20.0 |
ApertureValue | 20.0 |
Artist | 373051003880 |
AutoLateralCA | 0 |
AutoWhiteVersion | 134348800 |
BitsPerSample | 8 |
Blacks2012 | -23 |
BlueHue | 0 |
BlueSaturation | 0 |
By-line | 373051003880 |
CameraProfile | Embedded |
CircleOfConfusion | 0.030 mm |
Clarity2012 | -12 |
ColorComponents | 3 |
ColorNoiseReduction | 14 |
ColorNoiseReductionDetail | 50 |
ColorNoiseReductionSmoothness | 50 |
ColorSpace | sRGB |
ColorTransform | YCbCr |
Contrast2012 | -29 |
ConvertToGrayscale | False |
CreateDate | 2016:12:12 10:29:08 |
Creator | 373051003880 |
CreatorTool | Adobe Photoshop Lightroom 5.7.1 (Macintosh) |
CropAngle | 0 |
CropBottom | 0.946644 |
CropConstrainToWarp | 0 |
CropLeft | 0 |
CropRight | 1 |
CropTop | 0 |
CustomRendered | Normal |
DateCreated (1) | 2016:12:12 |
DateCreated | 2016:12:12 10:29:08 |
DateTimeOriginal | 2016:12:12 10:29:08 |
DefringeGreenAmount | 0 |
DefringeGreenHueHi | 60 |
DefringeGreenHueLo | 40 |
DefringePurpleAmount | 0 |
DefringePurpleHueHi | 70 |
DefringePurpleHueLo | 30 |
Exposure2012 | -0.15 |
ExposureCompensation | 0 |
ExposureMode | Manual |
ExposureProgram | Manual |
ExposureTime | 0.5 |
Firmware | Firmware Version 1.1.6 |
Flash | Off, Did not fire |
FlashCompensation | 0 |
FNumber | 20.0 |
FocalLength | 24.0 mm |
FocalLength35efl | 24.0 mm (35 mm equivalent: 24.1 mm) |
Format | image/jpeg |
FOV | 73.5 deg |
GrainAmount | 0 |
GreenHue | 0 |
GreenSaturation | 0 |
HasCrop | True |
HasSettings | True |
Highlights2012 | -43 |
HueAdjustmentAqua | 0 |
HueAdjustmentBlue | +1 |
HueAdjustmentGreen | 0 |
HueAdjustmentMagenta | +8 |
HueAdjustmentOrange | 0 |
HueAdjustmentPurple | +21 |
HueAdjustmentRed | 0 |
HueAdjustmentYellow | 0 |
HyperfocalDistance | 0.96 m |
ImageHeight | 3453 |
ImageSize | 5471x3453 |
ImageWidth | 5471 |
IncrementalTemperature | 0 |
IncrementalTint | 0 |
ISO | 100 |
Lens | Canon EF 24-70mm f/2.8L II USM |
LensID (1) | 495 |
LensID | Canon EF 24-70mm f/2.8L II USM |
LensInfo | 24-70mm f/? |
LensManualDistortionAmount | 0 |
LensModel | Canon EF 24-70mm f/2.8L II USM |
LensProfileEnable | 0 |
LensProfileSetup | LensDefaults |
LensSerialNumber | 3630000901 |
LightValue | 9.6 |
LuminanceAdjustmentAqua | +12 |
LuminanceAdjustmentBlue | +27 |
LuminanceAdjustmentGreen | 0 |
LuminanceAdjustmentMagenta | 0 |
LuminanceAdjustmentOrange | 0 |
LuminanceAdjustmentPurple | +50 |
LuminanceAdjustmentRed | 0 |
LuminanceAdjustmentYellow | -12 |
LuminanceNoiseReductionContrast | 15 |
LuminanceNoiseReductionDetail | 50 |
LuminanceSmoothing | 15 |
Make | Canon |
MaxApertureValue | 2.7 |
Megapixels | 18.9 |
MeteringMode | Partial |
Model | Canon EOS 6D |
ModifyDate (1) | 2016:12:13 15:33:43+01:00 |
ModifyDate | 2016:12:13 15:33:43 |
OwnerName | 373051003880 |
ParametricDarks | -2 |
ParametricHighlights | +43 |
ParametricHighlightSplit | 75 |
ParametricLights | +29 |
ParametricMidtoneSplit | 50 |
ParametricShadows | +19 |
ParametricShadowSplit | 25 |
PerspectiveAspect | 0 |
PerspectiveHorizontal | 0 |
PerspectiveRotate | 0.0 |
PerspectiveScale | 100 |
PerspectiveUpright | 0 |
PerspectiveVertical | 0 |
PostCropVignetteAmount | 0 |
ProcessVersion | 6.7 |
ProfileDescription | sRGB IEC61966-2.1 |
RedHue | 0 |
RedSaturation | 0 |
Saturation | +6 |
SaturationAdjustmentAqua | 0 |
SaturationAdjustmentBlue | +16 |
SaturationAdjustmentGreen | 0 |
SaturationAdjustmentMagenta | +19 |
SaturationAdjustmentOrange | 0 |
SaturationAdjustmentPurple | +21 |
SaturationAdjustmentRed | 0 |
SaturationAdjustmentYellow | 0 |
ScaleFactor35efl | 1.0 |
SceneCaptureType | Standard |
SerialNumber | 373051003880 |
Shadows2012 | +37 |
ShadowTint | 0 |
SharpenDetail | 67 |
SharpenEdgeMasking | 0 |
SharpenRadius | +1.0 |
Sharpness | 91 |
ShutterSpeed | 0.5 |
ShutterSpeedValue | 0.5 |
Software | Adobe Photoshop Lightroom 5.7.1 (Macintosh) |
SplitToningBalance | 0 |
SplitToningHighlightHue | 37 |
SplitToningHighlightSaturation | 22 |
SplitToningShadowHue | 37 |
SplitToningShadowSaturation | 0 |
ToneCurve | 0, 0, 255, 255 |
ToneCurveBlue | 0, 0, 255, 255 |
ToneCurveGreen | 0, 0, 255, 255 |
ToneCurveName | Linear |
ToneCurveName2012 | Linear |
ToneCurvePV2012 | 0, 0, 255, 255 |
ToneCurvePV2012Blue | 0, 0, 255, 255 |
ToneCurvePV2012Green | 0, 0, 255, 255 |
ToneCurvePV2012Red | 0, 0, 255, 255 |
ToneCurveRed | 0, 0, 255, 255 |
Version | 8.7.1 |
Vibrance | +8 |
VignetteAmount | 0 |
WhiteBalance (1) | As Shot |
WhiteBalance | Manual |
Whites2012 | +24 |