Felt | Verdi |
AlreadyApplied | True |
Aperture | 2.0 |
ApertureValue | 2.0 |
ApproximateFocusDistance | 1 |
AutoLateralCA | 0 |
AutoWhiteVersion | 134348800 |
BitsPerSample | 8 |
Blacks2012 | +15 |
BlueHue | -5 |
BlueSaturation | +15 |
CameraProfile | Kodak Gold 100 - N |
CFAPattern | [Red,Green][Green,Blue] |
CircleOfConfusion | 0.030 mm |
Clarity2012 | +8 |
ColorComponents | 3 |
ColorNoiseReduction | 25 |
ColorNoiseReductionDetail | 50 |
ColorNoiseReductionSmoothness | 50 |
ColorTemperature | 4100 |
ColorTransform | YCbCr |
Contrast | Normal |
Contrast2012 | +21 |
ConvertToGrayscale | False |
CreateDate (1) | 2017:04:13 11:47:09.78 |
CreateDate | 2017:04:13 11:47:09 |
CreatorTool | Adobe Photoshop Lightroom 5.5 (Macintosh) |
CropAngle | 0 |
CropBottom | 0.987184 |
CropConstrainToWarp | 0 |
CropLeft | 0.012089 |
CropRight | 0.919511 |
CropTop | 0 |
CustomRendered | Normal |
DateCreated (1) | 2017:04:13 |
DateCreated | 2017:04:13 11:47:09.78 |
DateTimeOriginal | 2017:04:13 11:47:09 |
DefringeGreenAmount | 0 |
DefringeGreenHueHi | 60 |
DefringeGreenHueLo | 40 |
DefringePurpleAmount | 0 |
DefringePurpleHueHi | 70 |
DefringePurpleHueLo | 30 |
DigitalZoomRatio | 1 |
DOF | 0.05 m (0.98 - 1.02 m) |
Exposure2012 | -0.50 |
ExposureCompensation | 0 |
ExposureMode | Manual |
ExposureProgram | Manual |
ExposureTime | 1/500 |
Flash | No Flash |
FNumber | 2.0 |
FocalLength | 50.0 mm |
FocalLength35efl | 50.0 mm (35 mm equivalent: 50.0 mm) |
FocalLengthIn35mmFormat | 50 mm |
Format | image/jpeg |
FOV | 39.6 deg |
GainControl | None |
GradientBasedCorrActive | true |
GradientBasedCorrAmount | 1.000000 |
GradientBasedCorrBrightness | 0.000000 |
GradientBasedCorrClarity2012 | 0.055889 |
GradientBasedCorrContrast2012 | 0.045977 |
GradientBasedCorrDefringe | 0.000000 |
GradientBasedCorrExposure2012 (1) | -0.114698 |
GradientBasedCorrExposure2012 | 0.053829 |
GradientBasedCorrHighlights2012 | 0.026528 |
GradientBasedCorrHue | 0.000000 |
GradientBasedCorrLuminanceNoise | 0.000000 |
GradientBasedCorrMaskFullX (1) | 0.593631 |
GradientBasedCorrMaskFullX | 0.919992 |
GradientBasedCorrMaskFullY (1) | -0.073989 |
GradientBasedCorrMaskFullY | 1.112020 |
GradientBasedCorrMaskValue | 1.000000 |
GradientBasedCorrMaskWhat | Mask/Gradient |
GradientBasedCorrMaskZeroX (1) | 0.591087 |
GradientBasedCorrMaskZeroX | 0.830076 |
GradientBasedCorrMaskZeroY (1) | 0.307949 |
GradientBasedCorrMaskZeroY | 0.474460 |
GradientBasedCorrMoire | 0.000000 |
GradientBasedCorrSaturation (3) | 0.017084 |
GradientBasedCorrSaturation | 0.000000 |
GradientBasedCorrShadows2012 | 0.003323 |
GradientBasedCorrSharpness | 0.022384 |
GradientBasedCorrTemperature | 0.002022 |
GradientBasedCorrTint | 0.050000 |
GradientBasedCorrWhat | Correction |
GrainAmount | 0 |
GreenHue | +35 |
GreenSaturation | 0 |
HasCrop | True |
HasSettings | True |
Highlights2012 | -91 |
HueAdjustmentAqua | +10 |
HueAdjustmentBlue | -5 |
HueAdjustmentGreen | +10 |
HueAdjustmentMagenta | +20 |
HueAdjustmentOrange | 0 |
HueAdjustmentPurple | +20 |
HueAdjustmentRed | +10 |
HueAdjustmentYellow | 0 |
HyperfocalDistance | 41.60 m |
ImageHeight | 1500 |
ImageNumber | 152407 |
ImageSize | 1086x1500 |
ImageWidth | 1086 |
ISO | 280 |
Keywords | india, india2017 |
Lens | 50.0 mm f/1.4 |
LensID (1) | 67 |
LensID | AF Nikkor 50mm f/1.4D |
LensInfo | 50mm f/1.4 |
LensManualDistortionAmount | 0 |
LensModel | 50.0 mm f/1.4 |
LensProfileEnable | 0 |
LensProfileSetup | LensDefaults |
LightSource | Unknown |
LightValue | 9.5 |
LuminanceAdjustmentAqua | +10 |
LuminanceAdjustmentBlue | -15 |
LuminanceAdjustmentGreen | -5 |
LuminanceAdjustmentMagenta | +20 |
LuminanceAdjustmentOrange | 0 |
LuminanceAdjustmentPurple | +20 |
LuminanceAdjustmentRed | +5 |
LuminanceAdjustmentYellow | +10 |
LuminanceSmoothing | 0 |
Make | NIKON CORPORATION |
MaxApertureValue | 1.4 |
Megapixels | 1.6 |
MeteringMode | Spot |
Model | NIKON D700 |
ModifyDate (1) | 2017:04:18 14:08:43+02:00 |
ModifyDate | 2017:04:18 14:08:43 |
PaintCorrectionActive | true |
PaintCorrectionAmount | 1.000000 |
PaintCorrectionBrightness | 0.000000 |
PaintCorrectionClarity2012 | 0.055889 |
PaintCorrectionContrast2012 | 0.045977 |
PaintCorrectionDefringe | 0.000000 |
PaintCorrectionExposure2012 (1) | 0.037689 |
PaintCorrectionExposure2012 (2) | -0.065677 |
PaintCorrectionExposure2012 | 0.053829 |
PaintCorrectionHighlights2012 | 0.026528 |
PaintCorrectionHue | 0.000000 |
PaintCorrectionLuminanceNoise | 0.000000 |
PaintCorrectionMaskCenterWeight | 0.049884 |
PaintCorrectionMaskFlow | 1.000000 |
PaintCorrectionMaskRadius (13) | 0.058944 |
PaintCorrectionMaskRadius (17) | 0.029559 |
PaintCorrectionMaskRadius (20) | 0.076270 |
PaintCorrectionMaskRadius (22) | 0.034074 |
PaintCorrectionMaskRadius (27) | 0.072651 |
PaintCorrectionMaskRadius (32) | 0.032457 |
PaintCorrectionMaskRadius (4) | 0.009236 |
PaintCorrectionMaskRadius (7) | 0.131834 |
PaintCorrectionMaskRadius | 0.013948 |
PaintCorrectionMaskValue | 1.000000 |
PaintCorrectionMaskWhat | Mask/Paint |
PaintCorrectionMoire | 0.000000 |
PaintCorrectionSaturation (9) | 0.017084 |
PaintCorrectionSaturation | 0.000000 |
PaintCorrectionShadows2012 | 0.003323 |
PaintCorrectionSharpness | 0.022384 |
PaintCorrectionTemperature | 0.002022 |
PaintCorrectionTint | 0.050000 |
PaintCorrectionWhat | Correction |
ParametricDarks | -3 |
ParametricHighlights | 0 |
ParametricHighlightSplit | 75 |
ParametricLights | 0 |
ParametricMidtoneSplit | 60 |
ParametricShadows | 0 |
ParametricShadowSplit | 14 |
PerspectiveAspect | 0 |
PerspectiveHorizontal | 0 |
PerspectiveRotate | 0.0 |
PerspectiveScale | 100 |
PerspectiveUpright | 0 |
PerspectiveVertical | 0 |
PostCropVignetteAmount | -15 |
PostCropVignetteFeather | 50 |
PostCropVignetteHighlightContrast | 0 |
PostCropVignetteMidpoint | 50 |
PostCropVignetteRoundness | 0 |
PostCropVignetteStyle | 1 |
ProcessVersion | 6.7 |
ProfileDescription | Adobe RGB (1998) |
RedHue | +20 |
RedSaturation | +20 |
Saturation (1) | -3 |
Saturation | Normal |
SaturationAdjustmentAqua | -50 |
SaturationAdjustmentBlue | -15 |
SaturationAdjustmentGreen | -50 |
SaturationAdjustmentMagenta | -40 |
SaturationAdjustmentOrange | -6 |
SaturationAdjustmentPurple | -50 |
SaturationAdjustmentRed | -34 |
SaturationAdjustmentYellow | +5 |
ScaleFactor35efl | 1.0 |
SceneCaptureType | Standard |
SceneType | Directly photographed |
SensingMethod | One-chip color area |
SerialNumber | 2042362 |
Shadows2012 | +30 |
ShadowTint | -2 |
SharpenDetail | 25 |
SharpenEdgeMasking | 0 |
SharpenRadius | +1.0 |
Sharpness (1) | 0 |
Sharpness | Normal |
ShutterSpeed | 1/500 |
ShutterSpeedValue | 1/500 |
Software | Adobe Photoshop Lightroom 5.5 (Macintosh) |
SplitToningBalance | 0 |
SplitToningHighlightHue | 0 |
SplitToningHighlightSaturation | 0 |
SplitToningShadowHue | 0 |
SplitToningShadowSaturation | 0 |
Subject | india, india2017 |
SubjectDistanceRange | Unknown |
Tint | +1 |
ToneCurve | 0, 0, 255, 255 |
ToneCurveBlue | 0, 0, 255, 255 |
ToneCurveGreen | 0, 0, 255, 255 |
ToneCurveName | Linear |
ToneCurveName2012 | Gold 100 +++ |
ToneCurvePV2012 | 0, 55, 35, 58, 77, 74, 131, 127, 185, 188, 255, 250 |
ToneCurvePV2012Blue | 0, 0, 21, 13, 80, 70, 119, 122, 183, 197, 255, 255 |
ToneCurvePV2012Green | 0, 0, 27, 11, 120, 122, 181, 196, 255, 255 |
ToneCurvePV2012Red | 0, 0, 31, 7, 72, 51, 117, 123, 179, 197, 255, 255 |
ToneCurveRed | 0, 0, 255, 255 |
Version | 8.5 |
Vibrance | -29 |
VignetteAmount | 0 |
WhiteBalance (1) | As Shot |
WhiteBalance | Auto |
Whites2012 | -23 |