Felt | Verdi |
AlreadyApplied | True |
Aperture | 2.8 |
ApertureValue | 2.8 |
AutoLateralCA | 0 |
BitsPerSample | 8 |
Blacks2012 | +40 |
BlueHue | -5 |
BlueSaturation | -7 |
BrightnessValue | 7.321875 |
CameraProfile | Adobe Standard |
CircleOfConfusion | 0.030 mm |
Clarity2012 | 0 |
ColorComponents | 3 |
ColorGradeBlending | 50 |
ColorGradeGlobalHue | 0 |
ColorGradeGlobalLum | 0 |
ColorGradeGlobalSat | 0 |
ColorGradeHighlightLum | 0 |
ColorGradeMidtoneHue | 0 |
ColorGradeMidtoneLum | 0 |
ColorGradeMidtoneSat | 0 |
ColorGradeShadowLum | 0 |
ColorNoiseReduction | 25 |
ColorNoiseReductionDetail | 50 |
ColorNoiseReductionSmoothness | 50 |
ColorSpace | sRGB |
ColorTemperature | 5300 |
ColorTransform | YCbCr |
CompatibleVersion | 234881024 |
Contrast | Normal |
Contrast2012 | 0 |
CreateDate (1) | 2021:08:22 17:42:51+02:00 |
CreateDate | 2021:08:22 17:42:51 |
CreatorTool | Adobe Photoshop Lightroom Classic 11.0.1 (Windows) |
CropAngle | 0 |
CropBottom | 1 |
CropConstrainToWarp | 0 |
CropLeft | 0 |
CropRight | 1 |
CropTop | 0 |
CustomRendered | Normal |
DateCreated (1) | 2021:08:22 |
DateCreated | 2021:08:22 17:42:51+02:00 |
DateTimeOriginal | 2021:08:22 17:42:51 |
DefringeGreenAmount | 0 |
DefringeGreenHueHi | 60 |
DefringeGreenHueLo | 40 |
DefringePurpleAmount | 0 |
DefringePurpleHueHi | 70 |
DefringePurpleHueLo | 30 |
Dehaze | 0 |
DigitalZoomRatio | 1 |
Exposure2012 | 0.00 |
ExposureCompensation | 0 |
ExposureMode | Auto |
ExposureProgram | Aperture-priority AE |
ExposureTime | 1/640 |
Flash | Off, Did not fire |
FNumber | 2.8 |
FocalLength | 85.0 mm |
FocalLength35efl | 85.0 mm (35 mm equivalent: 85.0 mm) |
FocalLengthIn35mmFormat | 85 mm |
Format | image/jpeg |
FOV | 23.9 deg |
GrainAmount | 0 |
GreenHue | +30 |
GreenSaturation | -11 |
HasCrop | False |
HasSettings | True |
Highlights2012 | 0 |
HueAdjustmentAqua | +8 |
HueAdjustmentBlue | -5 |
HueAdjustmentGreen | +8 |
HueAdjustmentMagenta | +1 |
HueAdjustmentOrange | -2 |
HueAdjustmentPurple | +3 |
HueAdjustmentRed | +7 |
HueAdjustmentYellow | +5 |
HyperfocalDistance | 85.88 m |
ImageHeight | 6000 |
ImageSize | 4000x6000 |
ImageWidth | 4000 |
ISO | 100 |
Lens | SAMYANG AF 85mm F1.4 |
LensDistortInfo | 1071919914/1073741824 5747794/1073741824 -5110398/1073741824 785590/1073741824 |
LensInfo | 85mm f/1.4 |
LensManualDistortionAmount | 0 |
LensModel | SAMYANG AF 85mm F1.4 |
LensProfileEnable | 0 |
LightSource | Unknown |
LightValue | 12.3 |
LookAmount | 1 |
LookGroup | Profiles |
LookName | Adobe Color |
LookParametersCameraProfile | Adobe Standard |
LookParametersConvertToGrayscale | False |
LookParametersLookTable | E1095149FDB39D7A057BAB208837E2E1 |
LookParametersProcessVersion | 11.0 |
LookParametersToneCurvePV2012 | 0, 0, 22, 16, 40, 35, 127, 127, 224, 230, 240, 246, 255, 255 |
LookParametersToneCurvePV2012Blue | 0, 0, 255, 255 |
LookParametersToneCurvePV2012Green | 0, 0, 255, 255 |
LookParametersToneCurvePV2012Red | 0, 0, 255, 255 |
LookParametersVersion | 14.0 |
LookSupportsAmount | false |
LookSupportsMonochrome | false |
LookSupportsOutputReferred | false |
LuminanceAdjustmentAqua | +10 |
LuminanceAdjustmentBlue | -25 |
LuminanceAdjustmentGreen | +10 |
LuminanceAdjustmentMagenta | 0 |
LuminanceAdjustmentOrange | +15 |
LuminanceAdjustmentPurple | 0 |
LuminanceAdjustmentRed | -15 |
LuminanceAdjustmentYellow | +8 |
LuminanceSmoothing | 0 |
Make | SONY |
MaxApertureValue | 1.4 |
Megapixels | 24.0 |
MeteringMode | Multi-segment |
Model | ILCE-7M3 |
ModifyDate (1) | 2021:12:12 21:09:04+01:00 |
ModifyDate | 2021:12:12 21:09:04 |
OverrideLookVignette | False |
ParametricDarks | 0 |
ParametricHighlights | 0 |
ParametricHighlightSplit | 75 |
ParametricLights | 0 |
ParametricMidtoneSplit | 48 |
ParametricShadows | 0 |
ParametricShadowSplit | 20 |
PerspectiveAspect | 0 |
PerspectiveHorizontal | 0 |
PerspectiveRotate | 0.0 |
PerspectiveScale | 100 |
PerspectiveUpright | 0 |
PerspectiveVertical | 0 |
PerspectiveX | 0.00 |
PerspectiveY | 0.00 |
PostCropVignetteAmount | 0 |
PreservedFileName | DSC09452.ARW |
ProcessVersion | 11.0 |
ProfileDescription | sRGB IEC61966-2.1 |
RawFileName | DSC09452.ARW |
RecommendedExposureIndex | 100 |
RedHue | +20 |
RedSaturation | +14 |
Saturation (1) | 0 |
Saturation | Normal |
SaturationAdjustmentAqua | -20 |
SaturationAdjustmentBlue | -25 |
SaturationAdjustmentGreen | -25 |
SaturationAdjustmentMagenta | -25 |
SaturationAdjustmentOrange | +15 |
SaturationAdjustmentPurple | -25 |
SaturationAdjustmentRed | -15 |
SaturationAdjustmentYellow | -2 |
ScaleFactor35efl | 1.0 |
SceneCaptureType | Standard |
SceneType | Directly photographed |
SensitivityType | Recommended Exposure Index |
Shadows2012 | 0 |
ShadowTint | -3 |
SharpenDetail | 25 |
SharpenEdgeMasking | 0 |
SharpenRadius | +1.0 |
Sharpness (1) | 40 |
Sharpness | Normal |
ShutterSpeed | 1/640 |
ShutterSpeedValue | 1/640 |
Software | Adobe Photoshop Lightroom Classic 11.0.1 (Windows) |
SplitToningBalance | 0 |
SplitToningHighlightHue | 0 |
SplitToningHighlightSaturation | 0 |
SplitToningShadowHue | 0 |
SplitToningShadowSaturation | 0 |
Texture | 0 |
Tint | +6 |
ToneCurveName2012 | Custom |
ToneCurvePV2012 | 0, 0, 18, 22, 70, 72, 127, 128, 215, 212, 255, 255 |
ToneCurvePV2012Blue | 0, 0, 27, 13, 77, 62, 114, 119, 170, 195, 255, 254 |
ToneCurvePV2012Green | 0, 0, 33, 14, 80, 66, 114, 121, 143, 166, 210, 231, 255, 254 |
ToneCurvePV2012Red | 0, 0, 35, 12, 81, 63, 114, 122, 174, 198, 255, 254 |
Version | 14.0 |
Vibrance | 0 |
VignetteAmount | 0 |
WhiteBalance (1) | As Shot |
WhiteBalance | Auto |
Whites2012 | -36 |