Felt | Verdi |
AlreadyApplied | True |
Aperture | 5.6 |
ApertureValue | 5.6 |
ApproximateFocusDistance | 6.73 |
Artist | ulf robert stfomme |
AutoLateralCA | 0 |
BitDepth | 16 |
Blacks2012 | -17 |
BlueHue | 0 |
BlueSaturation | 0 |
By-line | ulf robert stfomme |
CameraProfile | Adobe Standard |
CircleOfConfusion | 0.019 mm |
Clarity2012 | 0 |
ColorGradeBlending | 50 |
ColorGradeGlobalHue | 0 |
ColorGradeGlobalLum | 0 |
ColorGradeGlobalSat | 0 |
ColorGradeHighlightLum | 0 |
ColorGradeMidtoneHue | 0 |
ColorGradeMidtoneLum | 0 |
ColorGradeMidtoneSat | 0 |
ColorGradeShadowLum | 0 |
ColorMode | RGB |
ColorNoiseReduction | 25 |
ColorNoiseReductionDetail | 50 |
ColorNoiseReductionSmoothness | 50 |
ColorSpace | Uncalibrated |
ColorTemperature | 5750 |
Contrast2012 | +4 |
Copyright | str |
CopyrightNotice | str |
CreateDate | 2017:04:18 14:05:17 |
Creator | ulf robert stfomme |
CropAngle | 0 |
CropBottom | 0.899626 |
CropConstrainToWarp | 1 |
CropLeft | 0.012903 |
CropRight | 0.996412 |
CropTop | 0.132202 |
CustomRendered | Normal |
DateCreated (1) | 2017:04:18 |
DateCreated | 2017:04:18 14:05:06.015 |
DateTimeOriginal | 2017:04:18 14:05:17 |
DefringeGreenAmount | 0 |
DefringeGreenHueHi | 60 |
DefringeGreenHueLo | 40 |
DefringePurpleAmount | 0 |
DefringePurpleHueHi | 70 |
DefringePurpleHueLo | 30 |
Dehaze | 0 |
DigitalZoomRatio | 1 |
DistortionCorrectionAlreadyApplied | True |
DOF | inf (2.75 m - inf) |
ExifImageHeight | 4563 |
ExifImageWidth | 12323 |
Exposure2012 | -0.78 |
ExposureCompensation | 0 |
ExposureMode | Auto |
ExposureProgram | Program AE |
ExposureTime | 1/2500 |
Firmware | 1.20 |
Flash | Off, Did not fire |
FlashCompensation | 0 |
FNumber | 5.6 |
FocalLength | 22.0 mm |
FocalLength35efl | 22.0 mm (35 mm equivalent: 35.5 mm) |
Format | application/vnd.adobe.photoshop |
FOV | 53.8 deg |
GrainAmount | 0 |
GreenHue | 0 |
GreenSaturation | 0 |
HasCrop | True |
HasSettings | True |
Highlights2012 | -72 |
HueAdjustmentAqua | 0 |
HueAdjustmentBlue | 0 |
HueAdjustmentGreen | 0 |
HueAdjustmentMagenta | 0 |
HueAdjustmentOrange | 0 |
HueAdjustmentPurple | 0 |
HueAdjustmentRed | 0 |
HueAdjustmentYellow | 0 |
HyperfocalDistance | 4.64 m |
ICCProfileName | Display P3 |
ImageHeight | 4563 |
ImageNumber | 0 |
ImageSize | 12323x4563 |
ImageWidth | 12323 |
IsMergedPanorama | True |
ISO | 200 |
LateralChromaticAberrationCorrectionAlreadyApplied | True |
LayerCount | 0 |
Lens | EF-M22mm f/2 STM |
LensID (1) | 4145 |
LensID | Canon EF-M 22mm f/2 STM |
LensInfo | 22mm f/? |
LensManualDistortionAmount | 0 |
LensModel | EF-M22mm f/2 STM |
LensProfileEnable | 0 |
LensSerialNumber | 00000409cc |
LightValue | 15.3 |
LookAmount | 1 |
LookCopyright | © 2018 Adobe Systems, Inc. |
LookGroup | Profiles |
LookName | Adobe Color |
LookParametersCameraProfile | Adobe Standard |
LookParametersConvertToGrayscale | False |
LookParametersLookTable | E1095149FDB39D7A057BAB208837E2E1 |
LookParametersProcessVersion | 11.0 |
LookParametersToneCurvePV2012 | 0, 0, 22, 16, 40, 35, 127, 127, 224, 230, 240, 246, 255, 255 |
LookParametersToneCurvePV2012Blue | 0, 0, 255, 255 |
LookParametersToneCurvePV2012Green | 0, 0, 255, 255 |
LookParametersToneCurvePV2012Red | 0, 0, 255, 255 |
LookParametersVersion | 15.0 |
LookSupportsAmount | false |
LookSupportsMonochrome | false |
LookSupportsOutputReferred | false |
LuminanceAdjustmentAqua | 0 |
LuminanceAdjustmentBlue | 0 |
LuminanceAdjustmentGreen | 0 |
LuminanceAdjustmentMagenta | 0 |
LuminanceAdjustmentOrange | 0 |
LuminanceAdjustmentPurple | 0 |
LuminanceAdjustmentRed | 0 |
LuminanceAdjustmentYellow | 0 |
LuminanceSmoothing | 0 |
Make | Canon |
MaxApertureValue | 2.0 |
Megapixels | 56.2 |
MeteringMode | Multi-segment |
Model | Canon EOS M3 |
ModifyDate (1) | 2022:11:06 13:27:49+01:00 |
ModifyDate | 2022:11:06 13:27:49 |
NumChannels | 3 |
Orientation | Horizontal (normal) |
OverrideLookVignette | False |
ParametricDarks | 0 |
ParametricHighlights | 0 |
ParametricHighlightSplit | 75 |
ParametricLights | 0 |
ParametricMidtoneSplit | 50 |
ParametricShadows | 0 |
ParametricShadowSplit | 25 |
PerspectiveAspect | 0 |
PerspectiveHorizontal | 0 |
PerspectiveRotate | 0.0 |
PerspectiveScale | 100 |
PerspectiveUpright | 0 |
PerspectiveVertical | 0 |
PerspectiveX | 0.00 |
PerspectiveY | 0.00 |
PostCropVignetteAmount | 0 |
ProcessVersion | 11.0 |
ProfileDescription | Display P3 |
Rating | 0 |
RecommendedExposureIndex | 200 |
RedHue | 0 |
RedSaturation | 0 |
Rights | str |
Saturation | -3 |
SaturationAdjustmentAqua | -7 |
SaturationAdjustmentBlue | +21 |
SaturationAdjustmentGreen | 0 |
SaturationAdjustmentMagenta | 0 |
SaturationAdjustmentOrange | +46 |
SaturationAdjustmentPurple | 0 |
SaturationAdjustmentRed | 0 |
SaturationAdjustmentYellow | 0 |
ScaleFactor35efl | 1.6 |
SceneCaptureType | Standard |
SensingMethod | One-chip color area |
SensitivityType | Recommended Exposure Index |
SerialNumber | 063042000479 |
Shadows2012 | +53 |
ShadowTint | 0 |
SharpenDetail | 25 |
SharpenEdgeMasking | 0 |
SharpenRadius | +1.0 |
Sharpness | 40 |
ShutterSpeed | 1/2500 |
ShutterSpeedValue | 1/2500 |
Software | Adobe Photoshop 24.0 (Macintosh) |
SplitToningBalance | 0 |
SplitToningHighlightHue | 0 |
SplitToningHighlightSaturation | 0 |
SplitToningShadowHue | 0 |
SplitToningShadowSaturation | 0 |
Texture | 0 |
Tint | +11 |
ToneCurveName2012 | Linear |
ToneCurvePV2012 | 0, 0, 255, 255 |
ToneCurvePV2012Blue | 0, 0, 255, 255 |
ToneCurvePV2012Green | 0, 0, 255, 255 |
ToneCurvePV2012Red | 0, 0, 255, 255 |
Transformation | Cylindrical |
URL_List | |
Version | 15.0 |
Vibrance | +13 |
VignetteAmount | 0 |
VignetteCorrectionAlreadyApplied | True |
VirtualFocalLength | 0.455013 |
VirtualImageXCenter | 0.526078 |
VirtualImageYCenter | 0.181358 |
WhiteBalance (1) | Auto |
WhiteBalance | Custom |
Whites2012 | +13 |