Felt | Verdi |
AlreadyApplied | True |
Aperture | 11.0 |
ApertureValue | 11.0 |
Artist | Magne Skaarn |
BitsPerSample (1) | 16, 16, 16 |
BitsPerSample (2) | 16 16 16 |
BitsPerSample | 8 |
BlueHue | 0 |
BlueSaturation | 0 |
Brightness | +50 |
By-line | Magne Skaarn |
CameraProfile | ACR 3.3 |
CFAPattern | [Green,Red][Blue,Green] |
ChromaticAberrationB | 0 |
ChromaticAberrationR | 0 |
CircleOfConfusion | 0.020 mm |
Clarity | 61 |
ColorComponents | 3 |
ColorMode | RGB |
ColorNoiseReduction | 25 |
ColorSpace | sRGB |
ColorTemperature | 4850 |
Contrast (2) | +25 |
Contrast | Normal |
ConvertToGrayscale | False |
Copyright | Magne Skaarn |
CopyrightFlag | False |
CopyrightNotice | Magne Skaarn |
CreateDate (1) | 2007:11:01 21:36:54+01:00 |
CreateDate | 2007:05:01 06:25:16 |
Creator | Magne Skaarn |
CreatorCountry | Norway |
CreatorTool | Adobe Photoshop CS3 Windows |
CreatorWorkTelephone | 004792229465 |
CropAngle | 0 |
CropBottom | 0.951111 |
CropHeight | 2396 |
CropLeft | 0.047894 |
CropRight | 0.976879 |
CropTop | 0.026713 |
CropUnit | pixels |
CropWidth | 3597 |
CustomRendered | Normal |
DateTimeDigitized | 2007:05:01 06:25:16.16+02:00 |
DateTimeOriginal (1) | 2007:05:01 06:25:16.16+02:00 |
DateTimeOriginal | 2007:05:01 06:25:16 |
Defringe | 0 |
DerivedFrom | |
DigitalZoomRatio | 1 |
ExifImageHeight | 666 |
ExifImageWidth | 1000 |
Exposure | +0.52 |
ExposureCompensation | -1 |
ExposureMode | Auto |
ExposureProgram | Aperture-priority AE |
ExposureTime | 1/60 |
FillLight | 2 |
Flash | No Flash |
FlashFired | False |
FlashFunction | False |
FlashMode | Unknown |
FlashRedEyeMode | False |
FlashReturn | No return detection |
FNumber | 11.0 |
FocalLength | 35.0 mm |
FocalLength35efl | 35.0 mm (35 mm equivalent: 52.0 mm) |
FocalLengthIn35mmFormat | 52 mm |
Format | image/jpeg |
FOV | 38.2 deg |
GainControl | None |
GreenHue | 0 |
GreenSaturation | 0 |
HasCrop | True |
HasSettings | True |
Headline | USA 2007 |
HierarchicalSubject | grand canyon, soloppganger, south rim, usa |
HighlightRecovery | 0 |
HueAdjustmentAqua | 0 |
HueAdjustmentBlue | 0 |
HueAdjustmentGreen | 0 |
HueAdjustmentMagenta | 0 |
HueAdjustmentOrange | -2 |
HueAdjustmentPurple | 0 |
HueAdjustmentRed | -8 |
HueAdjustmentYellow | 0 |
HyperfocalDistance | 5.51 m |
ICCProfileName | sRGB IEC61966-2.1 |
ImageHeight (2) | 2396 |
ImageHeight | 666 |
ImageNumber | 6178 |
ImageSize | 1000x666 |
ImageWidth (1) | 3597 |
ImageWidth | 1000 |
ISO | 100 |
Keywords | grand canyon, soloppganger, south rim, usa |
Lens | 35.0 mm f/2.0 |
LensInfo | 35mm f/2 |
LightSource | Unknown |
LightValue | 12.8 |
LuminanceAdjustmentAqua | 0 |
LuminanceAdjustmentBlue | 0 |
LuminanceAdjustmentGreen | 0 |
LuminanceAdjustmentMagenta | 0 |
LuminanceAdjustmentOrange | 0 |
LuminanceAdjustmentPurple | 0 |
LuminanceAdjustmentRed | 0 |
LuminanceAdjustmentYellow | 0 |
LuminanceSmoothing | 0 |
Make | NIKON CORPORATION |
MaxApertureValue | 2.0 |
Megapixels | 0.666 |
MeteringMode | Multi-segment |
Model | NIKON D200 |
ModifyDate (1) | 2007:11:01 21:36:54+01:00 |
ModifyDate | 2007:11:01 21:36:54 |
Orientation | Horizontal (normal) |
ParametricDarks | -18 |
ParametricHighlights | +65 |
ParametricHighlightSplit | 75 |
ParametricLights | -36 |
ParametricMidtoneSplit | 50 |
ParametricShadows | +8 |
ParametricShadowSplit | 25 |
PhotometricInterpretation | RGB |
PlanarConfiguration | Chunky |
ProfileDescription | sRGB IEC61966-2.1 |
RedHue | 0 |
RedSaturation | 0 |
Rights | Magne Skaarn |
SamplesPerPixel | 3 |
Saturation (2) | 0 |
Saturation | High |
SaturationAdjustmentAqua | 0 |
SaturationAdjustmentBlue | 0 |
SaturationAdjustmentGreen | 0 |
SaturationAdjustmentMagenta | 0 |
SaturationAdjustmentOrange | 0 |
SaturationAdjustmentPurple | 0 |
SaturationAdjustmentRed | -19 |
SaturationAdjustmentYellow | 0 |
ScaleFactor35efl | 1.5 |
SceneCaptureType | Standard |
SceneType | Directly photographed |
SensingMethod | One-chip color area |
Shadows | 12 |
ShadowTint | 0 |
SharpenDetail | 25 |
SharpenEdgeMasking | 0 |
SharpenRadius | +1.0 |
Sharpness (2) | 25 |
Sharpness | Hard |
ShutterSpeed | 1/60 |
ShutterSpeedValue | 1/60 |
Software | Adobe Photoshop CS3 Windows |
SplitToningBalance | 0 |
SplitToningHighlightHue | 0 |
SplitToningHighlightSaturation | 0 |
SplitToningShadowHue | 0 |
SplitToningShadowSaturation | 0 |
Subject | grand canyon, soloppganger, south rim, usa |
SubjectDistanceRange | Unknown |
Tint | -5 |
ToneCurve | 0, 0, 32, 16, 64, 50, 128, 128, 192, 202, 255, 255 |
ToneCurveName | Strong Contrast |
URL_List | |
Version | 1.0 |
Vibrance | +6 |
VignetteAmount | 0 |
WhiteBalance (2) | Custom |
WhiteBalance | Auto |