Felt | Verdi |
AlreadyApplied | True |
Aperture | 8.0 |
ApertureValue | 8.0 |
BitsPerSample | 8 |
BlackClip | 0.000000 |
BlueHue | 0 |
BlueSaturation | 0 |
Brightness | 0 |
By-line | Robin Smidsrød |
CameraProfile | Embedded |
Caption-Abstract | A clear blue sky overlooking the waves and hills of Mølen in Vestfold. |
ChromaticAberrationB | 0 |
ChromaticAberrationR | 0 |
Clarity | 11 |
ColorComponents | 3 |
ColorNoiseReduction | 0 |
ColorSaturation | 55 |
Contrast | 0 |
ConvertToGrayscale | False |
Copyright | Robin Smidsrod |
CopyrightNotice | Robin Smidsrød |
Country | Norway |
Country-PrimaryLocationName | Norway |
CountryCode | NO |
Creator | Robin Smidsrød |
CreatorCountry | Norway |
CreatorTool | Adobe Photoshop Lightroom |
CreatorWorkEmail | robin@smidsrod.no |
CreatorWorkURL | http://robin.smidsrod.no/ |
Defringe | 0 |
Description | A clear blue sky overlooking the waves and hills of Mølen in Vestfold. |
Exposure | 0.00 |
FillLight | 0 |
FNumber | 8.0 |
FocalLength | 18.0 mm |
FocalLength35efl | 18.0 mm |
Gamma | 1.101905 |
GreenHue | 0 |
GreenSaturation | 0 |
HasCrop | False |
HasSettings | True |
HighlightRecovery | 0 |
HueAdjustmentAqua | 0 |
HueAdjustmentBlue | 0 |
HueAdjustmentGreen | 0 |
HueAdjustmentMagenta | +4 |
HueAdjustmentOrange | 0 |
HueAdjustmentPurple | -100 |
HueAdjustmentRed | 0 |
HueAdjustmentYellow | 0 |
ImageDescription | A clear blue sky overlooking the waves and hills of Molen in Vestfold. |
ImageHeight | 426 |
ImageSize | 640x426 |
ImageWidth | 640 |
IncrementalTemperature | 0 |
IncrementalTint | 0 |
ISO | 100 |
Keywords | Beach, Blue, Ocean, Rock, Round, Seascape, Sky, Splash, Stone, Summer, Water, Waves, Wind |
Location | Mølen |
LuminanceAdjustmentAqua | 0 |
LuminanceAdjustmentBlue | 0 |
LuminanceAdjustmentGreen | 0 |
LuminanceAdjustmentMagenta | 0 |
LuminanceAdjustmentOrange | 0 |
LuminanceAdjustmentPurple | 0 |
LuminanceAdjustmentRed | 0 |
LuminanceAdjustmentYellow | 0 |
LuminanceSmoothing | 0 |
Luminosity | -2 |
Marked | True |
Megapixels | 0.273 |
Method | Details Enhancer |
Microcontrast | High |
Microsmoothing | 2 |
ModifyDate (1) | 2008:01:01 12:53:00+01:00 |
ModifyDate | 2008:01:01 12:53:00 |
ObjectName | Stone in the water |
ParametricDarks | 0 |
ParametricHighlights | 0 |
ParametricHighlightSplit | 75 |
ParametricLights | 0 |
ParametricMidtoneSplit | 50 |
ParametricShadows | 0 |
ParametricShadowSplit | 25 |
ProfileDescription | sRGB IEC61966-2.1 |
Province-State | Vestfold |
Rating | 4 |
RedHue | 0 |
RedSaturation | 0 |
Rights | Robin Smidsrød |
Saturation | 0 |
SaturationAdjustmentAqua | 0 |
SaturationAdjustmentBlue | +25 |
SaturationAdjustmentGreen | 0 |
SaturationAdjustmentMagenta | 0 |
SaturationAdjustmentOrange | -36 |
SaturationAdjustmentPurple | 0 |
SaturationAdjustmentRed | -67 |
SaturationAdjustmentYellow | 0 |
Shadows | 5 |
ShadowTint | 0 |
SharpenDetail | 25 |
SharpenEdgeMasking | 0 |
SharpenRadius | +1.0 |
Sharpness | 0 |
Smoothing | Very High |
SplitToningBalance | 0 |
SplitToningHighlightHue | 0 |
SplitToningHighlightSaturation | 0 |
SplitToningShadowHue | 0 |
SplitToningShadowSaturation | 0 |
State | Vestfold |
Strength | 100 |
Sub-location | Mølen |
Subject | Beach, Blue, Ocean, Rock, Round, Seascape, Sky, Splash, Stone, Summer, Water, Waves, Wind |
Title | Stone in the water |
ToneCurve | 0, 0, 255, 255 |
ToneCurveName | Linear |
Version (1) | 2.4 |
Version | 1.0 |
Vibrance | 0 |
VignetteAmount | 0 |
WebStatement | http://robin.smidsrod.no/ |
WhiteBalance | As Shot |
WhiteClip | 0.785750 |