Felt | Verdi |
AlreadyApplied | True |
Aperture | 7.1 |
ApertureValue | 7.1 |
BitsPerSample (1) | 16, 16, 16 |
BitsPerSample (2) | 16 16 16 |
BitsPerSample | 8 |
BlueHue | 0 |
BlueSaturation | 0 |
Brightness | +7 |
CameraProfile | ACR 4.1 |
ChromaticAberrationB | 0 |
ChromaticAberrationR | 0 |
CircleOfConfusion | 0.023 mm |
Clarity | 21 |
ColorComponents | 3 |
ColorMode | RGB |
ColorNoiseReduction | 29 |
ColorSpace | sRGB |
ColorTemperature | 4857 |
Contrast | +36 |
ConvertToGrayscale | False |
CopyrightFlag | False |
CreateDate (1) | 2008:03:19 08:50:43+01:00 |
CreateDate | 2008:03:18 14:39:10 |
CreatorTool | Adobe Photoshop CS2 Windows |
CropAngle | 0 |
CropBottom | 1 |
CropHeight | 2592 |
CropLeft | 0 |
CropRight | 0.420205 |
CropTop | 0 |
CropUnit | pixels |
CropWidth | 1634 |
CustomRendered | Normal |
DateTimeDigitized | 2008:03:18 14:39:10.00+01:00 |
DateTimeOriginal (1) | 2008:03:18 14:39:10.00+01:00 |
DateTimeOriginal | 2008:03:18 14:39:10 |
Defringe | 0 |
ExifImageHeight | 578 |
ExifImageWidth | 865 |
Exposure | +0.19 |
ExposureCompensation | 0 |
ExposureMode | Auto |
ExposureProgram | Aperture-priority AE |
ExposureTime | 1/125 |
FillLight | 14 |
Firmware | 1.1.0 |
Flash | No Flash |
FlashCompensation | 0 |
FlashFired | False |
FlashFunction | False |
FlashMode | Unknown |
FlashRedEyeMode | False |
FlashReturn | No return detection |
FNumber | 7.1 |
FocalLength | 200.0 mm |
FocalLength35efl | 200.0 mm (35 mm equivalent: 256.3 mm) |
Format | image/jpeg |
FOV | 8.0 deg |
GreenHue | 0 |
GreenSaturation | 0 |
HasCrop | True |
HasSettings | True |
HierarchicalSubject | 2008, mars |
HighlightRecovery | 18 |
HueAdjustmentAqua | 0 |
HueAdjustmentBlue | 0 |
HueAdjustmentGreen | 0 |
HueAdjustmentMagenta | 0 |
HueAdjustmentOrange | 0 |
HueAdjustmentPurple | 0 |
HueAdjustmentRed | 0 |
HueAdjustmentYellow | 0 |
HyperfocalDistance | 240.27 m |
ICCProfileName | sRGB IEC61966-2.1 |
ImageHeight (2) | 1634 |
ImageHeight | 578 |
ImageNumber | 0 |
ImageSize | 865x578 |
ImageWidth (1) | 2592 |
ImageWidth | 865 |
ISO | 125 |
Keywords | 2008, mars |
Lens | EF70-200mm f/2.8L IS USM |
LensInfo | 70-200mm f/? |
LightValue | 12.3 |
LuminanceAdjustmentAqua | 0 |
LuminanceAdjustmentBlue | 0 |
LuminanceAdjustmentGreen | 0 |
LuminanceAdjustmentMagenta | 0 |
LuminanceAdjustmentOrange | 0 |
LuminanceAdjustmentPurple | 0 |
LuminanceAdjustmentRed | 0 |
LuminanceAdjustmentYellow | 0 |
LuminanceSmoothing | 20 |
Make | Canon |
MaxApertureValue | 2.8 |
Megapixels | 0.500 |
MeteringMode | Spot |
Model | Canon EOS-1D Mark III |
ModifyDate (1) | 2008:03:19 08:50:43+01:00 |
ModifyDate | 2008:03:19 08:50:43 |
Orientation | Horizontal (normal) |
ParametricDarks | -7 |
ParametricHighlights | +5 |
ParametricHighlightSplit | 75 |
ParametricLights | +12 |
ParametricMidtoneSplit | 50 |
ParametricShadows | -14 |
ParametricShadowSplit | 25 |
PhotometricInterpretation | RGB |
PlanarConfiguration | Chunky |
ProfileDescription | sRGB IEC61966-2.1 |
RedHue | 0 |
RedSaturation | 0 |
SamplesPerPixel | 3 |
Saturation | +21 |
SaturationAdjustmentAqua | 0 |
SaturationAdjustmentBlue | 0 |
SaturationAdjustmentGreen | 0 |
SaturationAdjustmentMagenta | 0 |
SaturationAdjustmentOrange | 0 |
SaturationAdjustmentPurple | 0 |
SaturationAdjustmentRed | 0 |
SaturationAdjustmentYellow | 0 |
ScaleFactor35efl | 1.3 |
SceneCaptureType | Standard |
SerialNumber | 530308 |
Shadows | 11 |
ShadowTint | 0 |
SharpenDetail | 25 |
SharpenEdgeMasking | 0 |
SharpenRadius | +1.0 |
Sharpness | 34 |
ShutterSpeed | 1/125 |
ShutterSpeedValue | 1/125 |
Software | Adobe Photoshop CS2 Windows |
SplitToningBalance | 0 |
SplitToningHighlightHue | 0 |
SplitToningHighlightSaturation | 0 |
SplitToningShadowHue | 0 |
SplitToningShadowSaturation | 0 |
Subject | 2008, mars |
Tint | -2 |
ToneCurve | 0, 0, 32, 22, 64, 56, 128, 128, 192, 196, 255, 255 |
ToneCurveName | Medium Contrast |
URL_List | |
Version | 1.0 |
Vibrance | 0 |
VignetteAmount | 0 |
WhiteBalance (2) | Custom |
WhiteBalance | Auto |