Felt | Verdi |
AlreadyApplied | True |
Aperture | 10.0 |
ApertureValue | 10.0 |
Artist | Johnny K Soleng |
BitsPerSample | 8 |
BlueHue | 0 |
BlueSaturation | 0 |
Brightness | +65 |
By-line | Johnny K Soleng |
CameraProfile | ACR 2.4 |
CFAPattern | [Blue,Green][Green,Red] |
ChromaticAberrationB | 0 |
ChromaticAberrationR | 0 |
CircleOfConfusion | 0.020 mm |
Clarity | 50 |
ColorComponents | 3 |
ColorMode | RGB |
ColorNoiseReduction | 25 |
ColorSpace | sRGB |
ColorTemperature | 5500 |
Contrast (2) | +6 |
Contrast | Normal |
ConvertToGrayscale | False |
Copyright | jksoleng 2009 |
CopyrightFlag | False |
CopyrightNotice | jksoleng 2009 |
CreateDate (1) | 2009:01:04 19:05:24+01:00 |
CreateDate | 2009:01:04 12:45:17 |
Creator | Johnny K Soleng |
CreatorTool | Adobe Photoshop Elements 6.0 Windows |
CustomRendered | Normal |
DateTimeDigitized | 2009:01:04 12:45:17.70+01:00 |
DateTimeOriginal (1) | 2009:01:04 12:45:17.70+01:00 |
DateTimeOriginal | 2009:01:04 12:45:17 |
Defringe | 0 |
DigitalZoomRatio | 1 |
ExifImageHeight | 1280 |
ExifImageWidth | 851 |
Exposure | 0.00 |
ExposureCompensation | 0 |
ExposureMode | Auto |
ExposureProgram | Aperture-priority AE |
ExposureTime | 1/40 |
FillLight | 0 |
Flash | No Flash |
FlashFired | False |
FlashFunction | False |
FlashMode | Unknown |
FlashRedEyeMode | False |
FlashReturn | No return detection |
FNumber | 10.0 |
FocalLength | 30.0 mm |
FocalLength35efl | 30.0 mm (35 mm equivalent: 45.0 mm) |
FocalLengthIn35mmFormat | 45 mm |
Format | image/jpeg |
FOV | 43.6 deg |
GainControl | None |
GreenHue | 0 |
GreenSaturation | 0 |
HasCrop | False |
HasSettings | True |
HighlightRecovery | 0 |
HueAdjustmentAqua | 0 |
HueAdjustmentBlue | 0 |
HueAdjustmentGreen | 0 |
HueAdjustmentMagenta | 0 |
HueAdjustmentOrange | 0 |
HueAdjustmentPurple | 0 |
HueAdjustmentRed | 0 |
HueAdjustmentYellow | 0 |
HyperfocalDistance | 4.49 m |
ICCProfileName | sRGB IEC61966-2.1 |
ImageHeight | 1280 |
ImageNumber | 4622 |
ImageSize | 851x1280 |
ImageWidth | 851 |
ISO | 400 |
Lens | 18.0-55.0 mm f/3.5-5.6 |
LensInfo | 18-55mm f/3.5-5.6 |
LightSource | Cloudy |
LightValue | 10.0 |
LuminanceAdjustmentAqua | 0 |
LuminanceAdjustmentBlue | 0 |
LuminanceAdjustmentGreen | 0 |
LuminanceAdjustmentMagenta | 0 |
LuminanceAdjustmentOrange | 0 |
LuminanceAdjustmentPurple | 0 |
LuminanceAdjustmentRed | 0 |
LuminanceAdjustmentYellow | 0 |
LuminanceSmoothing | 0 |
Make | NIKON CORPORATION |
MaxApertureValue | 4.1 |
Megapixels | 1.1 |
MeteringMode | Multi-segment |
Model | NIKON D50 |
ModifyDate (1) | 2009:01:04 19:05:24+01:00 |
ModifyDate | 2009:01:04 19:05:24 |
Orientation | Horizontal (normal) |
ParametricDarks | 0 |
ParametricHighlights | 0 |
ParametricHighlightSplit | 75 |
ParametricLights | 0 |
ParametricMidtoneSplit | 50 |
ParametricShadows | 0 |
ParametricShadowSplit | 25 |
ProfileDescription | sRGB IEC61966-2.1 |
Rating | 0 |
RawFileName | DSC_3361.NEF |
RedHue | 0 |
RedSaturation | 0 |
Rights | jksoleng 2009 |
Saturation (2) | +50 |
Saturation | Normal |
SaturationAdjustmentAqua | 0 |
SaturationAdjustmentBlue | 0 |
SaturationAdjustmentGreen | 0 |
SaturationAdjustmentMagenta | 0 |
SaturationAdjustmentOrange | 0 |
SaturationAdjustmentPurple | 0 |
SaturationAdjustmentRed | 0 |
SaturationAdjustmentYellow | 0 |
ScaleFactor35efl | 1.5 |
SceneCaptureType | Standard |
SceneType | Directly photographed |
SensingMethod | One-chip color area |
Shadows | 0 |
ShadowTint | 0 |
SharpenDetail | 25 |
SharpenEdgeMasking | 0 |
SharpenRadius | +1.0 |
Sharpness (2) | 25 |
Sharpness | Normal |
ShutterSpeed | 1/40 |
ShutterSpeedValue | 1/40 |
SidecarForExtension | NEF |
Software | Adobe Photoshop Elements 6.0 Windows |
SplitToningBalance | 0 |
SplitToningHighlightHue | 0 |
SplitToningHighlightSaturation | 0 |
SplitToningShadowHue | 0 |
SplitToningShadowSaturation | 0 |
SubjectDistanceRange | Unknown |
Tint | +10 |
ToneCurve | 0, 0, 32, 22, 64, 56, 128, 128, 192, 196, 255, 255 |
ToneCurveName | Medium Contrast |
URL_List | |
Version | 4.2 |
Vibrance | -25 |
VignetteAmount | 0 |
WhiteBalance (2) | Custom |
WhiteBalance | Manual |