Felt | Verdi |
AlreadyApplied | True |
Aperture | 10.0 |
ApertureValue | 10.0 |
BitsPerSample | 8 |
BlueHue | 0 |
BlueSaturation | 0 |
Brightness | +36 |
CameraProfile | Adobe Standard |
CFAPattern | [Green,Blue][Red,Green] |
ChromaticAberrationB | 0 |
ChromaticAberrationR | 0 |
CircleOfConfusion | 0.020 mm |
Clarity | -31 |
ColorComponents | 3 |
ColorNoiseReduction | 25 |
ColorTemperature | 5333 |
Contrast (2) | +43 |
Contrast | Normal |
ConvertToGrayscale | True |
Copyright | Joan Lu Fiksdal |
CopyrightFlag | True |
CopyrightNotice | Joan Lu Fiksdal |
CreateDate (1) | 2009:08:22 16:46:06.00+02:00 |
CreateDate | 2009:08:22 16:46:06 |
CreatorTool | Adobe Photoshop Lightroom |
CreatorWorkEmail | teddypeppy@hotmail.com |
CropAngle | 0 |
CropBottom | 0.672414 |
CropHeight | 884 |
CropLeft | 0.470407 |
CropRight | 0.779593 |
CropTop | 0.362069 |
CropUnit | pixels |
CropWidth | 1326 |
CustomRendered | Normal |
DateTimeDigitized | 2009:08:22 16:46:06.00+02:00 |
DateTimeOriginal (1) | 2009:08:22 16:46:06.00+02:00 |
DateTimeOriginal | 2009:08:22 16:46:06 |
Defringe | 0 |
DigitalZoomRatio | 1 |
ExifImageHeight | 884 |
ExifImageWidth | 1326 |
Exposure | +0.48 |
ExposureCompensation | 0 |
ExposureMode | Manual |
ExposureProgram | Manual |
ExposureTime | 1/160 |
FillLight | 14 |
Flash | No Flash |
FlashFired | False |
FlashFunction | False |
FlashMode | Unknown |
FlashRedEyeMode | False |
FlashReturn | No return detection |
FNumber | 10.0 |
FocalLength | 60.0 mm |
FocalLength35efl | 60.0 mm (35 mm equivalent: 90.0 mm) |
FocalLengthIn35mmFormat | 90 mm |
FOV | 22.6 deg |
GainControl | None |
GrayMixerAqua | +38 |
GrayMixerBlue | -37 |
GrayMixerGreen | -29 |
GrayMixerMagenta | +28 |
GrayMixerOrange | -24 |
GrayMixerPurple | +25 |
GrayMixerRed | -10 |
GrayMixerYellow | -5 |
GreenHue | 0 |
GreenSaturation | 0 |
HasCrop | True |
HasSettings | True |
HighlightRecovery | 69 |
HyperfocalDistance | 17.97 m |
ImageHeight | 884 |
ImageNumber | 8909 |
ImageSize | 1326x884 |
ImageWidth | 1326 |
ISO | 200 |
Keywords | Milano |
Lens | 60.0 mm f/2.8 |
LensInfo | 60mm f/2.8 |
LightSource | Unknown |
LightValue | 13.0 |
LuminanceSmoothing | 0 |
Make | NIKON CORPORATION |
Marked | True |
MaxApertureValue | 3.6 |
Megapixels | 1.2 |
MeteringMode | Multi-segment |
Model | NIKON D90 |
ModifyDate (1) | 2009:08:25 22:37:30+02:00 |
ModifyDate | 2009:08:25 22:37:30 |
ParametricDarks | -17 |
ParametricHighlights | 0 |
ParametricHighlightSplit | 75 |
ParametricLights | +28 |
ParametricMidtoneSplit | 50 |
ParametricShadows | 0 |
ParametricShadowSplit | 25 |
PostCropVignetteAmount | -33 |
PostCropVignetteFeather | 50 |
PostCropVignetteMidpoint | 25 |
PostCropVignetteRoundness | 0 |
ProfileDescription | sRGB IEC61966-2.1 |
RedHue | 0 |
RedSaturation | 0 |
Rights | Joan Lu Fiksdal |
Saturation | Normal |
ScaleFactor35efl | 1.5 |
SceneCaptureType | Standard |
SceneType | Directly photographed |
SensingMethod | One-chip color area |
SerialNumber | 6056899 |
Shadows | 5 |
ShadowTint | 0 |
SharpenDetail | 61 |
SharpenEdgeMasking | 6 |
SharpenRadius | +1.3 |
Sharpness (2) | 50 |
Sharpness | Normal |
ShutterSpeed | 1/160 |
ShutterSpeedValue | 1/160 |
Software | Ver.1.00 |
SplitToningBalance | 0 |
SplitToningHighlightHue | 52 |
SplitToningHighlightSaturation | 64 |
SplitToningShadowHue | 37 |
SplitToningShadowSaturation | 22 |
Subject | Milano |
SubjectDistanceRange | Unknown |
Tint | -43 |
ToneCurve | 0, 0, 32, 22, 64, 56, 128, 128, 192, 196, 255, 255 |
ToneCurveName | Medium Contrast |
Version | 5.2 |
VignetteAmount | -48 |
VignetteMidpoint | 24 |
WhiteBalance (2) | Custom |
WhiteBalance | Auto |