Felt | Verdi |
AlreadyApplied | True |
Aperture | 8.0 |
ApertureValue | 8.0 |
Artist | Eric Fagerheim |
AuthorsPosition | photographer |
BitsPerSample | 8 |
BlueHue | +11 |
BlueSaturation | -21 |
Brightness | +36 |
By-line | Eric Fagerheim |
By-lineTitle | photographer |
CameraProfile | Embedded |
Caption-Abstract | Eric Fagerheim |
ChromaticAberrationB | 0 |
ChromaticAberrationR | 0 |
CircleOfConfusion | 0.020 mm |
Clarity | 0 |
ColorComponents | 3 |
ColorNoiseReduction | 0 |
ColorSpace | sRGB |
Contrast (2) | +32 |
Contrast | Normal |
ConvertToGrayscale | True |
Copyright | Eric Fagerheim |
CopyrightFlag | True |
CopyrightNotice | Eric Fagerheim |
CreateDate (1) | 2009:12:13 16:41:11+01:00 |
CreateDate | 2009:12:13 16:41:11 |
Creator | Eric Fagerheim |
CreatorCity | Trondheim |
CreatorCountry | Norway |
CreatorTool | Adobe Photoshop Lightroom |
CreatorWorkTelephone | +92440401 |
CreatorWorkURL | http://www.fotofashon.no |
CropAngle | 0 |
CropBottom | 1 |
CropHeight | 800 |
CropLeft | 0 |
CropRight | 1 |
CropTop | 0.173028 |
CropUnit | pixels |
CropWidth | 684 |
CustomRendered | Normal |
DateTimeDigitized | 2009:12:13 16:41:11+01:00 |
DateTimeOriginal (1) | 2009:12:13 16:41:11+01:00 |
DateTimeOriginal | 2009:12:13 16:41:11 |
Defringe | 0 |
Description | Eric Fagerheim |
ExifImageHeight | 800 |
ExifImageWidth | 684 |
Exposure | -0.86 |
ExposureCompensation | -1/2 |
ExposureMode | Manual |
ExposureProgram | Manual |
ExposureTime | 1/125 |
FillLight | 0 |
Flash | Off, Did not fire |
FlashFired | False |
FlashFunction | False |
FlashMode | Off |
FlashRedEyeMode | False |
FlashReturn | No return detection |
FNumber | 8.0 |
FocalLength | 103.0 mm |
FocalLength35efl | 103.0 mm (35 mm equivalent: 154.0 mm) |
FocalLengthIn35mmFormat | 154 mm |
Format | application/vnd.adobe.photoshop |
FOV | 13.3 deg |
GrayMixerAqua | -10 |
GrayMixerBlue | +19 |
GrayMixerGreen | -9 |
GrayMixerMagenta | +30 |
GrayMixerOrange | +2 |
GrayMixerPurple | +25 |
GrayMixerRed | -40 |
GrayMixerYellow | +9 |
GreenHue | +16 |
GreenSaturation | +51 |
HasCrop | True |
HasSettings | True |
HighlightRecovery | 0 |
HyperfocalDistance | 65.99 m |
ImageDescription | Eric Fagerheim |
ImageHeight | 800 |
ImageSize | 684x800 |
ImageWidth | 684 |
IncrementalTemperature | 0 |
IncrementalTint | 0 |
ISO | 100 |
Keywords | akt, avant garde, baby, barn, beauty, bilde, bilder, bryllup, eileen k røst, eric fagerheim, fashion, flink fotograf, foto, fotofashion, fotograf trondheim, glamour, konfirmasjon, lokasjon, modell, prortrett, studio, topp fotograf, trondheim, ute |
Label | fotofashion |
Lens | smc PENTAX-DA* 50-135mm F2.8 ED [IF] SDM |
LensID (1) | 8 241 |
LensID | smc PENTAX-DA* 50-135mm F2.8 ED [IF] SDM |
LensInfo | 50-135mm f/2.8 |
LightValue | 13.0 |
LuminanceSmoothing | 0 |
Make | PENTAX |
Marked | True |
Megapixels | 0.547 |
MeteringMode | Center-weighted average |
Model | PENTAX K20D |
ModifyDate (1) | 2010:01:17 16:26:51+01:00 |
ModifyDate | 2010:01:17 16:26:51 |
ParametricDarks | -10 |
ParametricHighlights | 0 |
ParametricHighlightSplit | 75 |
ParametricLights | 0 |
ParametricMidtoneSplit | 50 |
ParametricShadows | -10 |
ParametricShadowSplit | 25 |
PostCropVignetteAmount | 0 |
ProfileDescription | sRGB IEC61966-2.1 |
Rating | 1 |
RedHue | +23 |
RedSaturation | +10 |
Rights | Eric Fagerheim |
Saturation | Normal |
ScaleFactor35efl | 1.5 |
SceneCaptureType | Standard |
SensingMethod | One-chip color area |
Shadows | 0 |
ShadowTint | +4 |
SharpenDetail | 25 |
SharpenEdgeMasking | 0 |
SharpenRadius | +1.0 |
Sharpness (2) | 25 |
Sharpness | Normal |
ShutterSpeed | 1/125 |
ShutterSpeedValue | 1/125 |
Software | Adobe Photoshop Lightroom |
SplitToningBalance | 0 |
SplitToningHighlightHue | 11 |
SplitToningHighlightSaturation | 1 |
SplitToningShadowHue | 353 |
SplitToningShadowSaturation | 6 |
Subject | akt, avant garde, baby, barn, beauty, bilde, bilder, bryllup, eileen k røst, eric fagerheim, fashion, flink fotograf, foto, fotofashion, fotograf trondheim, glamour, konfirmasjon, lokasjon, modell, prortrett, studio, topp fotograf, trondheim, ute |
SubjectDistanceRange | Close |
ToneCurve | 0, 0, 255, 255 |
ToneCurveName | Linear |
URL | http://www.fotofashion.no |
Version | 5.4 |
VignetteAmount | -100 |
VignetteMidpoint | 40 |
WebStatement | http://www.fotofashion.no |
WhiteBalance (2) | As Shot |
WhiteBalance | Auto |