Felt | Verdi |
AlreadyApplied | True |
Aperture | 11.0 |
ApertureValue | 11.0 |
Artist | Christer Hansen Eriksen |
BitsPerSample | 8 |
BlueHue | 0 |
BlueSaturation | 0 |
Brightness | +50 |
By-line | Christer Hansen Eriksen |
CameraProfile | Adobe Standard |
Caption-Abstract | I've recently gotten interested in film photography and have therefore bought some equipment and built a small darkroom for developing the B&W film (no printing, yet). Already I can clearly see that this is something I like. The whole analog-thing brings a very good and pure feeling of satisfaction when things goes as planned (or even not). It's really peaceful and simple, yet sophisticated! |
ChromaticAberrationB | 0 |
ChromaticAberrationR | 0 |
CircleOfConfusion | 0.019 mm |
Clarity | +21 |
ColorComponents | 3 |
ColorNoiseReduction | 25 |
ColorTemperature | 5050 |
Contrast | +25 |
ConvertToGrayscale | False |
Copyright | Chreriksen |
CopyrightFlag | True |
CopyrightNotice | Chreriksen |
CreateDate (1) | 2010:02:24 13:39:54.03+01:00 |
CreateDate | 2010:02:24 13:39:54 |
Creator | Christer Hansen Eriksen |
CreatorTool | Adobe Photoshop Lightroom |
CreatorWorkEmail | chreriksen@me.com |
CreatorWorkURL | flickr.com/chreriksen |
CropAngle | 0.589138 |
CropBottom | 0.939707 |
CropHeight | 2482 |
CropLeft | 0.071664 |
CropRight | 0.937192 |
CropTop | 0.054763 |
CropUnit | pixels |
CropWidth | 3723 |
CustomRendered | Normal |
DateTimeDigitized | 2010:02:24 13:39:54.03+01:00 |
DateTimeOriginal (1) | 2010:02:24 13:39:54.03+01:00 |
DateTimeOriginal | 2010:02:24 13:39:54 |
Defringe | 0 |
Description | I've recently gotten interested in film photography and have therefore bought some equipment and built a small darkroom for developing the B&W film (no printing, yet). Already I can clearly see that this is something I like. The whole analog-thing brings a very good and pure feeling of satisfaction when things goes as planned (or even not). It's really peaceful and simple, yet sophisticated! |
DOF | 0.08 m (0.28 - 0.35 m) |
ExifImageHeight | 2482 |
ExifImageWidth | 3723 |
Exposure | +0.17 |
ExposureCompensation | 0 |
ExposureMode | Auto |
ExposureProgram | Aperture-priority AE |
ExposureTime | 1/30 |
FillLight | 26 |
Firmware | 1.1.0 |
Flash | Off, Did not fire |
FlashCompensation | 0 |
FlashFired | False |
FlashFunction | False |
FlashMode | Off |
FlashRedEyeMode | False |
FlashReturn | No return detection |
FNumber | 11.0 |
FocalLength | 22.0 mm |
FocalLength35efl | 22.0 mm (35 mm equivalent: 35.5 mm) |
FOV | 53.7 deg |
GreenHue | 0 |
GreenSaturation | 0 |
HasCrop | True |
HasSettings | True |
HierarchicalSubject | 135, 35 mm, Analog, Film, Product, Studio, Vintage, camera |
HighlightRecovery | 0 |
HueAdjustmentAqua | 0 |
HueAdjustmentBlue | 0 |
HueAdjustmentGreen | 0 |
HueAdjustmentMagenta | 0 |
HueAdjustmentOrange | 0 |
HueAdjustmentPurple | 0 |
HueAdjustmentRed | 0 |
HueAdjustmentYellow | 0 |
HyperfocalDistance | 2.37 m |
ImageDescription | I've recently gotten interested in film photography and have therefore bought some equipment and built a small darkroom for developing the B&W film (no printing, yet). Already I can clearly see that this is something I like. The whole analog-thing brings a very good and pure feeling of satisfaction when things goes as planned (or even not). It's really peaceful and simple, yet sophisticated! |
ImageHeight | 2482 |
ImageNumber | 0 |
ImageSize | 3723x2482 |
ImageWidth | 3723 |
ISO | 100 |
Keywords | 135, 35 mm, Analog, Film, Product, Studio, Vintage, camera |
Lens | EF-S10-22mm f/3.5-4.5 USM |
LensID (1) | 235 |
LensID | Canon EF-S 10-22mm f/3.5-4.5 USM |
LensInfo | 10-22mm f/? |
LightValue | 11.8 |
LuminanceAdjustmentAqua | 0 |
LuminanceAdjustmentBlue | 0 |
LuminanceAdjustmentGreen | 0 |
LuminanceAdjustmentMagenta | 0 |
LuminanceAdjustmentOrange | 0 |
LuminanceAdjustmentPurple | 0 |
LuminanceAdjustmentRed | 0 |
LuminanceAdjustmentYellow | 0 |
LuminanceSmoothing | 0 |
Make | Canon |
Marked | True |
MaxApertureValue | 4.6 |
Megapixels | 9.2 |
MeteringMode | Multi-segment |
Model | Canon EOS 450D |
ModifyDate (1) | 2010:02:24 15:19:25+01:00 |
ModifyDate | 2010:02:24 15:19:25 |
ObjectName | Adox Polomat 1S |
OwnerName | Christer Hansen Eriksen |
ParametricDarks | 0 |
ParametricHighlights | 0 |
ParametricHighlightSplit | 75 |
ParametricLights | 0 |
ParametricMidtoneSplit | 50 |
ParametricShadows | 0 |
ParametricShadowSplit | 25 |
PostCropVignetteAmount | 0 |
ProfileDescription | sRGB IEC61966-2.1 |
RedHue | 0 |
RedSaturation | 0 |
Rights | Chreriksen |
Saturation | 0 |
SaturationAdjustmentAqua | 0 |
SaturationAdjustmentBlue | 0 |
SaturationAdjustmentGreen | 0 |
SaturationAdjustmentMagenta | 0 |
SaturationAdjustmentOrange | 0 |
SaturationAdjustmentPurple | 0 |
SaturationAdjustmentRed | 0 |
SaturationAdjustmentYellow | 0 |
ScaleFactor35efl | 1.6 |
SceneCaptureType | Standard |
SerialNumber | 1380330704 |
Shadows | 5 |
ShadowTint | 0 |
SharpenDetail | 25 |
SharpenEdgeMasking | 0 |
SharpenRadius | +1.0 |
Sharpness | 25 |
ShutterSpeed | 1/30 |
ShutterSpeedValue | 1/30 |
SplitToningBalance | 0 |
SplitToningHighlightHue | 0 |
SplitToningHighlightSaturation | 0 |
SplitToningShadowHue | 0 |
SplitToningShadowSaturation | 0 |
Subject | 135, 35 mm, Analog, Film, Product, Studio, Vintage, camera |
SubjectDistance | 0.31 m |
Tint | +25 |
Title | Adox Polomat 1S |
ToneCurve | 0, 0, 32, 22, 64, 56, 128, 128, 192, 196, 255, 255 |
ToneCurveName | Medium Contrast |
Version | 5.6 |
Vibrance | 0 |
VignetteAmount | 0 |
WhiteBalance (2) | As Shot |
WhiteBalance | Auto |