Felt | Verdi |
AlreadyApplied | True |
Aperture | 8.0 |
ApertureValue | 8.0 |
Artist | Arne S Hoset |
BitsPerSample | 8 |
BlueHue | 0 |
BlueSaturation | 0 |
Brightness | 0 |
By-line | Arne S Hoset |
CameraProfile | Adobe Standard |
CFAPattern | [Red,Green][Green,Blue] |
ChromaticAberrationB | 0 |
ChromaticAberrationR | 0 |
CircleOfConfusion | 0.020 mm |
Clarity | +52 |
ColorComponents | 3 |
ColorNoiseReduction | 25 |
ColorTemperature | 4439 |
Contrast (2) | +50 |
Contrast | Normal |
ConvertToGrayscale | False |
Copyright | Arne S Hoset |
CopyrightFlag | True |
CopyrightNotice | Arne S Hoset |
CreateDate (1) | 2010:03:28 11:49:00.34+02:00 |
CreateDate | 2010:03:28 11:49:00 |
Creator | Arne S Hoset |
CreatorCountry | Norway |
CreatorTool | Adobe Photoshop Lightroom |
CreatorWorkEmail | arne@vaarslepp.net |
CreatorWorkTelephone | +47 45428993 |
CreatorWorkURL | www.vaarslepp.net |
CropAngle | 0 |
CropBottom | 0.824874 |
CropHeight | 664 |
CropLeft | 0.12226 |
CropRight | 0.868453 |
CropTop | 0.078681 |
CropUnit | pixels |
CropWidth | 1000 |
CustomRendered | Normal |
DateTimeDigitized | 2010:03:28 11:49:00.34+02:00 |
DateTimeOriginal (1) | 2010:03:28 11:49:00.34+02:00 |
DateTimeOriginal | 2010:03:28 11:49:00 |
Defringe | 0 |
DigitalZoomRatio | 1 |
DOF | 0.79 m (24.71 - 25.50 m) |
ExifImageHeight | 664 |
ExifImageWidth | 1000 |
Exposure | +0.35 |
ExposureCompensation | 0 |
ExposureMode | Auto |
ExposureProgram | Aperture-priority AE |
ExposureTime | 1/400 |
FillLight | 0 |
Flash | No Flash |
FlashFired | False |
FlashFunction | False |
FlashMode | Unknown |
FlashRedEyeMode | False |
FlashReturn | No return detection |
FNumber | 8.0 |
FocalLength | 500.0 mm |
FocalLength35efl | 500.0 mm (35 mm equivalent: 750.0 mm) |
FocalLengthIn35mmFormat | 750 mm |
FOV | 2.7 deg |
GainControl | None |
GPSAltitude (2) | 13.04 m |
GPSAltitude | 13 m Above Sea Level |
GPSAltitudeRef | Above Sea Level |
GPSDateStamp | 2010:03:28 |
GPSDateTime | 2010:03:28 10:49:00Z |
GPSLatitude (2) | 63 deg 25' 41.75" |
GPSLatitude | 63 deg 25' 41.75" N |
GPSLatitudeRef | North |
GPSLongitude (1) | 10 deg 22' 39.40" E |
GPSLongitude (2) | 10 deg 22' 39.39" |
GPSLongitude | 10 deg 22' 39.39" E |
GPSLongitudeRef | East |
GPSMapDatum | WGS-84 |
GPSPosition | 63 deg 25' 41.75" N, 10 deg 22' 39.39" E |
GPSSatellites | 0 |
GPSSpeed | 1.33344 |
GPSSpeedRef | km/h |
GPSTimeStamp | 10:49:00 |
GPSVersionID | 2.2.0.0 |
GreenHue | 0 |
GreenSaturation | 0 |
HasCrop | True |
HasSettings | True |
HighlightRecovery | 0 |
HueAdjustmentAqua | 0 |
HueAdjustmentBlue | 0 |
HueAdjustmentGreen | 0 |
HueAdjustmentMagenta | 0 |
HueAdjustmentOrange | 0 |
HueAdjustmentPurple | 0 |
HueAdjustmentRed | 0 |
HueAdjustmentYellow | 0 |
HyperfocalDistance | 1560.09 m |
ImageHeight | 664 |
ImageNumber | 4681 |
ImageSize | 1000x664 |
ImageWidth | 1000 |
ISO | 200 |
Lens | 50.0-500.0 mm f/4.0-6.3 |
LensID (1) | 72 |
LensID | Sigma 50-500mm F4-6.3 EX APO RF HSM |
LensInfo | 50-500mm f/4-6.3 |
LightSource | Unknown |
LightValue | 13.6 |
LuminanceAdjustmentAqua | 0 |
LuminanceAdjustmentBlue | 0 |
LuminanceAdjustmentGreen | 0 |
LuminanceAdjustmentMagenta | 0 |
LuminanceAdjustmentOrange | 0 |
LuminanceAdjustmentPurple | 0 |
LuminanceAdjustmentRed | 0 |
LuminanceAdjustmentYellow | 0 |
LuminanceSmoothing | 0 |
Make | NIKON CORPORATION |
Marked | True |
MaxApertureValue | 6.3 |
Megapixels | 0.664 |
MeteringMode | Multi-segment |
Model | NIKON D300S |
ModifyDate (1) | 2010:04:03 12:28:17+02:00 |
ModifyDate | 2010:04:03 12:28:17 |
ParametricDarks | 0 |
ParametricHighlights | 0 |
ParametricHighlightSplit | 75 |
ParametricLights | 0 |
ParametricMidtoneSplit | 50 |
ParametricShadows | 0 |
ParametricShadowSplit | 25 |
PostCropVignetteAmount | 0 |
ProfileDescription | Adobe RGB (1998) |
Rating | 3 |
RedHue | 0 |
RedSaturation | 0 |
Rights | Arne S Hoset |
Saturation (2) | +7 |
Saturation | Normal |
SaturationAdjustmentAqua | 0 |
SaturationAdjustmentBlue | 0 |
SaturationAdjustmentGreen | 0 |
SaturationAdjustmentMagenta | 0 |
SaturationAdjustmentOrange | 0 |
SaturationAdjustmentPurple | 0 |
SaturationAdjustmentRed | 0 |
SaturationAdjustmentYellow | 0 |
ScaleFactor35efl | 1.5 |
SceneCaptureType | Standard |
SceneType | Directly photographed |
SensingMethod | One-chip color area |
SerialNumber | 6035439 |
Shadows | 12 |
ShadowTint | 0 |
SharpenDetail | 25 |
SharpenEdgeMasking | 0 |
SharpenRadius | +1.0 |
Sharpness (2) | 25 |
Sharpness | Normal |
ShutterSpeed | 1/400 |
ShutterSpeedValue | 1/400 |
Software | Ver.1.01 |
SplitToningBalance | 0 |
SplitToningHighlightHue | 0 |
SplitToningHighlightSaturation | 0 |
SplitToningShadowHue | 0 |
SplitToningShadowSaturation | 0 |
SubjectDistance | 25.1 m |
SubjectDistanceRange | Unknown |
Tint | -1 |
ToneCurve | 0, 0, 32, 22, 64, 56, 128, 128, 192, 196, 255, 255 |
ToneCurveName | Medium Contrast |
UsageTerms | All Rights Reserved |
Version | 5.6 |
Vibrance | +17 |
VignetteAmount | 0 |
WhiteBalance (2) | Custom |
WhiteBalance | Auto |