Felt | Verdi |
AlreadyApplied | True |
Aperture | 8.0 |
ApertureValue | 8.0 |
BitsPerSample | 8 |
BlueHue | 0 |
BlueSaturation | 0 |
Brightness | +36 |
By-line | Håkon Steinsvik 9151 Storslett |
CameraProfile | Adobe Standard |
CFAPattern | [Green,Blue][Red,Green] |
ChromaticAberrationB | 0 |
ChromaticAberrationR | 0 |
CircleOfConfusion | 0.020 mm |
Clarity | +33 |
ColorComponents | 3 |
ColorNoiseReduction | 25 |
ColorNoiseReductionDetail | 50 |
ColorTemperature | 6400 |
Contrast (2) | +25 |
Contrast | Normal |
ConvertToGrayscale | False |
Copyright | Hakon Steinsvik 9151 Storslett |
CopyrightNotice | Håkon Steinsvik 9151 Storslett |
CreateDate (1) | 2010:04:04 13:06:58.90+02:00 |
CreateDate | 2010:04:04 13:06:58 |
Creator | Håkon Steinsvik 9151 Storslett |
CreatorTool | Adobe Photoshop Lightroom |
CropAngle | 0 |
CropBottom | 0.595169 |
CropHeight | 971 |
CropLeft | 0.389194 |
CropRight | 0.720852 |
CropTop | 0.113903 |
CropUnit | pixels |
CropWidth | 1000 |
CustomRendered | Normal |
DateTimeDigitized | 2010:04:04 13:06:58.90+02:00 |
DateTimeOriginal (1) | 2010:04:04 13:06:58.90+02:00 |
DateTimeOriginal | 2010:04:04 13:06:58 |
Defringe | 0 |
DigitalZoomRatio | 1 |
DOF | inf (249.62 m - inf) |
ExifImageHeight | 971 |
ExifImageWidth | 1000 |
Exposure | +0.48 |
ExposureCompensation | +1/3 |
ExposureMode | Auto |
ExposureProgram | Aperture-priority AE |
ExposureTime | 1/1000 |
FillLight | 0 |
Flash | No Flash |
FlashFired | False |
FlashFunction | False |
FlashMode | Unknown |
FlashRedEyeMode | False |
FlashReturn | No return detection |
FNumber | 8.0 |
FocalLength | 200.0 mm |
FocalLength35efl | 200.0 mm (35 mm equivalent: 300.0 mm) |
FocalLengthIn35mmFormat | 300 mm |
FOV | 6.9 deg |
GainControl | None |
GrainAmount | 0 |
GreenHue | 0 |
GreenSaturation | 0 |
HasCrop | True |
HasSettings | True |
HighlightRecovery | 0 |
HueAdjustmentAqua | 0 |
HueAdjustmentBlue | 0 |
HueAdjustmentGreen | 0 |
HueAdjustmentMagenta | 0 |
HueAdjustmentOrange | 0 |
HueAdjustmentPurple | 0 |
HueAdjustmentRed | 0 |
HueAdjustmentYellow | 0 |
HyperfocalDistance | 249.62 m |
ImageHeight | 971 |
ImageNumber | 49542 |
ImageSize | 1000x971 |
ImageWidth | 1000 |
ISO | 320 |
Lens | 55.0-200.0 mm f/4.0-5.6 |
LensID (1) | 144 |
LensID | AF-S DX VR Zoom-Nikkor 55-200mm f/4-5.6G IF-ED |
LensInfo | 55-200mm f/4-5.6 |
LightSource | Unknown |
LightValue | 14.3 |
LuminanceAdjustmentAqua | 0 |
LuminanceAdjustmentBlue | 0 |
LuminanceAdjustmentGreen | 0 |
LuminanceAdjustmentMagenta | 0 |
LuminanceAdjustmentOrange | 0 |
LuminanceAdjustmentPurple | 0 |
LuminanceAdjustmentRed | 0 |
LuminanceAdjustmentYellow | 0 |
Make | NIKON CORPORATION |
MaxApertureValue | 5.7 |
Megapixels | 0.971 |
MeteringMode | Multi-segment |
Model | NIKON D80 |
ModifyDate (1) | 2010:04:04 23:33:14+02:00 |
ModifyDate | 2010:04:04 23:33:14 |
NoiseReductionContrast | 0 |
ParametricDarks | 0 |
ParametricHighlights | 0 |
ParametricHighlightSplit | 75 |
ParametricLights | 0 |
ParametricMidtoneSplit | 50 |
ParametricShadows | 0 |
ParametricShadowSplit | 25 |
PostCropVignetteAmount | 0 |
ProfileDescription | sRGB IEC61966-2.1 |
RedHue | 0 |
RedSaturation | 0 |
RenderVersion | 5.7 |
Rights | Håkon Steinsvik 9151 Storslett |
Saturation (2) | 0 |
Saturation | Normal |
SaturationAdjustmentAqua | 0 |
SaturationAdjustmentBlue | 0 |
SaturationAdjustmentGreen | 0 |
SaturationAdjustmentMagenta | 0 |
SaturationAdjustmentOrange | 0 |
SaturationAdjustmentPurple | 0 |
SaturationAdjustmentRed | 0 |
SaturationAdjustmentYellow | 0 |
ScaleFactor35efl | 1.5 |
SceneCaptureType | Standard |
SceneType | Directly photographed |
SensingMethod | One-chip color area |
SerialNumber | 4062811 |
Shadows | 5 |
ShadowTint | 0 |
SharpenDetail | 25 |
SharpenEdgeMasking | 0 |
SharpenRadius | +1.0 |
Sharpness (2) | 50 |
Sharpness | Soft |
ShutterSpeed | 1/1000 |
ShutterSpeedValue | 1/1000 |
Software | Ver.1.10 |
SplitToningBalance | 0 |
SplitToningHighlightHue | 0 |
SplitToningHighlightSaturation | 0 |
SplitToningShadowHue | 0 |
SplitToningShadowSaturation | 0 |
SubjectDistance | 4294967295 m |
SubjectDistanceRange | Unknown |
Tint | 0 |
ToneCurve | 0, 0, 32, 22, 64, 56, 128, 128, 192, 196, 255, 255 |
ToneCurveName | Medium Contrast |
UserComment | Espen Andre Steinsvik tlf:47676149 |
Version | 6.0 |
Vibrance | +5 |
VignetteAmount | 0 |
WhiteBalance (2) | Auto |
WhiteBalance | Manual |