Felt | Verdi |
AlreadyApplied | True |
Aperture | 1.8 |
ApertureValue | 1.8 |
BitsPerSample | 8 |
BlueHue | 0 |
BlueSaturation | 0 |
Brightness | 0 |
CameraProfile | Embedded |
ChromaticAberrationB | 0 |
ChromaticAberrationR | 0 |
CircleOfConfusion | 0.019 mm |
Clarity | 0 |
ColorComponents | 3 |
ColorMode | RGB |
ColorNoiseReduction | 0 |
ColorSpace | Uncalibrated |
Contrast | 0 |
ConvertToGrayscale | False |
CreateDate (1) | 2010:09:29 19:24:59.01+02:00 |
CreateDate | 2010:09:29 19:24:59 |
CustomRendered | Normal |
DateCreated (1) | 2010:09:29 |
DateCreated | 2010:09:29 19:24:59.001 |
DateTimeOriginal | 2010:09:29 19:24:59 |
Defringe | 0 |
ExifImageHeight | 5184 |
ExifImageWidth | 3456 |
Exposure | 0.00 |
ExposureCompensation | 0 |
ExposureMode | Manual |
ExposureProgram | Manual |
ExposureTime | 1/80 |
FillLight | 22 |
Firmware | 1.1.0 |
Flash | Off, Did not fire |
FlashCompensation | 0 |
FNumber | 1.8 |
FocalLength | 50.0 mm |
FocalLength35efl | 50.0 mm (35 mm equivalent: 78.5 mm) |
Format | image/jpeg |
FOV | 25.8 deg |
GrainAmount | 0 |
GreenHue | 0 |
GreenSaturation | 0 |
HasCrop | False |
HasSettings | True |
HighlightRecovery | 0 |
HueAdjustmentAqua | 0 |
HueAdjustmentBlue | 0 |
HueAdjustmentGreen | 0 |
HueAdjustmentMagenta | 0 |
HueAdjustmentOrange | 0 |
HueAdjustmentPurple | 0 |
HueAdjustmentRed | 0 |
HueAdjustmentYellow | 0 |
HyperfocalDistance | 72.59 m |
ICCProfileName | Adobe RGB (1998) |
ImageHeight | 5184 |
ImageNumber | 0 |
ImageSize | 3456x5184 |
ImageWidth | 3456 |
IncrementalTemperature | 0 |
IncrementalTint | 0 |
ISO | 1600 |
Lens | EF50mm f/1.8 II |
LensID (1) | 29 |
LensID | Canon EF 50mm f/1.8 II |
LensInfo | 50mm f/? |
LightValue | 4.0 |
LuminanceAdjustmentAqua | 0 |
LuminanceAdjustmentBlue | 0 |
LuminanceAdjustmentGreen | 0 |
LuminanceAdjustmentMagenta | 0 |
LuminanceAdjustmentOrange | 0 |
LuminanceAdjustmentPurple | 0 |
LuminanceAdjustmentRed | 0 |
LuminanceAdjustmentYellow | 0 |
LuminanceSmoothing | 0 |
Make | Canon |
MaxApertureValue | 1.8 |
Megapixels | 17.9 |
MeteringMode | Spot |
Model | Canon EOS 7D |
ModifyDate (1) | 2010:09:29 22:18:18+02:00 |
ModifyDate | 2010:09:29 22:18:18 |
Orientation | Horizontal (normal) |
ParametricDarks | 0 |
ParametricHighlights | 0 |
ParametricHighlightSplit | 75 |
ParametricLights | 0 |
ParametricMidtoneSplit | 50 |
ParametricShadows | 0 |
ParametricShadowSplit | 25 |
PostCropVignetteAmount | 0 |
ProcessVersion | 5.7 |
ProfileDescription | Adobe RGB (1998) |
Rating | 0 |
RawFileName | IMG_7353.JPG |
RedHue | 0 |
RedSaturation | 0 |
Saturation | -49 |
SaturationAdjustmentAqua | 0 |
SaturationAdjustmentBlue | 0 |
SaturationAdjustmentGreen | 0 |
SaturationAdjustmentMagenta | 0 |
SaturationAdjustmentOrange | 0 |
SaturationAdjustmentPurple | 0 |
SaturationAdjustmentRed | 0 |
SaturationAdjustmentYellow | 0 |
ScaleFactor35efl | 1.6 |
SceneCaptureType | Standard |
SerialNumber | 480408750 |
Shadows | 7 |
ShadowTint | 0 |
SharpenDetail | 25 |
SharpenEdgeMasking | 0 |
SharpenRadius | +1.0 |
Sharpness | 0 |
ShutterSpeed | 1/80 |
ShutterSpeedValue | 1/80 |
Software | Adobe Photoshop CS5 Macintosh |
SplitToningBalance | 0 |
SplitToningHighlightHue | 0 |
SplitToningHighlightSaturation | 0 |
SplitToningShadowHue | 0 |
SplitToningShadowSaturation | 0 |
ToneCurve | 0, 0, 255, 255 |
ToneCurveName | Linear |
URL_List | |
Version | 6.0 |
Vibrance | 0 |
VignetteAmount | 0 |
WhiteBalance (1) | As Shot |
WhiteBalance | Auto |