Felt | Verdi |
AlreadyApplied | True |
Artist | Alexander Evensen |
BitsPerSample (1) | 8, 8, 8 |
BitsPerSample | 8 |
BlueHue | 0 |
BlueSaturation | 0 |
Brightness | 0 |
By-line | Alexander Evensen |
CameraProfile | Embedded |
Caption-Abstract | Oktoberfest 2010 - Dag 3 |
ChromaticAberrationB | 0 |
ChromaticAberrationR | 0 |
City | Alta |
Clarity | 0 |
ColorComponents | 3 |
ColorMode | RGB |
ColorNoiseReduction | 0 |
ColorSpace | sRGB |
ColorTemperature | 13500 |
Contrast (1) | +25 |
Contrast | Normal |
ConvertToGrayscale | False |
Copyright | Alexander Evensen |
CopyrightNotice | Alexander Evensen |
Country | Norway |
Country-PrimaryLocationName | Norway |
CreateDate (1) | 2010:10:03 14:51:11+02:00 |
CreateDate | 2010:10:03 14:51:11 |
Creator | Alexander Evensen |
CreatorAddress | Altaveien 226 |
CreatorCity | Alta |
CreatorCountry | Norway |
CreatorPostalCode | 9515 |
CreatorRegion | Finnmark |
CreatorTool | K-x Ver 1.01 |
CreatorWorkEmail | alexander.evensen@gmail.com |
CreatorWorkTelephone | +4747231808 |
CreatorWorkURL | http://netrex.deviantart.com/ |
CustomRendered | Normal |
DateCreated (1) | 2010:10:03 |
DateCreated | 2010:10:03 14:51:11 |
DateTimeDigitized | 2010:10:03 14:51:11+02:00 |
DateTimeOriginal (1) | 2010:10:03 14:51:11+02:00 |
DateTimeOriginal | 2010:10:03 14:51:11 |
Defringe | 0 |
Description | Oktoberfest 2010 - Dag 3 |
ExifImageHeight | 768 |
ExifImageWidth | 510 |
Exposure | -0.20 |
ExposureCompensation | 0 |
ExposureMode | Manual |
ExposureProgram | Manual |
ExposureTime | 1/640 |
FillLight | 0 |
Flash | Off, Did not fire |
FlashFired | False |
FlashFunction | False |
FlashMode | Off |
FlashRedEyeMode | False |
FlashReturn | No return detection |
Format | image/jpeg |
GrainAmount | 0 |
GreenHue | 0 |
GreenSaturation | 0 |
HasCrop | False |
HasSettings | True |
HighlightRecovery | 0 |
HueAdjustmentAqua | 0 |
HueAdjustmentBlue | 0 |
HueAdjustmentGreen | 0 |
HueAdjustmentMagenta | 0 |
HueAdjustmentOrange | 0 |
HueAdjustmentPurple | 0 |
HueAdjustmentRed | 0 |
HueAdjustmentYellow | 0 |
ICCProfileName | sRGB IEC61966-2.1 |
ImageHeight | 768 |
ImageSize | 510x768 |
ImageWidth | 510 |
ISO | 800 |
Keywords | oktoberfest 2010, diskusjon.no, Vivitar Tele 200mm f/3.5 Preset, geitrams, høst, Rosebay Willowherb, Fireweed, fall, autumn |
LensID (1) | 0 0 |
LensID | M-42 or No Lens |
LensManualDistortionAmount | 0 |
LensProfileEnable | 0 |
LensProfileSetup | LensDefaults |
Location | Elvebakken |
LuminanceAdjustmentAqua | 0 |
LuminanceAdjustmentBlue | 0 |
LuminanceAdjustmentGreen | 0 |
LuminanceAdjustmentMagenta | 0 |
LuminanceAdjustmentOrange | 0 |
LuminanceAdjustmentPurple | 0 |
LuminanceAdjustmentRed | 0 |
LuminanceAdjustmentYellow | 0 |
LuminanceSmoothing | 0 |
Make | PENTAX |
Megapixels | 0.392 |
MeteringMode | Center-weighted average |
Model | PENTAX K-x |
ModifyDate (1) | 2010:10:03 16:53:35+02:00 |
ModifyDate | 2010:10:03 16:53:35 |
Orientation | Horizontal (normal) |
ParametricDarks | 0 |
ParametricHighlights | 0 |
ParametricHighlightSplit | 75 |
ParametricLights | 0 |
ParametricMidtoneSplit | 50 |
ParametricShadows | 0 |
ParametricShadowSplit | 25 |
PerspectiveHorizontal | 0 |
PerspectiveRotate | 0.0 |
PerspectiveScale | 100 |
PerspectiveVertical | 0 |
PhotometricInterpretation | RGB |
PostCropVignetteAmount | 0 |
ProcessVersion | 5.7 |
ProfileDescription | sRGB IEC61966-2.1 |
Province-State | Finnmark |
Rating | 0 |
RawFileName | _IGP1461.DNG |
RedHue | 0 |
RedSaturation | 0 |
Rights | Alexander Evensen |
SamplesPerPixel | 3 |
Saturation (1) | 0 |
Saturation | Normal |
SaturationAdjustmentAqua | 0 |
SaturationAdjustmentBlue | 0 |
SaturationAdjustmentGreen | 0 |
SaturationAdjustmentMagenta | 0 |
SaturationAdjustmentOrange | 0 |
SaturationAdjustmentPurple | 0 |
SaturationAdjustmentRed | 0 |
SaturationAdjustmentYellow | 0 |
SceneCaptureType | Standard |
SensingMethod | One-chip color area |
SensitivityType | Unknown |
Shadows | 19 |
ShadowTint | 0 |
SharpenDetail | 25 |
SharpenEdgeMasking | 0 |
SharpenRadius | +1.0 |
Sharpness (1) | 0 |
Sharpness | Normal |
ShutterSpeed | 1/640 |
ShutterSpeedValue | 1/640 |
Software | Adobe Photoshop CS5 Windows |
SplitToningBalance | 0 |
SplitToningHighlightHue | 0 |
SplitToningHighlightSaturation | 0 |
SplitToningShadowHue | 0 |
SplitToningShadowSaturation | 0 |
State | Finnmark |
Sub-location | Elvebakken |
Subject | oktoberfest 2010, diskusjon.no, Vivitar Tele 200mm f/3.5 Preset, geitrams, høst, Rosebay Willowherb, Fireweed, fall, autumn |
SubjectDistanceRange | Unknown |
Tint | +13 |
ToneCurve | 0, 0, 22, 11, 204, 229, 255, 255 |
ToneCurveName | Custom |
URL_List | |
Version | 6.2 |
Vibrance | +22 |
VignetteAmount | 0 |
WhiteBalance (1) | As Shot |
WhiteBalance | Manual |