Felt | Verdi |
AlreadyApplied | True |
Aperture | 14.0 |
ApertureValue | 14.0 |
BitsPerSample | 8 |
BlueHue | 0 |
BlueSaturation | -10 |
Brightness | +11 |
CameraProfile | Embedded |
ChromaticAberrationB | 0 |
ChromaticAberrationR | 0 |
CircleOfConfusion | 0.019 mm |
Clarity | -40 |
ColorComponents | 3 |
ColorNoiseReduction | 0 |
Contrast | +54 |
ConvertToGrayscale | True |
CreateDate (1) | 2010:04:02 13:39:13.03+02:00 |
CreateDate | 2010:04:02 13:39:13 |
CreatorTool | Adobe Photoshop Lightroom |
CustomRendered | Normal |
DateTimeDigitized | 2010:04:02 13:39:13.03+02:00 |
DateTimeOriginal (1) | 2010:04:02 13:39:13.03+02:00 |
DateTimeOriginal | 2010:04:02 13:39:13 |
Defringe | 0 |
ExifImageHeight | 2848 |
ExifImageWidth | 4272 |
Exposure | 0.00 |
ExposureCompensation | -1 |
ExposureMode | Auto |
ExposureProgram | Shutter speed priority AE |
ExposureTime | 1/250 |
FillLight | 45 |
Firmware | 1.1.0 |
Flash | Off, Did not fire |
FlashCompensation | 0 |
FlashFired | False |
FlashFunction | False |
FlashMode | Off |
FlashRedEyeMode | False |
FlashReturn | No return detection |
FNumber | 14.0 |
FocalLength | 300.0 mm |
FocalLength35efl | 300.0 mm (35 mm equivalent: 484.6 mm) |
FOV | 4.3 deg |
GradientBasedCorrActive | true |
GradientBasedCorrAmount | 1.000000 |
GradientBasedCorrBrightness | 0.000000 |
GradientBasedCorrClarity (1) | -0.450000 |
GradientBasedCorrClarity (2) | -0.475000 |
GradientBasedCorrClarity | -0.325000 |
GradientBasedCorrContrast (1) | 0.325000 |
GradientBasedCorrContrast (2) | 0.375000 |
GradientBasedCorrContrast | 0.200000 |
GradientBasedCorrExposure (1) | -0.175000 |
GradientBasedCorrExposure (2) | -0.075000 |
GradientBasedCorrExposure | -0.150000 |
GradientBasedCorrHue | 40.000000 |
GradientBasedCorrMaskFullX (1) | -0.029484 |
GradientBasedCorrMaskFullX (2) | 1.022110 |
GradientBasedCorrMaskFullX | 0.515971 |
GradientBasedCorrMaskFullY (1) | 0.241252 |
GradientBasedCorrMaskFullY (2) | 0.475138 |
GradientBasedCorrMaskFullY | 1.001840 |
GradientBasedCorrMaskValue | 1.000000 |
GradientBasedCorrMaskWhat | Mask/Gradient |
GradientBasedCorrMaskZeroX (1) | 0.395577 |
GradientBasedCorrMaskZeroX (2) | 0.778870 |
GradientBasedCorrMaskZeroX | 0.518428 |
GradientBasedCorrMaskZeroY (1) | 0.259669 |
GradientBasedCorrMaskZeroY (2) | 0.475138 |
GradientBasedCorrMaskZeroY | 0.801105 |
GradientBasedCorrSaturation (3) | 0.000000 |
GradientBasedCorrSaturation | 0.010000 |
GradientBasedCorrSharpness | 0.000000 |
GradientBasedCorrWhat | Correction |
GrayMixerAqua | -19 |
GrayMixerBlue | +10 |
GrayMixerGreen | -23 |
GrayMixerMagenta | +7 |
GrayMixerOrange | -13 |
GrayMixerPurple | +16 |
GrayMixerRed | -4 |
GrayMixerYellow | -16 |
GreenHue | 0 |
GreenSaturation | 0 |
HasCrop | False |
HasSettings | True |
HighlightRecovery | 0 |
HyperfocalDistance | 345.62 m |
ImageHeight | 2848 |
ImageNumber | 0 |
ImageSize | 4272x2848 |
ImageWidth | 4272 |
IncrementalTemperature | 0 |
IncrementalTint | 0 |
ISO | 400 |
Keywords | photoshoot |
Lens | 70-300mm |
LensInfo | 70-300mm f/? |
LightValue | 13.6 |
LuminanceSmoothing | 0 |
Make | Canon |
MaxApertureValue | 5.7 |
Megapixels | 12.2 |
MeteringMode | Multi-segment |
Model | Canon EOS 450D |
ModifyDate (1) | 2010:04:04 23:46:11+02:00 |
ModifyDate | 2010:04:04 23:46:11 |
PaintCorrectionActive | true |
PaintCorrectionAmount | 1.000000 |
PaintCorrectionBrightness | 0.000000 |
PaintCorrectionClarity | 0.770115 |
PaintCorrectionContrast | 0.000000 |
PaintCorrectionExposure | 0.034483 |
PaintCorrectionHue | 240.000000 |
PaintCorrectionMaskCenterWeight | 0.000000 |
PaintCorrectionMaskFlow | 1.000000 |
PaintCorrectionMaskRadius | 0.025846 |
PaintCorrectionMaskValue | 1.000000 |
PaintCorrectionMaskWhat | Mask/Paint |
PaintCorrectionSaturation | 0.000000 |
PaintCorrectionSharpness | 0.000000 |
PaintCorrectionWhat | Correction |
ParametricDarks | +24 |
ParametricHighlights | 0 |
ParametricHighlightSplit | 75 |
ParametricLights | +38 |
ParametricMidtoneSplit | 50 |
ParametricShadows | -86 |
ParametricShadowSplit | 25 |
PostCropVignetteAmount | 0 |
ProfileDescription | sRGB IEC61966-2.1 |
RedHue | 0 |
RedSaturation | 0 |
ScaleFactor35efl | 1.6 |
SceneCaptureType | Standard |
SerialNumber | 1630516816 |
Shadows | 4 |
ShadowTint | 0 |
SharpenDetail | 25 |
SharpenEdgeMasking | 0 |
SharpenRadius | +1.0 |
Sharpness | 0 |
ShutterSpeed | 1/250 |
ShutterSpeedValue | 1/250 |
SplitToningBalance | 0 |
SplitToningHighlightHue | 216 |
SplitToningHighlightSaturation | 21 |
SplitToningShadowHue | 37 |
SplitToningShadowSaturation | 22 |
Subject | photoshoot |
ToneCurve | 0, 0, 255, 255 |
ToneCurveName | Linear |
Version | 5.5 |
VignetteAmount | -83 |
VignetteMidpoint | 21 |
WhiteBalance (2) | As Shot |
WhiteBalance | Manual |