Felt | Verdi |
AlreadyApplied | True |
Aperture | 8.0 |
ApertureValue | 8.0 |
Artist | Geir Skarning |
BitsPerSample | 8 |
BlueHue | 0 |
BlueSaturation | 0 |
Brightness | +50 |
By-line | Geir Skarning |
CameraProfile | Camera Standard |
CFAPattern | [Blue,Green][Green,Red] |
ChromaticAberrationB | 0 |
ChromaticAberrationR | 0 |
CircleOfConfusion | 0.020 mm |
Clarity | +35 |
ColorComponents | 1 |
ColorNoiseReduction | 10 |
ColorNoiseReductionDetail | 50 |
ColorTemperature | 5950 |
Contrast (2) | +36 |
Contrast | Normal |
ConvertToGrayscale | True |
Copyright | Geir Skarning |
CopyrightFlag | True |
CopyrightNotice | Geir Skarning |
CreateDate (1) | 2010:09:04 17:45:05+02:00 |
CreateDate | 2010:09:04 17:45:05 |
Creator | Geir Skarning |
CreatorTool | Adobe Photoshop Lightroom |
CustomRendered | Normal |
DateTimeDigitized | 2010:09:04 17:45:05+02:00 |
DateTimeOriginal (1) | 2010:09:04 17:45:05+02:00 |
DateTimeOriginal | 2010:09:04 17:45:05 |
Defringe | 0 |
ExifImageHeight | 680 |
ExifImageWidth | 1024 |
Exposure | 0.00 |
ExposureCompensation | 0 |
ExposureMode | Auto |
ExposureProgram | Aperture-priority AE |
ExposureTime | 1/20 |
FillLight | 0 |
Flash | Off, Did not fire |
FlashFired | False |
FlashFunction | False |
FlashMode | Off |
FlashRedEyeMode | False |
FlashReturn | No return detection |
FNumber | 8.0 |
FocalLength | 135.0 mm |
FocalLength35efl | 135.0 mm (35 mm equivalent: 202.0 mm) |
FocalLengthIn35mmFormat | 202 mm |
FOV | 10.2 deg |
GrainAmount | 0 |
GrayMixerAqua | -11 |
GrayMixerBlue | +54 |
GrayMixerGreen | -31 |
GrayMixerMagenta | -17 |
GrayMixerOrange | -42 |
GrayMixerPurple | +39 |
GrayMixerRed | -22 |
GrayMixerYellow | -70 |
GreenHue | 0 |
GreenSaturation | 0 |
HasCrop | False |
HasSettings | True |
HighlightRecovery | 0 |
HyperfocalDistance | 113.45 m |
ImageHeight | 680 |
ImageSize | 1024x680 |
ImageWidth | 1024 |
ISO | 640 |
Lens | smc PENTAX-F 135mm F2.8 [IF] |
LensID (1) | 3 34 |
LensID | smc PENTAX-F 135mm F2.8 [IF] |
LensInfo | 135mm f/2.8 |
LensManualDistortionAmount | 0 |
LensModel | smc PENTAX-F 135mm F2.8 [IF] |
LensProfileEnable | 0 |
LensProfileSetup | LensDefaults |
LightValue | 7.6 |
LuminanceNoiseReductionContrast | 0 |
LuminanceNoiseReductionDetail | 50 |
LuminanceSmoothing | 50 |
Make | PENTAX |
Marked | True |
Megapixels | 0.696 |
MeteringMode | Multi-segment |
Model | PENTAX K-7 |
ModifyDate (1) | 2010:10:30 22:18:03+02:00 |
ModifyDate | 2010:10:30 22:18:03 |
ParametricDarks | -5 |
ParametricHighlights | 0 |
ParametricHighlightSplit | 75 |
ParametricLights | +5 |
ParametricMidtoneSplit | 50 |
ParametricShadows | 0 |
ParametricShadowSplit | 25 |
PerspectiveHorizontal | 0 |
PerspectiveRotate | 0.0 |
PerspectiveScale | 100 |
PerspectiveVertical | 0 |
PostCropVignetteAmount | 0 |
ProcessVersion | 5.7 |
ProfileDescription | sRGB IEC61966-2.1 |
RedHue | 0 |
RedSaturation | 0 |
Rights | Geir Skarning |
Saturation | Normal |
ScaleFactor35efl | 1.5 |
SceneCaptureType | Standard |
SensingMethod | One-chip color area |
SensitivityType | Unknown |
Shadows | 33 |
ShadowTint | 0 |
SharpenDetail | 50 |
SharpenEdgeMasking | 50 |
SharpenRadius | +1.0 |
Sharpness (2) | 50 |
Sharpness | Normal |
ShutterSpeed | 1/20 |
ShutterSpeedValue | 1/20 |
Software | K-7 Ver 1.10 |
SplitToningBalance | 0 |
SplitToningHighlightHue | 0 |
SplitToningHighlightSaturation | 0 |
SplitToningShadowHue | 0 |
SplitToningShadowSaturation | 0 |
SubjectDistanceRange | Distant |
Tint | +64 |
ToneCurve | 0, 0, 32, 22, 64, 56, 128, 128, 192, 196, 255, 255 |
ToneCurveName | Medium Contrast |
Version | 6.2 |
VignetteAmount | 0 |
WhiteBalance (2) | As Shot |
WhiteBalance | Auto |