Felt | Verdi |
AlreadyApplied | True |
Aperture | 10.0 |
ApertureValue | 10.0 |
Artist | Geir Skarning |
BitsPerSample | 8 |
BlueHue | 0 |
BlueSaturation | 0 |
Brightness | +50 |
By-line | Geir Skarning |
CameraProfile | Camera Standard |
CFAPattern | [Blue,Green][Green,Red] |
ChromaticAberrationB | 0 |
ChromaticAberrationR | 0 |
CircleOfConfusion | 0.020 mm |
Clarity | +35 |
ColorComponents | 1 |
ColorNoiseReduction | 10 |
ColorNoiseReductionDetail | 50 |
ColorTemperature | 5306 |
Contrast (2) | +13 |
Contrast | Normal |
ConvertToGrayscale | True |
Copyright | Geir Skarning |
CopyrightFlag | True |
CopyrightNotice | Geir Skarning |
CreateDate (1) | 2010:11:14 12:52:02+01:00 |
CreateDate | 2010:11:14 12:52:02 |
Creator | Geir Skarning |
CreatorTool | Adobe Photoshop Lightroom |
CropAngle | 0 |
CropBottom | 1 |
CropConstrainToWarp | 0 |
CropHeight | 819 |
CropLeft | 0 |
CropRight | 0.83048 |
CropTop | 0 |
CropUnit | pixels |
CropWidth | 1024 |
CustomRendered | Normal |
DateTimeDigitized | 2010:11:14 12:52:02+01:00 |
DateTimeOriginal (1) | 2010:11:14 12:52:02+01:00 |
DateTimeOriginal | 2010:11:14 12:52:02 |
Defringe | 0 |
ExifImageHeight | 819 |
ExifImageWidth | 1024 |
Exposure | -0.15 |
ExposureCompensation | +1.3 |
ExposureMode | Manual |
ExposureProgram | Aperture-priority AE |
ExposureTime | 1/20 |
FillLight | 0 |
Flash | Off, Did not fire |
FlashFired | False |
FlashFunction | False |
FlashMode | Off |
FlashRedEyeMode | False |
FlashReturn | No return detection |
FNumber | 10.0 |
FocalLength | 21.0 mm |
FocalLength35efl | 21.0 mm (35 mm equivalent: 31.0 mm) |
FocalLengthIn35mmFormat | 31 mm |
FOV | 60.3 deg |
GrainAmount | 0 |
GrayMixerAqua | -17 |
GrayMixerBlue | +13 |
GrayMixerGreen | -28 |
GrayMixerMagenta | +4 |
GrayMixerOrange | -20 |
GrayMixerPurple | +18 |
GrayMixerRed | -11 |
GrayMixerYellow | -24 |
GreenHue | 0 |
GreenSaturation | 0 |
HasCrop | True |
HasSettings | True |
HighlightRecovery | 4 |
HyperfocalDistance | 2.17 m |
ImageHeight | 819 |
ImageSize | 1024x819 |
ImageWidth | 1024 |
ISO | 100 |
Lens | smc PENTAX-DA 21mm F3.2 AL Limited |
LensID (1) | 7 244 |
LensID | smc PENTAX-DA 21mm F3.2 AL Limited |
LensInfo | 21mm f/3.2 |
LensManualDistortionAmount | 0 |
LensModel | smc PENTAX-DA 21mm F3.2 AL Limited |
LensProfileEnable | 0 |
LensProfileSetup | LensDefaults |
LightValue | 11.0 |
LuminanceSmoothing | 0 |
Make | PENTAX |
Marked | True |
Megapixels | 0.839 |
MeteringMode | Multi-segment |
Model | PENTAX K-7 |
ModifyDate (1) | 2010:11:14 16:27:09+01:00 |
ModifyDate | 2010:11:14 16:27:09 |
ParametricDarks | -5 |
ParametricHighlights | 0 |
ParametricHighlightSplit | 90 |
ParametricLights | +5 |
ParametricMidtoneSplit | 58 |
ParametricShadows | 0 |
ParametricShadowSplit | 15 |
PerspectiveHorizontal | 0 |
PerspectiveRotate | 0.0 |
PerspectiveScale | 100 |
PerspectiveVertical | 0 |
PostCropVignetteAmount | -19 |
PostCropVignetteFeather | 50 |
PostCropVignetteHighlightContrast | 0 |
PostCropVignetteMidpoint | 50 |
PostCropVignetteRoundness | 0 |
PostCropVignetteStyle | 1 |
ProcessVersion | 5.7 |
ProfileDescription | sRGB IEC61966-2.1 |
RedHue | 0 |
RedSaturation | 0 |
Rights | Geir Skarning |
Saturation | Normal |
ScaleFactor35efl | 1.5 |
SceneCaptureType | Standard |
SensingMethod | One-chip color area |
SensitivityType | Unknown |
Shadows | 0 |
ShadowTint | 0 |
SharpenDetail | 50 |
SharpenEdgeMasking | 50 |
SharpenRadius | +1.4 |
Sharpness (2) | 76 |
Sharpness | Normal |
ShutterSpeed | 1/20 |
ShutterSpeedValue | 1/20 |
Software | K-7 Ver 1.10 |
SplitToningBalance | 0 |
SplitToningHighlightHue | 0 |
SplitToningHighlightSaturation | 0 |
SplitToningShadowHue | 0 |
SplitToningShadowSaturation | 0 |
SubjectDistanceRange | Distant |
Tint | +10 |
ToneCurve | 0, 0, 32, 22, 64, 56, 128, 128, 192, 196, 255, 255 |
ToneCurveName | Medium Contrast |
Version | 6.2 |
VignetteAmount | 0 |
WhiteBalance (2) | Custom |
WhiteBalance | Auto |