Felt | Verdi |
AlreadyApplied | True |
Aperture | 2.5 |
ApertureValue | 2.5 |
BitsPerSample | 8 |
BlueHue | 0 |
BlueSaturation | 0 |
Brightness | +50 |
CameraProfile | Adobe Standard |
Caption-Abstract | OLYMPUS DIGITAL CAMERA |
CFAPattern | [Red,Green][Green,Blue] |
ChromaticAberrationB | 0 |
ChromaticAberrationR | 0 |
Clarity | +90 |
ColorComponents | 1 |
ColorMode | RGB |
ColorNoiseReduction | 25 |
ColorSpace | sRGB |
ColorTemperature | 4750 |
Contrast (2) | +25 |
Contrast | Normal |
ConvertToGrayscale | True |
CopyrightFlag | False |
CreateDate (1) | 2010:08:31 19:45:47+02:00 |
CreateDate | 2010:08:31 19:45:47 |
CreatorTool | Adobe Photoshop CS3 Windows |
CropAngle | 0 |
CropBottom | 1 |
CropHeight | 2554 |
CropLeft | 0.075 |
CropRight | 1 |
CropTop | 0.066667 |
CropUnit | pixels |
CropWidth | 3374 |
CustomRendered | Normal |
DateTimeDigitized | 2010:08:31 19:45:47+02:00 |
DateTimeOriginal (1) | 2010:08:31 19:45:47+02:00 |
DateTimeOriginal | 2010:08:31 19:45:47 |
Defringe | 0 |
Description | OLYMPUS DIGITAL CAMERA |
DigitalZoomRatio | 1 |
ExifImageHeight | 2554 |
ExifImageWidth | 3374 |
Exposure | 0.00 |
ExposureCompensation | 0 |
ExposureMode | Auto |
ExposureProgram | Program AE |
ExposureTime | 1/160 |
FillLight | 18 |
Flash | Auto, Did not fire, Red-eye reduction |
FlashCompensation | 0 |
FlashFired | False |
FlashFunction | False |
FlashMode | Auto |
FlashRedEyeMode | True |
FlashReturn | No return detection |
FNumber | 2.5 |
FocalLength | 50.0 mm |
FocalLength35efl | 50.0 mm |
Format | image/jpeg |
GainControl | High gain up |
GrayMixerAqua | +36 |
GrayMixerBlue | +40 |
GrayMixerGreen | +45 |
GrayMixerMagenta | +57 |
GrayMixerOrange | +17 |
GrayMixerPurple | +55 |
GrayMixerRed | -7 |
GrayMixerYellow | +52 |
GreenHue | 0 |
GreenSaturation | 0 |
HasCrop | True |
HasSettings | True |
HighlightRecovery | 36 |
ICCProfileName | sRGB IEC61966-2.1 |
ImageDescription | OLYMPUS DIGITAL CAMERA |
ImageHeight | 2554 |
ImageSize | 3374x2554 |
ImageWidth | 3374 |
ISO | 400 |
Lens | 50.0 mm f/2.0 |
LensInfo | 50mm f/2 |
LensSerialNumber | 010209838 |
LightSource | Unknown |
LightValue | 8.0 |
LuminanceSmoothing | 0 |
Make | OLYMPUS IMAGING CORP. |
MaxApertureValue | 2.0 |
Megapixels | 8.6 |
MeteringMode | Multi-segment |
Model | E-3 |
ModifyDate (1) | 2010:11:18 16:19:25+01:00 |
ModifyDate | 2010:11:18 16:19:25 |
Orientation | Horizontal (normal) |
ParametricDarks | +17 |
ParametricHighlights | -60 |
ParametricHighlightSplit | 75 |
ParametricLights | +5 |
ParametricMidtoneSplit | 50 |
ParametricShadows | -43 |
ParametricShadowSplit | 25 |
PostCropVignetteAmount | 0 |
ProfileDescription | sRGB IEC61966-2.1 |
RedHue | 0 |
RedSaturation | 0 |
Saturation | High |
SceneCaptureType | Standard |
SerialNumber | D70515994 |
Shadows | 21 |
ShadowTint | 0 |
SharpenDetail | 25 |
SharpenEdgeMasking | 0 |
SharpenRadius | +1.6 |
Sharpness (2) | 50 |
Sharpness | Hard |
ShutterSpeed | 1/160 |
ShutterSpeedValue | 1/160 |
Software | Adobe Photoshop CS3 Windows |
SplitToningBalance | 0 |
SplitToningHighlightHue | 0 |
SplitToningHighlightSaturation | 0 |
SplitToningShadowHue | 0 |
SplitToningShadowSaturation | 0 |
Tint | +6 |
ToneCurve | 0, 0, 32, 22, 64, 56, 128, 128, 192, 196, 255, 255 |
ToneCurveName | Medium Contrast |
URL_List | |
Version | 5.7 |
VignetteAmount | 0 |
WhiteBalance (2) | As Shot |
WhiteBalance | Auto |