Felt | Verdi |
AlreadyApplied | True |
Aperture | 2.0 |
ApertureValue | 2.0 |
ApproximateFNumber | 2.0 |
BaseISO | 160 |
BitsPerSample | 8 |
BlueBalance | 0.465336 |
BlueHue | 0 |
BlueSaturation | 0 |
Brightness | +66 |
CameraProfile | Adobe Standard |
CameraTemperature | 21 C |
ChromaticAberrationB | 0 |
ChromaticAberrationR | 0 |
CircleOfConfusion | 0.030 mm |
Clarity | 0 |
ColorComponents | 1 |
ColorNoiseReduction | 25 |
ColorNoiseReductionDetail | 50 |
ColorTemperature | 2800 |
Contrast (1) | +53 |
Contrast | Normal |
ConvertToGrayscale | True |
CreateDate (1) | 2010:11:11 19:52:40+01:00 |
CreateDate | 2010:11:11 19:52:40 |
CreatorTool | Adobe Photoshop Lightroom 3.3 |
CropAngle | 0 |
CropBottom | 1 |
CropConstrainToWarp | 0 |
CropHeight | 2992 |
CropLeft | 0.010139 |
CropRight | 0.872996 |
CropTop | 0.137143 |
CropUnit | pixels |
CropWidth | 4497 |
DateTimeDigitized | 2010:11:11 19:52:40+01:00 |
DateTimeOriginal (1) | 2010:11:11 19:52:40+01:00 |
DateTimeOriginal | 2010:11:11 19:52:40 |
Defringe | 0 |
DigitalZoomRatio | 0 |
ExifImageHeight | 2992 |
ExifImageWidth | 4497 |
Exposure | 0.00 |
ExposureCompensation | 0 |
ExposureMode | Manual |
ExposureProgram | Aperture-priority AE |
ExposureTime | 1/45 |
ExternalSensorBrightnessValue | 0.65 |
FillLight | 0 |
FirmwareVersion | 1.138 |
Flash | No Flash |
FlashFired | False |
FlashFunction | False |
FlashMode | Unknown |
FlashRedEyeMode | False |
FlashReturn | No return detection |
FNumber | 2.0 |
FocalLength | 35.0 mm |
FocalLength35efl | 35.0 mm (35 mm equivalent: 35.0 mm) |
FocalLengthIn35mmFormat | 35 mm |
FOV | 54.4 deg |
GrainAmount | 0 |
GrayMixerAqua | -16 |
GrayMixerBlue | +14 |
GrayMixerGreen | -28 |
GrayMixerMagenta | +3 |
GrayMixerOrange | -21 |
GrayMixerPurple | +18 |
GrayMixerRed | -12 |
GrayMixerYellow | -25 |
GreenHue | 0 |
GreenSaturation | 0 |
HasCrop | True |
HasSettings | True |
HighlightRecovery | 25 |
HyperfocalDistance | 20.39 m |
ImageHeight | 2992 |
ImageSize | 4497x2992 |
ImageWidth | 4497 |
ISO | 400 |
JPEGQuality | Fine |
JPEGSize | 5216x3472 |
Lens | Leica Summicron-M 35mm f/2 ASPH. |
LensID (1) | 30 |
LensID | Leica Summicron-M 35mm f/2 ASPH. |
LensManualDistortionAmount | 0 |
LensModel | Leica Summicron-M 35mm f/2 ASPH. |
LensProfileEnable | 0 |
LensProfileSetup | LensDefaults |
LensType | Summicron-M 35mm f/2 ASPH. |
LightSource | Unknown |
LightValue | 5.5 |
LuminanceSmoothing | 0 |
Make | Leica Camera AG |
MakerNoteSafety | Safe |
MaxApertureValue | 2.0 |
MeasuredLV | 2.37 |
Megapixels | 13.5 |
MeteringMode | Center-weighted average |
Model | M9 Digital Camera |
ModifyDate (1) | 2010:12:19 21:46:19+01:00 |
ModifyDate | 2010:12:19 21:46:19 |
ParametricDarks | -1 |
ParametricHighlights | -51 |
ParametricHighlightSplit | 75 |
ParametricLights | 0 |
ParametricMidtoneSplit | 50 |
ParametricShadows | +13 |
ParametricShadowSplit | 25 |
PerspectiveHorizontal | 0 |
PerspectiveRotate | 0.0 |
PerspectiveScale | 100 |
PerspectiveVertical | 0 |
PostCropVignetteAmount | 0 |
ProcessVersion | 5.7 |
ProfileDescription | Adobe RGB (1998) |
RedBalance | 0.652853 |
RedHue | 0 |
RedSaturation | 0 |
Saturation | Normal |
ScaleFactor35efl | 1.0 |
SceneCaptureType | Standard |
SceneType | Directly photographed |
SensitivityType | Unknown |
SensorBitDepth | 14 |
SensorHeight | 3516 |
SensorWidth | 5270 |
SerialNumber | 3904514 |
Shadows | 3 |
ShadowTint | 0 |
SharpenDetail | 25 |
SharpenEdgeMasking | 0 |
Sharpening | Normal |
SharpenRadius | +1.0 |
Sharpness | 25 |
ShutterSpeed | 1/45 |
ShutterSpeedValue | 1/45 |
Software | 1.138 |
SplitToningBalance | 0 |
SplitToningHighlightHue | 0 |
SplitToningHighlightSaturation | 0 |
SplitToningShadowHue | 0 |
SplitToningShadowSaturation | 0 |
Tint | +10 |
ToneCurve | 0, 0, 32, 22, 64, 56, 128, 128, 192, 196, 255, 255 |
ToneCurveName | Medium Contrast |
UserProfile | Haakon |
Version | 6.3 |
VignetteAmount | 0 |
WB_RGBLevels | 0.6528530443 1 0.4653355676 |
WhiteBalance (3) | As Shot |
WhiteBalance | Auto |