Felt | Verdi |
AlreadyApplied | True |
Aperture | 8.0 |
ApertureValue | 8.0 |
ApproximateFocusDistance | 4294967295 |
BitsPerSample | 8 |
BlueHue | 0 |
BlueSaturation | 0 |
Brightness | +65 |
CameraProfile | Adobe Standard |
ChromaticAberrationB | 0 |
ChromaticAberrationR | 0 |
CircleOfConfusion | 0.019 mm |
Clarity | 0 |
ColorComponents | 3 |
ColorNoiseReduction | 66 |
ColorNoiseReductionDetail | 50 |
ColorTemperature | 5850 |
Contrast | +33 |
ConvertToGrayscale | False |
CreateDate (1) | 2011:06:23 21:01:23.01 |
CreateDate | 2011:06:23 21:01:23 |
CreatorTool | Adobe Photoshop Lightroom 3.4.1 |
CustomRendered | Normal |
DateCreated (1) | 2011:06:23 |
DateCreated | 2011:06:23 21:01:23.01 |
DateTimeOriginal | 2011:06:23 21:01:23 |
Defringe | 0 |
DOF | inf (19.79 m - inf) |
Exposure | -0.14 |
ExposureCompensation | 0 |
ExposureMode | Auto |
ExposureProgram | Program AE |
ExposureTime | 1/160 |
FillLight | 0 |
Firmware | 1.0.9 |
Flash | Off, Did not fire |
FlashCompensation | 0 |
FNumber | 8.0 |
FocalLength | 55.0 mm |
FocalLength35efl | 55.0 mm (35 mm equivalent: 86.5 mm) |
FOV | 23.5 deg |
GrainAmount | 0 |
GreenHue | 0 |
GreenSaturation | 0 |
HasCrop | False |
HasSettings | True |
HighlightRecovery | 25 |
HueAdjustmentAqua | 0 |
HueAdjustmentBlue | 0 |
HueAdjustmentGreen | 0 |
HueAdjustmentMagenta | 0 |
HueAdjustmentOrange | 0 |
HueAdjustmentPurple | 0 |
HueAdjustmentRed | 0 |
HueAdjustmentYellow | 0 |
HyperfocalDistance | 19.79 m |
ImageHeight | 853 |
ImageNumber | 0 |
ImageSize | 1280x853 |
ImageWidth | 1280 |
ISO | 100 |
Lens | EF-S18-55mm f/3.5-5.6 IS |
LensID (1) | 48 |
LensID | Canon EF-S 18-55mm f/3.5-5.6 IS |
LensInfo | 18-55mm f/? |
LensManualDistortionAmount | 0 |
LensModel | EF-S18-55mm f/3.5-5.6 IS |
LensProfileEnable | 0 |
LensProfileSetup | LensDefaults |
LightValue | 13.3 |
LuminanceAdjustmentAqua | 0 |
LuminanceAdjustmentBlue | 0 |
LuminanceAdjustmentGreen | +8 |
LuminanceAdjustmentMagenta | 0 |
LuminanceAdjustmentOrange | +9 |
LuminanceAdjustmentPurple | 0 |
LuminanceAdjustmentRed | 0 |
LuminanceAdjustmentYellow | +17 |
LuminanceNoiseReductionContrast | 0 |
LuminanceNoiseReductionDetail | 50 |
LuminanceSmoothing | 64 |
Make | Canon |
MaxApertureValue | 5.7 |
Megapixels | 1.1 |
MeteringMode | Multi-segment |
Model | Canon EOS 550D |
ModifyDate (1) | 2011:07:08 21:52:52+02:00 |
ModifyDate | 2011:07:08 21:52:52 |
ParametricDarks | -42 |
ParametricHighlights | +83 |
ParametricHighlightSplit | 79 |
ParametricLights | +74 |
ParametricMidtoneSplit | 35 |
ParametricShadows | -14 |
ParametricShadowSplit | 15 |
PerspectiveHorizontal | 0 |
PerspectiveRotate | 0.0 |
PerspectiveScale | 100 |
PerspectiveVertical | 0 |
PostCropVignetteAmount | 0 |
ProcessVersion | 5.7 |
ProfileDescription | sRGB IEC61966-2.1 |
RedHue | 0 |
RedSaturation | 0 |
Saturation | -36 |
SaturationAdjustmentAqua | +11 |
SaturationAdjustmentBlue | +3 |
SaturationAdjustmentGreen | +12 |
SaturationAdjustmentMagenta | 0 |
SaturationAdjustmentOrange | +15 |
SaturationAdjustmentPurple | 0 |
SaturationAdjustmentRed | 0 |
SaturationAdjustmentYellow | +27 |
ScaleFactor35efl | 1.6 |
SceneCaptureType | Standard |
SerialNumber | 1533940796 |
Shadows | 4 |
ShadowTint | 0 |
SharpenDetail | 25 |
SharpenEdgeMasking | 0 |
SharpenRadius | +1.0 |
Sharpness | 60 |
ShutterSpeed | 1/160 |
ShutterSpeedValue | 1/160 |
Software | Adobe Photoshop Lightroom 3.4.1 |
SplitToningBalance | 0 |
SplitToningHighlightHue | 38 |
SplitToningHighlightSaturation | 74 |
SplitToningShadowHue | 165 |
SplitToningShadowSaturation | 74 |
SubjectDistance | 4294967295 m |
Tint | +11 |
ToneCurve | 0, 0, 255, 255 |
ToneCurveName | Linear |
Version | 6.4.1 |
Vibrance | +23 |
VignetteAmount | -50 |
VignetteMidpoint | 20 |
WhiteBalance (1) | As Shot |
WhiteBalance | Auto |