Felt | Verdi |
AlreadyApplied | True |
Aperture | 7.1 |
ApertureValue | 7.1 |
ApproximateFocusDistance | 0.8 |
Artist | Eric Fagerheim |
BitsPerSample | 8 |
BlueHue | 0 |
BlueSaturation | 0 |
Brightness | +29 |
By-line | Eric Fagerheim |
CameraProfile | Embedded |
ChromaticAberrationB | 0 |
ChromaticAberrationR | 0 |
CircleOfConfusion | 0.031 mm |
Clarity | 0 |
ColorComponents | 3 |
ColorNoiseReduction | 0 |
Contrast | 0 |
ConvertToGrayscale | False |
Copyright | Din fotograf i Trondheim - Fotofashion |
CopyrightNotice | Din fotograf i Trondheim - Fotofashion |
CreateDate (1) | 2011:10:22 12:51:28.83 |
CreateDate | 2011:10:22 12:51:28 |
Creator | Eric Fagerheim |
CreatorTool | Adobe Photoshop Lightroom 3.5 (Windows) |
CreatorWorkEmail | mail@fotofashion.no |
CreatorWorkURL | http://www.fotofashion.no |
CustomRendered | Normal |
DateCreated (1) | 2011:10:22 |
DateCreated | 2011:10:22 12:51:28.083 |
DateTimeOriginal | 2011:10:22 12:51:28 |
Defringe | 0 |
DOF | 0.05 m (0.78 - 0.82 m) |
Exposure | -1.24 |
ExposureCompensation | 0 |
ExposureMode | Manual |
ExposureProgram | Manual |
ExposureTime | 1/160 |
FillLight | 6 |
Firmware | 2.0.9 |
Flash | Off, Did not fire |
FlashCompensation | 0 |
FNumber | 7.1 |
FocalLength | 75.0 mm |
FocalLength35efl | 75.0 mm (35 mm equivalent: 73.2 mm) |
Format | application/vnd.adobe.photoshop |
FOV | 27.6 deg |
GrainAmount | 0 |
GreenHue | 0 |
GreenSaturation | 0 |
HasCrop | False |
HasSettings | True |
Headline | Din fotograf i Trondheim - Fotofashion |
HighlightRecovery | 0 |
HueAdjustmentAqua | 0 |
HueAdjustmentBlue | 0 |
HueAdjustmentGreen | 0 |
HueAdjustmentMagenta | 0 |
HueAdjustmentOrange | 0 |
HueAdjustmentPurple | 0 |
HueAdjustmentRed | 0 |
HueAdjustmentYellow | 0 |
HyperfocalDistance | 25.73 m |
ImageHeight | 633 |
ImageNumber | 0 |
ImageSize | 950x633 |
ImageWidth | 950 |
IncrementalTemperature | +3 |
IncrementalTint | 0 |
ISO | 100 |
Keywords | bilde, foto, fotofashion, fotograf, fotograf trondheim, fotografi, trondheim, utdrikningslag |
Lens | EF24-105mm f/4L IS USM |
LensID (1) | 237 |
LensID | Canon EF 24-105mm f/4L IS USM |
LensInfo | 24-105mm f/? |
LensManualDistortionAmount | 0 |
LensModel | EF24-105mm f/4L IS USM |
LensProfileEnable | 0 |
LensProfileSetup | LensDefaults |
LightValue | 13.0 |
LuminanceAdjustmentAqua | 0 |
LuminanceAdjustmentBlue | 0 |
LuminanceAdjustmentGreen | 0 |
LuminanceAdjustmentMagenta | 0 |
LuminanceAdjustmentOrange | 0 |
LuminanceAdjustmentPurple | 0 |
LuminanceAdjustmentRed | -16 |
LuminanceAdjustmentYellow | 0 |
LuminanceSmoothing | 0 |
Make | Canon |
MaxApertureValue | 4.0 |
Megapixels | 0.601 |
MeteringMode | Multi-segment |
Model | Canon EOS 5D Mark II |
ModifyDate (1) | 2011:10:22 18:42:50+02:00 |
ModifyDate | 2011:10:22 18:42:50 |
ObjectName | Din fotograf i Trondheim - Fotofashion |
ParametricDarks | 0 |
ParametricHighlights | 0 |
ParametricHighlightSplit | 75 |
ParametricLights | 0 |
ParametricMidtoneSplit | 50 |
ParametricShadows | 0 |
ParametricShadowSplit | 25 |
PerspectiveHorizontal | 0 |
PerspectiveRotate | 0.0 |
PerspectiveScale | 100 |
PerspectiveVertical | 0 |
PostCropVignetteAmount | 0 |
ProcessVersion | 5.7 |
ProfileDescription | sRGB IEC61966-2.1 |
Rating | 1 |
RedHue | 0 |
RedSaturation | 0 |
Rights | Din fotograf i Trondheim - Fotofashion |
Saturation | -29 |
SaturationAdjustmentAqua | 0 |
SaturationAdjustmentBlue | +45 |
SaturationAdjustmentGreen | 0 |
SaturationAdjustmentMagenta | 0 |
SaturationAdjustmentOrange | -5 |
SaturationAdjustmentPurple | 0 |
SaturationAdjustmentRed | -2 |
SaturationAdjustmentYellow | 0 |
ScaleFactor35efl | 1.0 |
SceneCaptureType | Standard |
SerialNumber | 1330823407 |
Shadows | 0 |
ShadowTint | 0 |
SharpenDetail | 25 |
SharpenEdgeMasking | 0 |
SharpenRadius | +1.0 |
Sharpness | 0 |
ShutterSpeed | 1/160 |
ShutterSpeedValue | 1/160 |
Software | Adobe Photoshop Lightroom 3.5 (Windows) |
SplitToningBalance | +100 |
SplitToningHighlightHue | 47 |
SplitToningHighlightSaturation | 16 |
SplitToningShadowHue | 0 |
SplitToningShadowSaturation | 0 |
Subject | bilde, foto, fotofashion, fotograf, fotograf trondheim, fotografi, trondheim, utdrikningslag |
SubjectDistance | 0.8 m |
Title | Din fotograf i Trondheim - Fotofashion |
ToneCurve | 0, 0, 255, 255 |
ToneCurveName | Linear |
URL | http://www.fotofashion.no |
Version | 6.5 |
Vibrance | 0 |
VignetteAmount | +33 |
VignetteMidpoint | 50 |
WebStatement | http://www.fotofashion.no |
WhiteBalance (1) | Custom |
WhiteBalance | Auto |