Felt | Verdi |
AlreadyApplied | True |
Aperture | 3.2 |
ApertureValue | 3.2 |
ApproximateFocusDistance | 1 |
Artist | Kolbein Svensson |
BitsPerSample | 8 |
BlueHue | 0 |
BlueSaturation | 0 |
Brightness | +50 |
By-line | Kolbein Svensson |
CameraProfile | Camera Standard |
CFAPattern | [Red,Green][Green,Blue] |
ChromaticAberrationB | 0 |
ChromaticAberrationR | 0 |
CircleOfConfusion | 0.020 mm |
Clarity | -72 |
ColorComponents | 1 |
ColorNoiseReduction | 63 |
ColorNoiseReductionDetail | 50 |
ColorTemperature | 5563 |
Contrast (1) | +16 |
Contrast | Normal |
ConvertToGrayscale | True |
Copyright | Kolbein Svensson |
CopyrightNotice | Kolbein Svensson |
CreateDate (1) | 2011:05:16 17:35:57.00+02:00 |
CreateDate | 2011:05:16 17:35:57 |
Creator | Kolbein Svensson |
CreatorTool | Adobe Photoshop Lightroom 3.4 |
CropAngle | 3.06727 |
CropBottom | 0.977712 |
CropConstrainToWarp | 0 |
CropHeight | 563 |
CropLeft | 0.062182 |
CropRight | 0.926271 |
CropTop | 0.009348 |
CropUnit | pixels |
CropWidth | 850 |
CustomRendered | Normal |
DateCreated (1) | 2011:05:16 |
DateCreated | 2011:05:16 17:35:57.00+02:00 |
DateTimeOriginal | 2011:05:16 17:35:57 |
Defringe | 0 |
DigitalZoomRatio | 1 |
DOF | 0.10 m (0.95 - 1.05 m) |
Exposure | 0.00 |
ExposureCompensation | +2/3 |
ExposureMode | Auto |
ExposureProgram | Aperture-priority AE |
ExposureTime | 1/40 |
FillLight | 0 |
Flash | Off, Did not fire |
FNumber | 3.2 |
FocalLength | 35.0 mm |
FocalLength35efl | 35.0 mm (35 mm equivalent: 52.0 mm) |
FocalLengthIn35mmFormat | 52 mm |
FOV | 38.2 deg |
GainControl | High gain up |
GrainAmount | 0 |
GrayMixerAqua | -19 |
GrayMixerBlue | +8 |
GrayMixerGreen | -26 |
GrayMixerMagenta | +4 |
GrayMixerOrange | -18 |
GrayMixerPurple | +15 |
GrayMixerRed | -9 |
GrayMixerYellow | -22 |
GreenHue | 0 |
GreenSaturation | 0 |
HasCrop | True |
HasSettings | True |
HighlightRecovery | 21 |
HyperfocalDistance | 18.93 m |
ImageHeight | 850 |
ImageNumber | 1909 |
ImageSize | 563x850 |
ImageWidth | 563 |
ISO | 1000 |
Keywords | Aktiviteter, leker |
Lens | 35.0 mm f/1.8 |
LensID (1) | 159 |
LensID | AF-S DX Nikkor 35mm f/1.8G |
LensInfo | 35mm f/1.8 |
LensManualDistortionAmount | 0 |
LensModel | 35.0 mm f/1.8 |
LensProfileEnable | 0 |
LensProfileSetup | LensDefaults |
LightSource | Unknown |
LightValue | 5.4 |
LuminanceNoiseReductionContrast | 0 |
LuminanceNoiseReductionDetail | 50 |
LuminanceSmoothing | 83 |
Make | NIKON CORPORATION |
MaxApertureValue | 1.7 |
Megapixels | 0.479 |
MeteringMode | Multi-segment |
Model | NIKON D7000 |
ModifyDate (1) | 2012:05:11 22:57:22+02:00 |
ModifyDate | 2012:05:11 22:57:22 |
ParametricDarks | -54 |
ParametricHighlights | +19 |
ParametricHighlightSplit | 75 |
ParametricLights | +35 |
ParametricMidtoneSplit | 50 |
ParametricShadows | -28 |
ParametricShadowSplit | 25 |
PerspectiveHorizontal | 0 |
PerspectiveRotate | 0.0 |
PerspectiveScale | 100 |
PerspectiveVertical | 0 |
PostCropVignetteAmount | 0 |
ProcessVersion | 5.7 |
ProfileDescription | sRGB IEC61966-2.1 |
RedHue | 0 |
RedSaturation | 0 |
Rights | Kolbein Svensson |
Saturation | Normal |
ScaleFactor35efl | 1.5 |
SceneCaptureType | Standard |
SceneType | Directly photographed |
SensingMethod | One-chip color area |
SensitivityType | Recommended Exposure Index |
SerialNumber | 6146379 |
Shadows | 0 |
ShadowTint | 0 |
SharpenDetail | 30 |
SharpenEdgeMasking | 54 |
SharpenRadius | +0.8 |
Sharpness (1) | 38 |
Sharpness | Normal |
ShutterSpeed | 1/40 |
ShutterSpeedValue | 1/40 |
Software | Adobe Photoshop Lightroom 3.4 |
SplitToningBalance | 0 |
SplitToningHighlightHue | 0 |
SplitToningHighlightSaturation | 0 |
SplitToningShadowHue | 0 |
SplitToningShadowSaturation | 0 |
Subject | Aktiviteter, leker |
SubjectDistance | 1 m |
SubjectDistanceRange | Unknown |
Tint | +10 |
ToneCurve | 0, 0, 32, 22, 64, 56, 128, 128, 192, 196, 255, 255 |
ToneCurveName | Medium Contrast |
Version | 6.4 |
VignetteAmount | 0 |
WhiteBalance (1) | Custom |
WhiteBalance | Auto |