Felt | Verdi |
AlreadyApplied | True |
Aperture | 10.0 |
ApertureValue | 10.0 |
ApproximateFocusDistance | 2.73 |
Artist | KJELL DIEDRIK PETTERSEN |
BitsPerSample | 8 |
BlueHue | 0 |
BlueSaturation | 0 |
Brightness | +50 |
By-line | KJELL DIEDRIK PETTERSEN |
CameraProfile | Adobe Standard |
ChromaticAberrationB | 0 |
ChromaticAberrationR | 0 |
CircleOfConfusion | 0.019 mm |
Clarity | 0 |
ColorComponents | 3 |
ColorNoiseReduction | 25 |
ColorNoiseReductionDetail | 50 |
ColorTemperature | 5550 |
Contrast | +25 |
ConvertToGrayscale | True |
Copyright | COPYRIGHT KD PETTERSEN |
CopyrightNotice | COPYRIGHT KD PETTERSEN |
CreateDate (1) | 2011:11:11 17:44:57.35+01:00 |
CreateDate | 2011:11:11 17:44:57 |
Creator | KJELL DIEDRIK PETTERSEN |
CreatorTool | Adobe Photoshop Lightroom 3.3 |
CropAngle | 0 |
CropBottom | 1 |
CropConstrainToWarp | 0 |
CropHeight | 1417 |
CropLeft | 0.220355 |
CropRight | 0.779645 |
CropTop | 0 |
CropUnit | pixels |
CropWidth | 1189 |
CustomRendered | Normal |
DateTimeDigitized | 2011:11:11 17:44:57.35+01:00 |
DateTimeOriginal (1) | 2011:11:11 17:44:57.35+01:00 |
DateTimeOriginal | 2011:11:11 17:44:57 |
Defringe | 0 |
DOF | inf (1.19 m - inf) |
ExifImageHeight | 1417 |
ExifImageWidth | 1189 |
Exposure | 0.00 |
ExposureCompensation | 0 |
ExposureMode | Manual |
ExposureProgram | Manual |
ExposureTime | 1/100 |
FillLight | 13 |
Firmware | 1.2.3 |
Flash | On, Fired |
FlashCompensation | 0 |
FlashFired | True |
FlashFunction | False |
FlashMode | On |
FlashRedEyeMode | False |
FlashReturn | No return detection |
FNumber | 10.0 |
FocalLength | 20.0 mm |
FocalLength35efl | 20.0 mm (35 mm equivalent: 31.4 mm) |
FOV | 59.6 deg |
GrainAmount | 0 |
GrayMixerAqua | -10 |
GrayMixerBlue | +20 |
GrayMixerGreen | -19 |
GrayMixerMagenta | +28 |
GrayMixerOrange | +4 |
GrayMixerPurple | +25 |
GrayMixerRed | +29 |
GrayMixerYellow | -13 |
GreenHue | 0 |
GreenSaturation | 0 |
HasCrop | True |
HasSettings | True |
HighlightRecovery | 0 |
HyperfocalDistance | 2.09 m |
ImageHeight | 1417 |
ImageNumber | 0 |
ImageSize | 1189x1417 |
ImageWidth | 1189 |
ISO | 100 |
Lens | EF-S18-135mm f/3.5-5.6 IS |
LensID (1) | 51 |
LensID | Canon EF-S 18-135mm f/3.5-5.6 IS |
LensInfo | 18-135mm f/? |
LensManualDistortionAmount | 0 |
LensModel | EF-S18-135mm f/3.5-5.6 IS |
LensProfileEnable | 0 |
LensProfileSetup | LensDefaults |
LightValue | 13.3 |
LuminanceSmoothing | 0 |
Make | Canon |
MaxApertureValue | 3.5 |
Megapixels | 1.7 |
MeteringMode | Spot |
Model | Canon EOS 7D |
ModifyDate (1) | 2012:07:20 16:04:37+02:00 |
ModifyDate | 2012:07:20 16:04:37 |
PaintCorrectionActive | true |
PaintCorrectionAmount | 1.000000 |
PaintCorrectionBrightness (1) | 0.250000 |
PaintCorrectionBrightness | 0.000000 |
PaintCorrectionClarity | 0.000000 |
PaintCorrectionContrast | 0.000000 |
PaintCorrectionExposure (2) | -0.080460 |
PaintCorrectionExposure | 0.268000 |
PaintCorrectionHue | 240.000000 |
PaintCorrectionMaskCenterWeight | 0.000000 |
PaintCorrectionMaskFlow | 1.000000 |
PaintCorrectionMaskRadius (13) | 0.086494 |
PaintCorrectionMaskRadius (2) | 0.135247 |
PaintCorrectionMaskRadius (20) | 0.016281 |
PaintCorrectionMaskRadius (26) | 0.094307 |
PaintCorrectionMaskRadius (27) | 0.078806 |
PaintCorrectionMaskRadius (6) | 0.118496 |
PaintCorrectionMaskRadius | 0.143810 |
PaintCorrectionMaskValue | 1.000000 |
PaintCorrectionMaskWhat | Mask/Paint |
PaintCorrectionSaturation | 0.000000 |
PaintCorrectionSharpness | 0.000000 |
PaintCorrectionWhat | Correction |
ParametricDarks | -17 |
ParametricHighlights | 0 |
ParametricHighlightSplit | 75 |
ParametricLights | +28 |
ParametricMidtoneSplit | 50 |
ParametricShadows | 0 |
ParametricShadowSplit | 25 |
PerspectiveHorizontal | 0 |
PerspectiveRotate | 0.0 |
PerspectiveScale | 100 |
PerspectiveVertical | 0 |
PostCropVignetteAmount | +1 |
PostCropVignetteFeather | 50 |
PostCropVignetteMidpoint | 50 |
PostCropVignetteRoundness | 0 |
PostCropVignetteStyle | 1 |
ProcessVersion | 5.7 |
ProfileDescription | sRGB IEC61966-2.1 |
RedHue | 0 |
RedSaturation | 0 |
Rights | COPYRIGHT KD PETTERSEN |
ScaleFactor35efl | 1.6 |
SceneCaptureType | Standard |
SensitivityType | Unknown |
SerialNumber | 480522533 |
Shadows | 0 |
ShadowTint | 0 |
SharpenDetail | 36 |
SharpenEdgeMasking | 0 |
SharpenRadius | +0.8 |
Sharpness | 25 |
ShutterSpeed | 1/100 |
ShutterSpeedValue | 1/100 |
SplitToningBalance | 0 |
SplitToningHighlightHue | 52 |
SplitToningHighlightSaturation | 64 |
SplitToningShadowHue | 37 |
SplitToningShadowSaturation | 22 |
SubjectDistance | 2.73 m |
Tint | -4 |
ToneCurve | 0, 0, 32, 22, 64, 56, 128, 128, 192, 196, 255, 255 |
ToneCurveName | Medium Contrast |
Version | 6.3 |
VignetteAmount | 0 |
WhiteBalance (2) | Custom |
WhiteBalance | Manual |