Felt | Verdi |
AlreadyApplied | True |
Aperture | 8.0 |
ApertureValue | 8.0 |
ApproximateFocusDistance | 4294967295 |
Artist | Jan Saeboe |
AutoLateralCA | 0 |
BitsPerSample | 8 |
Blacks2012 | +31 |
BlueHue | 0 |
BlueSaturation | 0 |
By-line | Jan Saeboe |
CameraProfile | Adobe Standard |
CircleOfConfusion | 0.027 mm |
Clarity2012 | +52 |
ColorComponents | 3 |
ColorNoiseReduction | 25 |
ColorNoiseReductionDetail | 50 |
ColorTemperature | 5050 |
Contrast2012 | +38 |
ConvertToGrayscale | False |
CreateDate (1) | 2012:07:16 12:22:31.00 |
CreateDate | 2012:07:16 12:22:31 |
Creator | Jan Saeboe |
CreatorTool | Adobe Photoshop Lightroom 4.1 (Windows) |
CropAngle | -1.517 |
CropBottom | 0.97023 |
CropConstrainToWarp | 0 |
CropHeight | 3104 |
CropLeft | 0.08894 |
CropRight | 0.855138 |
CropTop | 0.049332 |
CropUnit | pixels |
CropWidth | 3670 |
CustomRendered | Normal |
DateCreated (1) | 2012:07:16 |
DateCreated | 2012:07:16 12:22:31.00 |
DateTimeOriginal | 2012:07:16 12:22:31 |
DefringeGreenAmount | 0 |
DefringeGreenHueHi | 60 |
DefringeGreenHueLo | 40 |
DefringePurpleAmount | 0 |
DefringePurpleHueHi | 70 |
DefringePurpleHueLo | 30 |
DOF | inf (2.66 m - inf) |
Exposure2012 | -1.19 |
ExposureCompensation | 0 |
ExposureMode | Manual |
ExposureProgram | Manual |
ExposureTime | 1/250 |
Firmware | 1.0.8 |
Flash | Off, Did not fire |
FlashCompensation | 0 |
FNumber | 8.0 |
FocalLength | 24.0 mm |
FocalLength35efl | 24.0 mm (35 mm equivalent: 26.6 mm) |
Format | image/jpeg |
FOV | 68.2 deg |
GrainAmount | 0 |
GreenHue | 0 |
GreenSaturation | 0 |
HasCrop | True |
HasSettings | True |
Highlights2012 | -55 |
HueAdjustmentAqua | 0 |
HueAdjustmentBlue | 0 |
HueAdjustmentGreen | 0 |
HueAdjustmentMagenta | 0 |
HueAdjustmentOrange | 0 |
HueAdjustmentPurple | 0 |
HueAdjustmentRed | 0 |
HueAdjustmentYellow | 0 |
HyperfocalDistance | 2.66 m |
ImageHeight | 3104 |
ImageNumber | 0 |
ImageSize | 3670x3104 |
ImageWidth | 3670 |
ISO | 160 |
Lens | TS-E24mm f/3.5L II |
LensID (1) | 95 |
LensID | Canon TS-E 24mm f/3.5L II |
LensInfo | 24mm f/? |
LensManualDistortionAmount | 0 |
LensModel | TS-E24mm f/3.5L II |
LensProfileEnable | 0 |
LensProfileSetup | LensDefaults |
LightValue | 13.3 |
LuminanceAdjustmentAqua | 0 |
LuminanceAdjustmentBlue | 0 |
LuminanceAdjustmentGreen | 0 |
LuminanceAdjustmentMagenta | 0 |
LuminanceAdjustmentOrange | 0 |
LuminanceAdjustmentPurple | 0 |
LuminanceAdjustmentRed | 0 |
LuminanceAdjustmentYellow | 0 |
LuminanceNoiseReductionContrast | 0 |
LuminanceNoiseReductionDetail | 50 |
LuminanceSmoothing | 24 |
Make | Canon |
MaxApertureValue | 3.5 |
Megapixels | 11.4 |
MeteringMode | Spot |
Model | Canon EOS-1D Mark IV |
ModifyDate (1) | 2012:07:16 22:27:15+02:00 |
ModifyDate | 2012:07:16 22:27:15 |
ParametricDarks | 0 |
ParametricHighlights | 0 |
ParametricHighlightSplit | 75 |
ParametricLights | 0 |
ParametricMidtoneSplit | 50 |
ParametricShadows | 0 |
ParametricShadowSplit | 25 |
PerspectiveHorizontal | 0 |
PerspectiveRotate | 0.0 |
PerspectiveScale | 100 |
PerspectiveVertical | 0 |
PostCropVignetteAmount | 0 |
ProcessVersion | 6.7 |
ProfileDescription | sRGB IEC61966-2.1 |
Rating | 3 |
RedHue | 0 |
RedSaturation | 0 |
Saturation | +45 |
SaturationAdjustmentAqua | 0 |
SaturationAdjustmentBlue | 0 |
SaturationAdjustmentGreen | 0 |
SaturationAdjustmentMagenta | 0 |
SaturationAdjustmentOrange | 0 |
SaturationAdjustmentPurple | 0 |
SaturationAdjustmentRed | 0 |
SaturationAdjustmentYellow | 0 |
ScaleFactor35efl | 1.1 |
SceneCaptureType | Standard |
SerialNumber | 530401705 |
Shadows2012 | -50 |
ShadowTint | 0 |
SharpenDetail | 25 |
SharpenEdgeMasking | 0 |
SharpenRadius | +1.0 |
Sharpness | 25 |
ShutterSpeed | 1/250 |
ShutterSpeedValue | 1/250 |
Software | Adobe Photoshop Lightroom 4.1 (Windows) |
SplitToningBalance | 0 |
SplitToningHighlightHue | 0 |
SplitToningHighlightSaturation | 0 |
SplitToningShadowHue | 0 |
SplitToningShadowSaturation | 0 |
Tint | +19 |
ToneCurveName2012 | Linear |
ToneCurvePV2012 | 0, 0, 255, 255 |
ToneCurvePV2012Blue | 0, 0, 255, 255 |
ToneCurvePV2012Green | 0, 0, 255, 255 |
ToneCurvePV2012Red | 0, 0, 255, 255 |
Version | 7.1 |
Vibrance | +40 |
VignetteAmount | 0 |
WhiteBalance (1) | As Shot |
WhiteBalance | Auto |
Whites2012 | -62 |