Felt | Verdi |
AlreadyApplied | True |
Aperture | 2.8 |
ApertureValue | 2.8 |
ApproximateFocusDistance | 47.3 |
Artist | Cato Elvik |
AutoLateralCA | 1 |
BitsPerSample | 8 |
Blacks2012 | +25 |
BlueHue | 0 |
BlueSaturation | 0 |
Brightness | +50 |
By-line | Cato Elvik |
CameraProfile | Camera Standard |
CFAPattern | [Red,Green][Green,Blue] |
CircleOfConfusion | 0.030 mm |
Clarity | 0 |
Clarity2012 | +7 |
ColorComponents | 3 |
ColorNoiseReduction | 25 |
ColorNoiseReductionDetail | 50 |
ColorTemperature | 4673 |
Contrast (1) | +25 |
Contrast | Normal |
Contrast2012 | +29 |
ConvertToGrayscale | False |
Copyright | Cato Elvik |
CopyrightFlag | True |
CopyrightNotice | Cato Elvik |
CreateDate (1) | 2012:05:24 09:28:49.31 |
CreateDate | 2012:05:24 09:28:49 |
Creator | Cato Elvik |
CreatorAddress | Myrlandskroken 1 |
CreatorCity | Sandnes |
CreatorPostalCode | 4308 |
CreatorTool | Adobe Photoshop Lightroom 4.0 (Windows) |
CropAngle | 0.189618 |
CropBottom | 0.817787 |
CropConstrainToWarp | 0 |
CropHeight | 581 |
CropLeft | 0.389039 |
CropRight | 0.914822 |
CropTop | 0.365733 |
CropUnit | pixels |
CropWidth | 1024 |
CustomRendered | Normal |
DateCreated (1) | 2012:05:24 |
DateCreated | 2012:05:24 09:28:49.31 |
DateTimeOriginal | 2012:05:24 09:28:49 |
Defringe | 0 |
DigitalZoomRatio | 1 |
DOF | 4.16 m (45.31 - 49.47 m) |
Exposure | 0.00 |
Exposure2012 | +0.05 |
ExposureCompensation | -2/3 |
ExposureMode | Auto |
ExposureProgram | Aperture-priority AE |
ExposureTime | 1/4000 |
FillLight | 0 |
Flash | No Flash |
FNumber | 2.8 |
FocalLength | 300.0 mm |
FocalLength35efl | 300.0 mm (35 mm equivalent: 300.0 mm) |
FocalLengthIn35mmFormat | 300 mm |
Format | image/jpeg |
FOV | 6.9 deg |
GainControl | None |
GrainAmount | 0 |
GreenHue | 0 |
GreenSaturation | 0 |
HasCrop | True |
HasSettings | True |
HighlightRecovery | 0 |
Highlights2012 | +19 |
HueAdjustmentAqua | 0 |
HueAdjustmentBlue | 0 |
HueAdjustmentGreen | 0 |
HueAdjustmentMagenta | 0 |
HueAdjustmentOrange | 0 |
HueAdjustmentPurple | 0 |
HueAdjustmentRed | 0 |
HueAdjustmentYellow | 0 |
HyperfocalDistance | 1069.78 m |
ImageHeight | 581 |
ImageNumber | 14718 |
ImageSize | 1024x581 |
ImageWidth | 1024 |
ISO | 200 |
Keywords | Arboretet, Aspervik, Blomster, Fugler, Holmavika, Innsekter |
Lens | 120.0-300.0 mm f/2.8 |
LensID (1) | 154 |
LensID | Unknown (154) 120-300mm |
LensInfo | 120-300mm f/2.8 |
LensManualDistortionAmount | 0 |
LensModel | 120.0-300.0 mm f/2.8 |
LensProfileChromaticAberrationScale | 100 |
LensProfileDistortionScale | 100 |
LensProfileEnable | 1 |
LensProfileFilename | NIKON CORPORATION (SIGMA APO 120-300mm F2.8 EX DG OS HSM) - RAW.lcp |
LensProfileName | Adobe (SIGMA APO 120-300mm F2.8 EX DG OS HSM, NIKON CORPORATION) |
LensProfileSetup | LensDefaults |
LensProfileVignettingScale | 100 |
LightSource | Unknown |
LightValue | 13.9 |
LuminanceAdjustmentAqua | 0 |
LuminanceAdjustmentBlue | 0 |
LuminanceAdjustmentGreen | 0 |
LuminanceAdjustmentMagenta | 0 |
LuminanceAdjustmentOrange | 0 |
LuminanceAdjustmentPurple | 0 |
LuminanceAdjustmentRed | 0 |
LuminanceAdjustmentYellow | 0 |
LuminanceNoiseReductionContrast | 0 |
LuminanceNoiseReductionDetail | 50 |
LuminanceSmoothing | 18 |
Make | NIKON CORPORATION |
Marked | True |
MaxApertureValue | 2.8 |
Megapixels | 0.595 |
MeteringMode | Multi-segment |
Model | NIKON D3S |
ModifyDate (1) | 2012:10:16 17:40:11+02:00 |
ModifyDate | 2012:10:16 17:40:11 |
ParametricDarks | 0 |
ParametricHighlights | 0 |
ParametricHighlightSplit | 75 |
ParametricLights | 0 |
ParametricMidtoneSplit | 50 |
ParametricShadows | 0 |
ParametricShadowSplit | 25 |
PerspectiveHorizontal | 0 |
PerspectiveRotate | 0.0 |
PerspectiveScale | 100 |
PerspectiveVertical | 0 |
PostCropVignetteAmount | 0 |
ProcessVersion | 6.7 |
ProfileDescription | sRGB IEC61966-2.1 |
Rating | 1 |
RedHue | 0 |
RedSaturation | 0 |
Rights | Cato Elvik |
Saturation (1) | +3 |
Saturation | Normal |
SaturationAdjustmentAqua | 0 |
SaturationAdjustmentBlue | 0 |
SaturationAdjustmentGreen | 0 |
SaturationAdjustmentMagenta | 0 |
SaturationAdjustmentOrange | 0 |
SaturationAdjustmentPurple | 0 |
SaturationAdjustmentRed | 0 |
SaturationAdjustmentYellow | -5 |
ScaleFactor35efl | 1.0 |
SceneCaptureType | Standard |
SceneType | Directly photographed |
SensingMethod | One-chip color area |
SerialNumber | 2058342 |
Shadows | 5 |
Shadows2012 | +82 |
ShadowTint | 0 |
SharpenDetail | 35 |
SharpenEdgeMasking | 0 |
SharpenRadius | +0.8 |
Sharpness (1) | 48 |
Sharpness | Normal |
ShutterSpeed | 1/4000 |
ShutterSpeedValue | 1/4000 |
Software | Adobe Photoshop Lightroom 4.0 (Windows) |
SplitToningBalance | 0 |
SplitToningHighlightHue | 0 |
SplitToningHighlightSaturation | 0 |
SplitToningShadowHue | 0 |
SplitToningShadowSaturation | 0 |
Subject | Arboretet, Aspervik, Blomster, Fugler, Holmavika, Innsekter |
SubjectDistanceRange | Unknown |
Tint | +6 |
ToneCurve | 0, 0, 255, 255 |
ToneCurveBlue | 0, 0, 255, 255 |
ToneCurveGreen | 0, 0, 255, 255 |
ToneCurveName | Linear |
ToneCurveName2012 | Medium Contrast |
ToneCurvePV2012 | 0, 0, 32, 22, 64, 56, 128, 128, 192, 196, 255, 255 |
ToneCurvePV2012Blue | 0, 0, 255, 255 |
ToneCurvePV2012Green | 0, 0, 255, 255 |
ToneCurvePV2012Red | 0, 0, 255, 255 |
ToneCurveRed | 0, 0, 255, 255 |
Version | 7.0 |
Vibrance | +9 |
VignetteAmount | 0 |
WhiteBalance (1) | Custom |
WhiteBalance | Auto |
Whites2012 | -9 |