Felt | Verdi |
AlreadyApplied | True |
Aperture | 13.0 |
ApertureValue | 13.0 |
Artist | Per Arne Godal |
AutoLateralCA | 0 |
BitsPerSample | 8 |
Blacks2012 | +27 |
BlueHue | 0 |
BlueSaturation | 0 |
By-line | Per Arne Godal |
CameraModel | Nikon D300 |
CameraProfile | Embedded |
Caption-Abstract | skyer over fjellvannet - luksefjell 2009 |
CFAPattern | [Red,Green][Green,Blue] |
CircleOfConfusion | 0.020 mm |
Clarity2012 | 0 |
ColorComponents | 3 |
ColorMode | RGB |
ColorNoiseReduction | 0 |
ColorSpace | sRGB |
Contrast | Normal |
Contrast2012 | +23 |
ConvertToGrayscale | True |
Copyright | perAgodal |
CopyrightNotice | perAgodal |
CreateDate (1) | 2009:10:13 17:46:30+02:00 |
CreateDate | 2009:10:13 17:46:30 |
Creator | Per Arne Godal |
CreatorAddress | Ortuflaten 85 |
CreatorCity | Bergen |
CreatorCountry | Norway |
CreatorPostalCode | 5143 Fyllingsdalen |
CreatorTool | Adobe Photoshop Lightroom 4.2 (Windows) |
CreatorWorkEmail | per-godal@c2i.net |
CustomRendered | Normal |
DateCreated | 2009:07:20 |
DateTimeDigitized | 2009:10:13 17:46:30+02:00 |
DateTimeOriginal (1) | 2009:07:20 16:01:04+02:00 |
DateTimeOriginal | 2009:07:20 16:01:04 |
Description | skyer over fjellvannet - luksefjell 2009 |
DigitalZoomRatio | 1 |
ExifImageHeight | 1113 |
ExifImageWidth | 2400 |
Exposure2012 | -0.39 |
ExposureCompensation | 0 |
ExposureMode | Manual |
ExposureProgram | Manual |
ExposureTime | 1/200 |
Flash | No Flash |
FlashFired | False |
FlashFunction | False |
FlashMode | Unknown |
FlashRedEyeMode | False |
FlashReturn | No return detection |
FNumber | 13.0 |
FocalLength | 12.0 mm |
FocalLength35efl | 12.0 mm (35 mm equivalent: 18.0 mm) |
FocalLengthIn35mmFormat | 18 mm |
Format | image/jpeg |
FOV | 90.0 deg |
GainControl | None |
GradientBasedCorrActive | true |
GradientBasedCorrAmount | 1.000000 |
GradientBasedCorrBrightness | 0.000000 |
GradientBasedCorrClarity2012 | 0.000000 |
GradientBasedCorrContrast2012 | 0.000000 |
GradientBasedCorrDefringe | 0.000000 |
GradientBasedCorrExposure2012 | -0.021250 |
GradientBasedCorrHighlights2012 | 0.000000 |
GradientBasedCorrHue | 44.000000 |
GradientBasedCorrLuminanceNoise | 0.000000 |
GradientBasedCorrMaskFullX | 0.489258 |
GradientBasedCorrMaskFullY | -0.241870 |
GradientBasedCorrMaskValue | 1.000000 |
GradientBasedCorrMaskWhat | Mask/Gradient |
GradientBasedCorrMaskZeroX | 0.489258 |
GradientBasedCorrMaskZeroY | 0.148374 |
GradientBasedCorrMoire | 0.000000 |
GradientBasedCorrSaturation (1) | 0.297870 |
GradientBasedCorrSaturation | 0.540000 |
GradientBasedCorrShadows2012 | -0.255320 |
GradientBasedCorrSharpness | 0.000000 |
GradientBasedCorrTemperature | -0.468090 |
GradientBasedCorrTint | -0.255320 |
GradientBasedCorrWhat | Correction |
GrainAmount | 0 |
GrayMixerAqua | -18 |
GrayMixerBlue | -65 |
GrayMixerGreen | +30 |
GrayMixerMagenta | +5 |
GrayMixerOrange | +53 |
GrayMixerPurple | -11 |
GrayMixerRed | -9 |
GrayMixerYellow | -7 |
GreenHue | 0 |
GreenSaturation | 0 |
HasCrop | False |
HasSettings | True |
Highlights2012 | +8 |
HyperfocalDistance | 0.55 m |
ICCProfileName | sRGB IEC61966-2.1 |
ImageDescription | skyer over fjellvannet - luksefjell 2009 |
ImageHeight | 1113 |
ImageNumber | 751 |
ImageSize | 2400x1113 |
ImageWidth | 2400 |
IncrementalTemperature | 0 |
IncrementalTint | 0 |
ISO | 200 |
Lens | 12.0-24.0 mm f/4.0 |
LensInfo | 12-24mm f/4 |
LensManualDistortionAmount | 0 |
LensModel | 12.0-24.0 mm f/4.0 |
LensProfileEnable | 0 |
LensProfileSetup | LensDefaults |
LightSource | Unknown |
LightValue | 14.0 |
LuminanceSmoothing | 0 |
Make | NIKON CORPORATION |
MaxApertureValue | 4.0 |
Megapixels | 2.7 |
MeteringMode | Spot |
Model | NIKON D300 |
ModifyDate (1) | 2013:04:14 17:03:38+02:00 |
ModifyDate | 2013:04:14 17:03:38 |
Orientation | Horizontal (normal) |
PaintCorrectionActive | true |
PaintCorrectionAmount | 1.000000 |
PaintCorrectionBrightness | 0.000000 |
PaintCorrectionClarity2012 | 0.000000 |
PaintCorrectionContrast2012 (2) | 0.425530 |
PaintCorrectionContrast2012 | 0.000000 |
PaintCorrectionDefringe | 0.000000 |
PaintCorrectionExposure2012 (1) | 0.191500 |
PaintCorrectionExposure2012 (2) | 0.075553 |
PaintCorrectionExposure2012 (3) | 0.257698 |
PaintCorrectionExposure2012 (4) | 0.617000 |
PaintCorrectionExposure2012 | -0.191500 |
PaintCorrectionHighlights2012 | 0.000000 |
PaintCorrectionHue (1) | 44.000000 |
PaintCorrectionHue (2) | 8.000000 |
PaintCorrectionHue | 5.000000 |
PaintCorrectionLuminanceNoise | 0.000000 |
PaintCorrectionMaskCenterWeight | 0.113993 |
PaintCorrectionMaskFlow | 0.423000 |
PaintCorrectionMaskRadius (11) | 0.085344 |
PaintCorrectionMaskRadius (2) | 0.008616 |
PaintCorrectionMaskRadius (23) | 0.064608 |
PaintCorrectionMaskRadius (36) | 0.035860 |
PaintCorrectionMaskRadius (4) | 0.002693 |
PaintCorrectionMaskRadius (6) | 0.006182 |
PaintCorrectionMaskRadius | 0.059620 |
PaintCorrectionMaskValue | 1.000000 |
PaintCorrectionMaskWhat | Mask/Paint |
PaintCorrectionMoire | 0.000000 |
PaintCorrectionSaturation (1) | 0.297870 |
PaintCorrectionSaturation (2) | 0.540000 |
PaintCorrectionSaturation (3) | 0.353021 |
PaintCorrectionSaturation (4) | 0.023703 |
PaintCorrectionSaturation (5) | 0.400837 |
PaintCorrectionSaturation (6) | 0.726667 |
PaintCorrectionSaturation | 0.050000 |
PaintCorrectionShadows2012 (2) | -0.302592 |
PaintCorrectionShadows2012 (3) | -0.343579 |
PaintCorrectionShadows2012 | -0.255320 |
PaintCorrectionSharpness | 0.000000 |
PaintCorrectionTemperature (2) | -0.554757 |
PaintCorrectionTemperature (3) | -0.629899 |
PaintCorrectionTemperature | -0.468090 |
PaintCorrectionTint (2) | 0.554757 |
PaintCorrectionTint (3) | 0.629899 |
PaintCorrectionTint | 0.468090 |
PaintCorrectionWhat | Correction |
ParametricDarks | 0 |
ParametricHighlights | 0 |
ParametricHighlightSplit | 75 |
ParametricLights | 0 |
ParametricMidtoneSplit | 50 |
ParametricShadows | 0 |
ParametricShadowSplit | 25 |
PerspectiveHorizontal | 0 |
PerspectiveRotate | 0.0 |
PerspectiveScale | 100 |
PerspectiveVertical | 0 |
PostCropVignetteAmount | 0 |
ProcessVersion | 6.7 |
ProfileDescription | sRGB IEC61966-2.1 |
RedHue | 0 |
RedSaturation | 0 |
Rights | perAgodal |
Saturation | Normal |
ScaleFactor35efl | 1.5 |
SceneCaptureType | Standard |
SceneType | Directly photographed |
SensingMethod | One-chip color area |
SerialNumber | 4085505 |
Shadows2012 | 0 |
ShadowTint | 0 |
SharpenDetail | 25 |
SharpenEdgeMasking | 0 |
SharpenRadius | +1.0 |
Sharpness (2) | 0 |
Sharpness | Normal |
ShutterSpeed | 1/200 |
ShutterSpeedValue | 1/200 |
Software | Adobe Photoshop Elements 9.0 Windows |
SplitToningBalance | 0 |
SplitToningHighlightHue | 0 |
SplitToningHighlightSaturation | 0 |
SplitToningShadowHue | 0 |
SplitToningShadowSaturation | 0 |
SubjectDistanceRange | Unknown |
ToneCurveName2012 | Linear |
ToneCurvePV2012 | 0, 0, 255, 255 |
ToneCurvePV2012Blue | 0, 0, 255, 255 |
ToneCurvePV2012Green | 0, 0, 255, 255 |
ToneCurvePV2012Red | 0, 0, 255, 255 |
URL | Per Arne Godal |
URL_List | |
Version | 7.2 |
VignetteAmount | 0 |
WebStatement | Per Arne Godal |
WhiteBalance (2) | As Shot |
WhiteBalance | Manual |
Whites2012 | 0 |