Felt | Verdi |
AlreadyApplied | True |
Aperture | 5.0 |
ApertureValue | 5.0 |
AutoLateralCA | 0 |
AutoWhiteVersion | 134348800 |
BitsPerSample | 8 |
Blacks2012 | -23 |
BlueHue | 0 |
BlueSaturation | 0 |
CameraProfile | Adobe Standard |
CircleOfConfusion | 0.015 mm |
Clarity2012 | +45 |
ColorComponents | 1 |
ColorNoiseReduction | 25 |
ColorNoiseReductionDetail | 50 |
ColorNoiseReductionSmoothness | 50 |
ColorTemperature | 6274 |
Contrast | Normal |
Contrast2012 | +13 |
ConvertToGrayscale | True |
Copyright | Nanco Hoogstad |
CopyrightNotice | Nanco Hoogstad |
CreateDate | 2014:03:23 17:19:45 |
CreatorTool | Adobe Photoshop Lightroom 5.0 (Windows) |
CropAngle | -1.429 |
CropBottom | 0.974104 |
CropConstrainToWarp | 0 |
CropLeft | 0.221402 |
CropRight | 1 |
CropTop | 0.050127 |
CustomRendered | Normal |
DateCreated (1) | 2014:03:23 |
DateCreated | 2014:03:23 17:19:45 |
DateTimeOriginal | 2014:03:23 17:19:45 |
DigitalZoomRatio | 0 |
Exposure2012 | -0.32 |
ExposureCompensation | 0 |
ExposureMode | Auto |
ExposureProgram | Landscape |
ExposureTime | 1/250 |
Flash | Off, Did not fire |
FNumber | 5.0 |
FocalLength | 14.0 mm |
FocalLength35efl | 14.0 mm (35 mm equivalent: 28.0 mm) |
FocalLengthIn35mmFormat | 28 mm |
Format | image/jpeg |
FOV | 65.5 deg |
GainControl | Low gain up |
GrainAmount | 0 |
GrayMixerAqua | -2 |
GrayMixerBlue | -94 |
GrayMixerGreen | -38 |
GrayMixerMagenta | -15 |
GrayMixerOrange | -83 |
GrayMixerPurple | -9 |
GrayMixerRed | -85 |
GrayMixerYellow | -20 |
GreenHue | 0 |
GreenSaturation | 0 |
HasCrop | True |
HasSettings | True |
Highlights2012 | -48 |
HyperfocalDistance | 2.61 m |
ImageHeight | 3274 |
ImageSize | 3495x3274 |
ImageWidth | 3495 |
ISO | 160 |
Lens | LUMIX G VARIO 14-42/F3.5-5.6 |
LensManualDistortionAmount | 0 |
LensModel | LUMIX G VARIO 14-42/F3.5-5.6 |
LensProfileEnable | 0 |
LensProfileSetup | LensDefaults |
LensSerialNumber | 41FG41403841 |
LightSource | Unknown |
LightValue | 11.9 |
LuminanceNoiseReductionContrast | 48 |
LuminanceNoiseReductionDetail | 52 |
LuminanceSmoothing | 35 |
Make | Panasonic |
MaxApertureValue | 3.5 |
Megapixels | 11.4 |
MeteringMode | Multi-segment |
Model | DMC-G3 |
ModifyDate (1) | 2014:03:24 19:57:42+01:00 |
ModifyDate | 2014:03:24 19:57:42 |
ParametricDarks | 0 |
ParametricHighlights | 0 |
ParametricHighlightSplit | 75 |
ParametricLights | 0 |
ParametricMidtoneSplit | 50 |
ParametricShadows | 0 |
ParametricShadowSplit | 25 |
PerspectiveAspect | 0 |
PerspectiveHorizontal | 0 |
PerspectiveRotate | 0.0 |
PerspectiveScale | 100 |
PerspectiveUpright | 0 |
PerspectiveVertical | 0 |
PostCropVignetteAmount | -2 |
PostCropVignetteFeather | 100 |
PostCropVignetteHighlightContrast | 45 |
PostCropVignetteMidpoint | 100 |
PostCropVignetteRoundness | 0 |
PostCropVignetteStyle | 1 |
ProcessVersion | 6.7 |
ProfileDescription | sRGB IEC61966-2.1 |
RedHue | 0 |
RedSaturation | 0 |
Rights | Nanco Hoogstad |
Saturation | Normal |
ScaleFactor35efl | 2.0 |
SceneCaptureType | Standard |
SceneType | Directly photographed |
SensingMethod | One-chip color area |
Shadows2012 | +58 |
ShadowTint | 0 |
SharpenDetail | 31 |
SharpenEdgeMasking | 27 |
SharpenRadius | +1.3 |
Sharpness (1) | 18 |
Sharpness | Normal |
ShutterSpeed | 1/250 |
ShutterSpeedValue | 1/250 |
Software | Adobe Photoshop Lightroom 5.0 (Windows) |
SplitToningBalance | 0 |
SplitToningHighlightHue | 0 |
SplitToningHighlightSaturation | 0 |
SplitToningShadowHue | 0 |
SplitToningShadowSaturation | 0 |
Tint | 0 |
ToneCurveName2012 | Linear |
ToneCurvePV2012 | 0, 0, 255, 255 |
ToneCurvePV2012Blue | 0, 0, 255, 255 |
ToneCurvePV2012Green | 0, 0, 255, 255 |
ToneCurvePV2012Red | 0, 0, 255, 255 |
Version | 8.2 |
VignetteAmount | 0 |
WhiteBalance (1) | Custom |
WhiteBalance | Auto |
Whites2012 | +19 |